{"text_format":"1","workbook":"xlsx","n_sheets":7,"sheets":["ввод","расчет","мощность","цены","округл","Нерег.цена","Часы пик"],"not_rendered":{"charts":0,"images":0,"macros":1,"external_links":1,"defined_names":2,"comments":0,"pivot_tables":0},"unopened":[],"bounds":{"document_bytes":16777216,"sheet_cells":100000,"rows_first":2000,"rows_last":500,"rows_between":2000,"halvings":0,"cell_chars":16384,"cell_head_chars":4096},"cells_cut":0,"cells_raw":0,"read":"whole","date_system":"1900"}

{"sheet":"ввод","index":0,"n_rows":36,"n_cols":26,"rows_kept":36,"cut":false,"hidden":false,"merged":[[2,0,3,0],[2,1,2,24],[2,25,3,25]]}
["PTVERENE","1. Вставить почасовой профиль электроэнергии в закрашенные ячейки "]
[{"$f":"мощность!B1","v":"январь"},"2. Перейти в лист \"Расчёт\""]
["Дата\\Часы","Фактический почасовой объем  электрической энергии, кВтч",null,null,null,null,null,null,null,null,null,null,null,null,null,null,null,null,null,null,null,null,null,null,null,"Итого"]
[null,1,2,3,4,5,6,7,8,9,10,11,12,13,14,15,16,17,18,19,20,21,22,23,24]
[{"$f":"мощность!AA4","v":"01.01.2026"},null,null,null,null,null,null,null,null,null,null,null,null,null,null,null,null,null,null,null,null,null,null,null,null,{"$f":"SUM(B5:Y5)","v":0}]
[{"$f":"мощность!AA5","v":"02.01.2026"},null,null,null,null,null,null,null,null,null,null,null,null,null,null,null,null,null,null,null,null,null,null,null,null,{"$f":"SUM(B6:Y6)","v":0}]
[{"$f":"мощность!AA6","v":"03.01.2026"},null,null,null,null,null,null,null,null,null,null,null,null,null,null,null,null,null,null,null,null,null,null,null,null,0]
[{"$f":"мощность!AA7","v":"04.01.2026"},null,null,null,null,null,null,null,null,null,null,null,null,null,null,null,null,null,null,null,null,null,null,null,null,0]
[{"$f":"мощность!AA8","v":"05.01.2026"},null,null,null,null,null,null,null,null,null,null,null,null,null,null,null,null,null,null,null,null,null,null,null,null,0]
[{"$f":"мощность!AA9","v":"06.01.2026"},null,null,null,null,null,null,null,null,null,null,null,null,null,null,null,null,null,null,null,null,null,null,null,null,0]
[{"$f":"мощность!AA10","v":"07.01.2026"},null,null,null,null,null,null,null,null,null,null,null,null,null,null,null,null,null,null,null,null,null,null,null,null,0]
[{"$f":"мощность!AA11","v":"08.01.2026"},null,null,null,null,null,null,null,null,null,null,null,null,null,null,null,null,null,null,null,null,null,null,null,null,0]
[{"$f":"мощность!AA12","v":"09.01.2026"},null,null,null,null,null,null,null,null,null,null,null,null,null,null,null,null,null,null,null,null,null,null,null,null,0]
[{"$f":"мощность!AA13","v":"10.01.2026"},null,null,null,null,null,null,null,null,null,null,null,null,null,null,null,null,null,null,null,null,null,null,null,null,0]
[{"$f":"мощность!AA14","v":"11.01.2026"},null,null,null,null,null,null,null,null,null,null,null,null,null,null,null,null,null,null,null,null,null,null,null,null,0]
[{"$f":"мощность!AA15","v":"12.01.2026"},null,null,null,null,null,null,null,null,null,null,null,null,null,null,null,null,null,null,null,null,null,null,null,null,0]
[{"$f":"мощность!AA16","v":"13.01.2026"},null,null,null,null,null,null,null,null,null,null,null,null,null,null,null,null,null,null,null,null,null,null,null,null,0]
[{"$f":"мощность!AA17","v":"14.01.2026"},null,null,null,null,null,null,null,null,null,null,null,null,null,null,null,null,null,null,null,null,null,null,null,null,0]
[{"$f":"мощность!AA18","v":"15.01.2026"},null,null,null,null,null,null,null,null,null,null,null,null,null,null,null,null,null,null,null,null,null,null,null,null,0]
[{"$f":"мощность!AA19","v":"16.01.2026"},null,null,null,null,null,null,null,null,null,null,null,null,null,null,null,null,null,null,null,null,null,null,null,null,0]
[{"$f":"мощность!AA20","v":"17.01.2026"},null,null,null,null,null,null,null,null,null,null,null,null,null,null,null,null,null,null,null,null,null,null,null,null,0]
[{"$f":"мощность!AA21","v":"18.01.2026"},null,null,null,null,null,null,null,null,null,null,null,null,null,null,null,null,null,null,null,null,null,null,null,null,0]
[{"$f":"мощность!AA22","v":"19.01.2026"},null,null,null,null,null,null,null,null,null,null,null,null,null,null,null,null,null,null,null,null,null,null,null,null,0]
[{"$f":"мощность!AA23","v":"20.01.2026"},null,null,null,null,null,null,null,null,null,null,null,null,null,null,null,null,null,null,null,null,null,null,null,null,0]
[{"$f":"мощность!AA24","v":"21.01.2026"},null,null,null,null,null,null,null,null,null,null,null,null,null,null,null,null,null,null,null,null,null,null,null,null,0]
[{"$f":"мощность!AA25","v":"22.01.2026"},null,null,null,null,null,null,null,null,null,null,null,null,null,null,null,null,null,null,null,null,null,null,null,null,0]
[{"$f":"мощность!AA26","v":"23.01.2026"},null,null,null,null,null,null,null,null,null,null,null,null,null,null,null,null,null,null,null,null,null,null,null,null,0]
[{"$f":"мощность!AA27","v":"24.01.2026"},null,null,null,null,null,null,null,null,null,null,null,null,null,null,null,null,null,null,null,null,null,null,null,null,0]
[{"$f":"мощность!AA28","v":"25.01.2026"},null,null,null,null,null,null,null,null,null,null,null,null,null,null,null,null,null,null,null,null,null,null,null,null,0]
[{"$f":"мощность!AA29","v":"26.01.2026"},null,null,null,null,null,null,null,null,null,null,null,null,null,null,null,null,null,null,null,null,null,null,null,null,0]
[{"$f":"мощность!AA30","v":"27.01.2026"},null,null,null,null,null,null,null,null,null,null,null,null,null,null,null,null,null,null,null,null,null,null,null,null,0]
[{"$f":"мощность!AA31","v":"28.01.2026"},null,null,null,null,null,null,null,null,null,null,null,null,null,null,null,null,null,null,null,null,null,null,null,null,0]
[{"$f":"мощность!AA32","v":"29.01.2026"},null,null,null,null,null,null,null,null,null,null,null,null,null,null,null,null,null,null,null,null,null,null,null,null,0]
[{"$f":"мощность!AA33","v":"30.01.2026"},null,null,null,null,null,null,null,null,null,null,null,null,null,null,null,null,null,null,null,null,null,null,null,null,0]
[{"$f":"мощность!AA34","v":"31.01.2026"},null,null,null,null,null,null,null,null,null,null,null,null,null,null,null,null,null,null,null,null,null,null,null,null,0]
["ИТОГО",{"$f":"SUM(B5:B35)","v":0},{"$f":"SUM(C5:C35)","v":0},0,0,0,0,0,0,0,0,0,0,0,0,0,0,0,0,0,0,0,{"$f":"SUM(W5:W35)","v":0},0,0,{"$f":"SUM(Z5:Z35)","v":0}]

{"sheet":"расчет","index":1,"n_rows":42,"n_cols":26,"rows_kept":42,"cut":false,"hidden":false,"merged":[[2,0,2,25],[37,0,37,5]]}
["Расчёт объемов и стоимости электроэнергии (мощности) выполнен за",null,null,null,null,null,{"$f":"ввод!A2","v":"январь"}]
[]
["1. Сформирован округленный фактический почасовой объем  электрической энергии, кВтч"]
["Дата\\Часы",1,2,3,4,5,6,7,8,9,10,11,12,13,14,15,16,17,18,19,20,21,22,23,24,"Итого"]
[{"$f":"мощность!AA4","v":"01.01.2026"},{"$f":"мощность!B4","v":0},{"$f":"мощность!C4","v":0},{"$f":"мощность!D4","v":0},{"$f":"мощность!E4","v":0},{"$f":"мощность!F4","v":0},{"$f":"мощность!G4","v":0},{"$f":"мощность!H4","v":0},{"$f":"мощность!I4","v":0},{"$f":"мощность!J4","v":0},{"$f":"мощность!K4","v":0},{"$f":"мощность!L4","v":0},{"$f":"мощность!M4","v":0},{"$f":"мощность!N4","v":0},{"$f":"мощность!O4","v":0},{"$f":"мощность!P4","v":0},{"$f":"мощность!Q4","v":0},{"$f":"мощность!R4","v":0},{"$f":"мощность!S4","v":0},{"$f":"мощность!T4","v":0},{"$f":"мощность!U4","v":0},{"$f":"мощность!V4","v":0},{"$f":"мощность!W4","v":0},{"$f":"мощность!X4","v":0},{"$f":"мощность!Y4","v":0},{"$f":"SUM(B5:Y5)","v":0}]
[{"$f":"мощность!AA5","v":"02.01.2026"},{"$f":"мощность!B5","v":0},{"$f":"мощность!C5","v":0},{"$f":"мощность!D5","v":0},{"$f":"мощность!E5","v":0},{"$f":"мощность!F5","v":0},{"$f":"мощность!G5","v":0},{"$f":"мощность!H5","v":0},{"$f":"мощность!I5","v":0},{"$f":"мощность!J5","v":0},{"$f":"мощность!K5","v":0},{"$f":"мощность!L5","v":0},{"$f":"мощность!M5","v":0},{"$f":"мощность!N5","v":0},{"$f":"мощность!O5","v":0},{"$f":"мощность!P5","v":0},{"$f":"мощность!Q5","v":0},{"$f":"мощность!R5","v":0},{"$f":"мощность!S5","v":0},{"$f":"мощность!T5","v":0},{"$f":"мощность!U5","v":0},{"$f":"мощность!V5","v":0},{"$f":"мощность!W5","v":0},{"$f":"мощность!X5","v":0},{"$f":"мощность!Y5","v":0},{"$f":"SUM(B6:Y6)","v":0}]
[{"$f":"мощность!AA6","v":"03.01.2026"},{"$f":"мощность!B6","v":0},{"$f":"мощность!C6","v":0},{"$f":"мощность!D6","v":0},{"$f":"мощность!E6","v":0},{"$f":"мощность!F6","v":0},{"$f":"мощность!G6","v":0},{"$f":"мощность!H6","v":0},{"$f":"мощность!I6","v":0},{"$f":"мощность!J6","v":0},{"$f":"мощность!K6","v":0},{"$f":"мощность!L6","v":0},{"$f":"мощность!M6","v":0},{"$f":"мощность!N6","v":0},{"$f":"мощность!O6","v":0},{"$f":"мощность!P6","v":0},{"$f":"мощность!Q6","v":0},{"$f":"мощность!R6","v":0},{"$f":"мощность!S6","v":0},{"$f":"мощность!T6","v":0},{"$f":"мощность!U6","v":0},{"$f":"мощность!V6","v":0},{"$f":"мощность!W6","v":0},{"$f":"мощность!X6","v":0},{"$f":"мощность!Y6","v":0},0]
[{"$f":"мощность!AA7","v":"04.01.2026"},{"$f":"мощность!B7","v":0},{"$f":"мощность!C7","v":0},{"$f":"мощность!D7","v":0},{"$f":"мощность!E7","v":0},{"$f":"мощность!F7","v":0},{"$f":"мощность!G7","v":0},{"$f":"мощность!H7","v":0},{"$f":"мощность!I7","v":0},{"$f":"мощность!J7","v":0},{"$f":"мощность!K7","v":0},{"$f":"мощность!L7","v":0},{"$f":"мощность!M7","v":0},{"$f":"мощность!N7","v":0},{"$f":"мощность!O7","v":0},{"$f":"мощность!P7","v":0},{"$f":"мощность!Q7","v":0},{"$f":"мощность!R7","v":0},{"$f":"мощность!S7","v":0},{"$f":"мощность!T7","v":0},{"$f":"мощность!U7","v":0},{"$f":"мощность!V7","v":0},{"$f":"мощность!W7","v":0},{"$f":"мощность!X7","v":0},{"$f":"мощность!Y7","v":0},0]
[{"$f":"мощность!AA8","v":"05.01.2026"},{"$f":"мощность!B8","v":0},{"$f":"мощность!C8","v":0},{"$f":"мощность!D8","v":0},{"$f":"мощность!E8","v":0},{"$f":"мощность!F8","v":0},{"$f":"мощность!G8","v":0},{"$f":"мощность!H8","v":0},{"$f":"мощность!I8","v":0},{"$f":"мощность!J8","v":0},{"$f":"мощность!K8","v":0},{"$f":"мощность!L8","v":0},{"$f":"мощность!M8","v":0},{"$f":"мощность!N8","v":0},{"$f":"мощность!O8","v":0},{"$f":"мощность!P8","v":0},{"$f":"мощность!Q8","v":0},{"$f":"мощность!R8","v":0},{"$f":"мощность!S8","v":0},{"$f":"мощность!T8","v":0},{"$f":"мощность!U8","v":0},{"$f":"мощность!V8","v":0},{"$f":"мощность!W8","v":0},{"$f":"мощность!X8","v":0},{"$f":"мощность!Y8","v":0},0]
[{"$f":"мощность!AA9","v":"06.01.2026"},{"$f":"мощность!B9","v":0},{"$f":"мощность!C9","v":0},{"$f":"мощность!D9","v":0},{"$f":"мощность!E9","v":0},{"$f":"мощность!F9","v":0},{"$f":"мощность!G9","v":0},{"$f":"мощность!H9","v":0},{"$f":"мощность!I9","v":0},{"$f":"мощность!J9","v":0},{"$f":"мощность!K9","v":0},{"$f":"мощность!L9","v":0},{"$f":"мощность!M9","v":0},{"$f":"мощность!N9","v":0},{"$f":"мощность!O9","v":0},{"$f":"мощность!P9","v":0},{"$f":"мощность!Q9","v":0},{"$f":"мощность!R9","v":0},{"$f":"мощность!S9","v":0},{"$f":"мощность!T9","v":0},{"$f":"мощность!U9","v":0},{"$f":"мощность!V9","v":0},{"$f":"мощность!W9","v":0},{"$f":"мощность!X9","v":0},{"$f":"мощность!Y9","v":0},0]
[{"$f":"мощность!AA10","v":"07.01.2026"},{"$f":"мощность!B10","v":0},{"$f":"мощность!C10","v":0},{"$f":"мощность!D10","v":0},{"$f":"мощность!E10","v":0},{"$f":"мощность!F10","v":0},{"$f":"мощность!G10","v":0},{"$f":"мощность!H10","v":0},{"$f":"мощность!I10","v":0},{"$f":"мощность!J10","v":0},{"$f":"мощность!K10","v":0},{"$f":"мощность!L10","v":0},{"$f":"мощность!M10","v":0},{"$f":"мощность!N10","v":0},{"$f":"мощность!O10","v":0},{"$f":"мощность!P10","v":0},{"$f":"мощность!Q10","v":0},{"$f":"мощность!R10","v":0},{"$f":"мощность!S10","v":0},{"$f":"мощность!T10","v":0},{"$f":"мощность!U10","v":0},{"$f":"мощность!V10","v":0},{"$f":"мощность!W10","v":0},{"$f":"мощность!X10","v":0},{"$f":"мощность!Y10","v":0},0]
[{"$f":"мощность!AA11","v":"08.01.2026"},{"$f":"мощность!B11","v":0},{"$f":"мощность!C11","v":0},{"$f":"мощность!D11","v":0},{"$f":"мощность!E11","v":0},{"$f":"мощность!F11","v":0},{"$f":"мощность!G11","v":0},{"$f":"мощность!H11","v":0},{"$f":"мощность!I11","v":0},{"$f":"мощность!J11","v":0},{"$f":"мощность!K11","v":0},{"$f":"мощность!L11","v":0},{"$f":"мощность!M11","v":0},{"$f":"мощность!N11","v":0},{"$f":"мощность!O11","v":0},{"$f":"мощность!P11","v":0},{"$f":"мощность!Q11","v":0},{"$f":"мощность!R11","v":0},{"$f":"мощность!S11","v":0},{"$f":"мощность!T11","v":0},{"$f":"мощность!U11","v":0},{"$f":"мощность!V11","v":0},{"$f":"мощность!W11","v":0},{"$f":"мощность!X11","v":0},{"$f":"мощность!Y11","v":0},0]
[{"$f":"мощность!AA12","v":"09.01.2026"},{"$f":"мощность!B12","v":0},{"$f":"мощность!C12","v":0},{"$f":"мощность!D12","v":0},{"$f":"мощность!E12","v":0},{"$f":"мощность!F12","v":0},{"$f":"мощность!G12","v":0},{"$f":"мощность!H12","v":0},{"$f":"мощность!I12","v":0},{"$f":"мощность!J12","v":0},{"$f":"мощность!K12","v":0},{"$f":"мощность!L12","v":0},{"$f":"мощность!M12","v":0},{"$f":"мощность!N12","v":0},{"$f":"мощность!O12","v":0},{"$f":"мощность!P12","v":0},{"$f":"мощность!Q12","v":0},{"$f":"мощность!R12","v":0},{"$f":"мощность!S12","v":0},{"$f":"мощность!T12","v":0},{"$f":"мощность!U12","v":0},{"$f":"мощность!V12","v":0},{"$f":"мощность!W12","v":0},{"$f":"мощность!X12","v":0},{"$f":"мощность!Y12","v":0},0]
[{"$f":"мощность!AA13","v":"10.01.2026"},{"$f":"мощность!B13","v":0},{"$f":"мощность!C13","v":0},{"$f":"мощность!D13","v":0},{"$f":"мощность!E13","v":0},{"$f":"мощность!F13","v":0},{"$f":"мощность!G13","v":0},{"$f":"мощность!H13","v":0},{"$f":"мощность!I13","v":0},{"$f":"мощность!J13","v":0},{"$f":"мощность!K13","v":0},{"$f":"мощность!L13","v":0},{"$f":"мощность!M13","v":0},{"$f":"мощность!N13","v":0},{"$f":"мощность!O13","v":0},{"$f":"мощность!P13","v":0},{"$f":"мощность!Q13","v":0},{"$f":"мощность!R13","v":0},{"$f":"мощность!S13","v":0},{"$f":"мощность!T13","v":0},{"$f":"мощность!U13","v":0},{"$f":"мощность!V13","v":0},{"$f":"мощность!W13","v":0},{"$f":"мощность!X13","v":0},{"$f":"мощность!Y13","v":0},0]
[{"$f":"мощность!AA14","v":"11.01.2026"},{"$f":"мощность!B14","v":0},{"$f":"мощность!C14","v":0},{"$f":"мощность!D14","v":0},{"$f":"мощность!E14","v":0},{"$f":"мощность!F14","v":0},{"$f":"мощность!G14","v":0},{"$f":"мощность!H14","v":0},{"$f":"мощность!I14","v":0},{"$f":"мощность!J14","v":0},{"$f":"мощность!K14","v":0},{"$f":"мощность!L14","v":0},{"$f":"мощность!M14","v":0},{"$f":"мощность!N14","v":0},{"$f":"мощность!O14","v":0},{"$f":"мощность!P14","v":0},{"$f":"мощность!Q14","v":0},{"$f":"мощность!R14","v":0},{"$f":"мощность!S14","v":0},{"$f":"мощность!T14","v":0},{"$f":"мощность!U14","v":0},{"$f":"мощность!V14","v":0},{"$f":"мощность!W14","v":0},{"$f":"мощность!X14","v":0},{"$f":"мощность!Y14","v":0},0]
[{"$f":"мощность!AA15","v":"12.01.2026"},{"$f":"мощность!B15","v":0},{"$f":"мощность!C15","v":0},{"$f":"мощность!D15","v":0},{"$f":"мощность!E15","v":0},{"$f":"мощность!F15","v":0},{"$f":"мощность!G15","v":0},{"$f":"мощность!H15","v":0},{"$f":"мощность!I15","v":0},{"$f":"мощность!J15","v":0},{"$f":"мощность!K15","v":0},{"$f":"мощность!L15","v":0},{"$f":"мощность!M15","v":0},{"$f":"мощность!N15","v":0},{"$f":"мощность!O15","v":0},{"$f":"мощность!P15","v":0},{"$f":"мощность!Q15","v":0},{"$f":"мощность!R15","v":0},{"$f":"мощность!S15","v":0},{"$f":"мощность!T15","v":0},{"$f":"мощность!U15","v":0},{"$f":"мощность!V15","v":0},{"$f":"мощность!W15","v":0},{"$f":"мощность!X15","v":0},{"$f":"мощность!Y15","v":0},0]
[{"$f":"мощность!AA16","v":"13.01.2026"},{"$f":"мощность!B16","v":0},{"$f":"мощность!C16","v":0},{"$f":"мощность!D16","v":0},{"$f":"мощность!E16","v":0},{"$f":"мощность!F16","v":0},{"$f":"мощность!G16","v":0},{"$f":"мощность!H16","v":0},{"$f":"мощность!I16","v":0},{"$f":"мощность!J16","v":0},{"$f":"мощность!K16","v":0},{"$f":"мощность!L16","v":0},{"$f":"мощность!M16","v":0},{"$f":"мощность!N16","v":0},{"$f":"мощность!O16","v":0},{"$f":"мощность!P16","v":0},{"$f":"мощность!Q16","v":0},{"$f":"мощность!R16","v":0},{"$f":"мощность!S16","v":0},{"$f":"мощность!T16","v":0},{"$f":"мощность!U16","v":0},{"$f":"мощность!V16","v":0},{"$f":"мощность!W16","v":0},{"$f":"мощность!X16","v":0},{"$f":"мощность!Y16","v":0},0]
[{"$f":"мощность!AA17","v":"14.01.2026"},{"$f":"мощность!B17","v":0},{"$f":"мощность!C17","v":0},{"$f":"мощность!D17","v":0},{"$f":"мощность!E17","v":0},{"$f":"мощность!F17","v":0},{"$f":"мощность!G17","v":0},{"$f":"мощность!H17","v":0},{"$f":"мощность!I17","v":0},{"$f":"мощность!J17","v":0},{"$f":"мощность!K17","v":0},{"$f":"мощность!L17","v":0},{"$f":"мощность!M17","v":0},{"$f":"мощность!N17","v":0},{"$f":"мощность!O17","v":0},{"$f":"мощность!P17","v":0},{"$f":"мощность!Q17","v":0},{"$f":"мощность!R17","v":0},{"$f":"мощность!S17","v":0},{"$f":"мощность!T17","v":0},{"$f":"мощность!U17","v":0},{"$f":"мощность!V17","v":0},{"$f":"мощность!W17","v":0},{"$f":"мощность!X17","v":0},{"$f":"мощность!Y17","v":0},0]
[{"$f":"мощность!AA18","v":"15.01.2026"},{"$f":"мощность!B18","v":0},{"$f":"мощность!C18","v":0},{"$f":"мощность!D18","v":0},{"$f":"мощность!E18","v":0},{"$f":"мощность!F18","v":0},{"$f":"мощность!G18","v":0},{"$f":"мощность!H18","v":0},{"$f":"мощность!I18","v":0},{"$f":"мощность!J18","v":0},{"$f":"мощность!K18","v":0},{"$f":"мощность!L18","v":0},{"$f":"мощность!M18","v":0},{"$f":"мощность!N18","v":0},{"$f":"мощность!O18","v":0},{"$f":"мощность!P18","v":0},{"$f":"мощность!Q18","v":0},{"$f":"мощность!R18","v":0},{"$f":"мощность!S18","v":0},{"$f":"мощность!T18","v":0},{"$f":"мощность!U18","v":0},{"$f":"мощность!V18","v":0},{"$f":"мощность!W18","v":0},{"$f":"мощность!X18","v":0},{"$f":"мощность!Y18","v":0},0]
[{"$f":"мощность!AA19","v":"16.01.2026"},{"$f":"мощность!B19","v":0},{"$f":"мощность!C19","v":0},{"$f":"мощность!D19","v":0},{"$f":"мощность!E19","v":0},{"$f":"мощность!F19","v":0},{"$f":"мощность!G19","v":0},{"$f":"мощность!H19","v":0},{"$f":"мощность!I19","v":0},{"$f":"мощность!J19","v":0},{"$f":"мощность!K19","v":0},{"$f":"мощность!L19","v":0},{"$f":"мощность!M19","v":0},{"$f":"мощность!N19","v":0},{"$f":"мощность!O19","v":0},{"$f":"мощность!P19","v":0},{"$f":"мощность!Q19","v":0},{"$f":"мощность!R19","v":0},{"$f":"мощность!S19","v":0},{"$f":"мощность!T19","v":0},{"$f":"мощность!U19","v":0},{"$f":"мощность!V19","v":0},{"$f":"мощность!W19","v":0},{"$f":"мощность!X19","v":0},{"$f":"мощность!Y19","v":0},0]
[{"$f":"мощность!AA20","v":"17.01.2026"},{"$f":"мощность!B20","v":0},{"$f":"мощность!C20","v":0},{"$f":"мощность!D20","v":0},{"$f":"мощность!E20","v":0},{"$f":"мощность!F20","v":0},{"$f":"мощность!G20","v":0},{"$f":"мощность!H20","v":0},{"$f":"мощность!I20","v":0},{"$f":"мощность!J20","v":0},{"$f":"мощность!K20","v":0},{"$f":"мощность!L20","v":0},{"$f":"мощность!M20","v":0},{"$f":"мощность!N20","v":0},{"$f":"мощность!O20","v":0},{"$f":"мощность!P20","v":0},{"$f":"мощность!Q20","v":0},{"$f":"мощность!R20","v":0},{"$f":"мощность!S20","v":0},{"$f":"мощность!T20","v":0},{"$f":"мощность!U20","v":0},{"$f":"мощность!V20","v":0},{"$f":"мощность!W20","v":0},{"$f":"мощность!X20","v":0},{"$f":"мощность!Y20","v":0},0]
[{"$f":"мощность!AA21","v":"18.01.2026"},{"$f":"мощность!B21","v":0},{"$f":"мощность!C21","v":0},{"$f":"мощность!D21","v":0},{"$f":"мощность!E21","v":0},{"$f":"мощность!F21","v":0},{"$f":"мощность!G21","v":0},{"$f":"мощность!H21","v":0},{"$f":"мощность!I21","v":0},{"$f":"мощность!J21","v":0},{"$f":"мощность!K21","v":0},{"$f":"мощность!L21","v":0},{"$f":"мощность!M21","v":0},{"$f":"мощность!N21","v":0},{"$f":"мощность!O21","v":0},{"$f":"мощность!P21","v":0},{"$f":"мощность!Q21","v":0},{"$f":"мощность!R21","v":0},{"$f":"мощность!S21","v":0},{"$f":"мощность!T21","v":0},{"$f":"мощность!U21","v":0},{"$f":"мощность!V21","v":0},{"$f":"мощность!W21","v":0},{"$f":"мощность!X21","v":0},{"$f":"мощность!Y21","v":0},0]
[{"$f":"мощность!AA22","v":"19.01.2026"},{"$f":"мощность!B22","v":0},{"$f":"мощность!C22","v":0},{"$f":"мощность!D22","v":0},{"$f":"мощность!E22","v":0},{"$f":"мощность!F22","v":0},{"$f":"мощность!G22","v":0},{"$f":"мощность!H22","v":0},{"$f":"мощность!I22","v":0},{"$f":"мощность!J22","v":0},{"$f":"мощность!K22","v":0},{"$f":"мощность!L22","v":0},{"$f":"мощность!M22","v":0},{"$f":"мощность!N22","v":0},{"$f":"мощность!O22","v":0},{"$f":"мощность!P22","v":0},{"$f":"мощность!Q22","v":0},{"$f":"мощность!R22","v":0},{"$f":"мощность!S22","v":0},{"$f":"мощность!T22","v":0},{"$f":"мощность!U22","v":0},{"$f":"мощность!V22","v":0},{"$f":"мощность!W22","v":0},{"$f":"мощность!X22","v":0},{"$f":"мощность!Y22","v":0},0]
[{"$f":"мощность!AA23","v":"20.01.2026"},{"$f":"мощность!B23","v":0},{"$f":"мощность!C23","v":0},{"$f":"мощность!D23","v":0},{"$f":"мощность!E23","v":0},{"$f":"мощность!F23","v":0},{"$f":"мощность!G23","v":0},{"$f":"мощность!H23","v":0},{"$f":"мощность!I23","v":0},{"$f":"мощность!J23","v":0},{"$f":"мощность!K23","v":0},{"$f":"мощность!L23","v":0},{"$f":"мощность!M23","v":0},{"$f":"мощность!N23","v":0},{"$f":"мощность!O23","v":0},{"$f":"мощность!P23","v":0},{"$f":"мощность!Q23","v":0},{"$f":"мощность!R23","v":0},{"$f":"мощность!S23","v":0},{"$f":"мощность!T23","v":0},{"$f":"мощность!U23","v":0},{"$f":"мощность!V23","v":0},{"$f":"мощность!W23","v":0},{"$f":"мощность!X23","v":0},{"$f":"мощность!Y23","v":0},0]
[{"$f":"мощность!AA24","v":"21.01.2026"},{"$f":"мощность!B24","v":0},{"$f":"мощность!C24","v":0},{"$f":"мощность!D24","v":0},{"$f":"мощность!E24","v":0},{"$f":"мощность!F24","v":0},{"$f":"мощность!G24","v":0},{"$f":"мощность!H24","v":0},{"$f":"мощность!I24","v":0},{"$f":"мощность!J24","v":0},{"$f":"мощность!K24","v":0},{"$f":"мощность!L24","v":0},{"$f":"мощность!M24","v":0},{"$f":"мощность!N24","v":0},{"$f":"мощность!O24","v":0},{"$f":"мощность!P24","v":0},{"$f":"мощность!Q24","v":0},{"$f":"мощность!R24","v":0},{"$f":"мощность!S24","v":0},{"$f":"мощность!T24","v":0},{"$f":"мощность!U24","v":0},{"$f":"мощность!V24","v":0},{"$f":"мощность!W24","v":0},{"$f":"мощность!X24","v":0},{"$f":"мощность!Y24","v":0},0]
[{"$f":"мощность!AA25","v":"22.01.2026"},{"$f":"мощность!B25","v":0},{"$f":"мощность!C25","v":0},{"$f":"мощность!D25","v":0},{"$f":"мощность!E25","v":0},{"$f":"мощность!F25","v":0},{"$f":"мощность!G25","v":0},{"$f":"мощность!H25","v":0},{"$f":"мощность!I25","v":0},{"$f":"мощность!J25","v":0},{"$f":"мощность!K25","v":0},{"$f":"мощность!L25","v":0},{"$f":"мощность!M25","v":0},{"$f":"мощность!N25","v":0},{"$f":"мощность!O25","v":0},{"$f":"мощность!P25","v":0},{"$f":"мощность!Q25","v":0},{"$f":"мощность!R25","v":0},{"$f":"мощность!S25","v":0},{"$f":"мощность!T25","v":0},{"$f":"мощность!U25","v":0},{"$f":"мощность!V25","v":0},{"$f":"мощность!W25","v":0},{"$f":"мощность!X25","v":0},{"$f":"мощность!Y25","v":0},0]
[{"$f":"мощность!AA26","v":"23.01.2026"},{"$f":"мощность!B26","v":0},{"$f":"мощность!C26","v":0},{"$f":"мощность!D26","v":0},{"$f":"мощность!E26","v":0},{"$f":"мощность!F26","v":0},{"$f":"мощность!G26","v":0},{"$f":"мощность!H26","v":0},{"$f":"мощность!I26","v":0},{"$f":"мощность!J26","v":0},{"$f":"мощность!K26","v":0},{"$f":"мощность!L26","v":0},{"$f":"мощность!M26","v":0},{"$f":"мощность!N26","v":0},{"$f":"мощность!O26","v":0},{"$f":"мощность!P26","v":0},{"$f":"мощность!Q26","v":0},{"$f":"мощность!R26","v":0},{"$f":"мощность!S26","v":0},{"$f":"мощность!T26","v":0},{"$f":"мощность!U26","v":0},{"$f":"мощность!V26","v":0},{"$f":"мощность!W26","v":0},{"$f":"мощность!X26","v":0},{"$f":"мощность!Y26","v":0},0]
[{"$f":"мощность!AA27","v":"24.01.2026"},{"$f":"мощность!B27","v":0},{"$f":"мощность!C27","v":0},{"$f":"мощность!D27","v":0},{"$f":"мощность!E27","v":0},{"$f":"мощность!F27","v":0},{"$f":"мощность!G27","v":0},{"$f":"мощность!H27","v":0},{"$f":"мощность!I27","v":0},{"$f":"мощность!J27","v":0},{"$f":"мощность!K27","v":0},{"$f":"мощность!L27","v":0},{"$f":"мощность!M27","v":0},{"$f":"мощность!N27","v":0},{"$f":"мощность!O27","v":0},{"$f":"мощность!P27","v":0},{"$f":"мощность!Q27","v":0},{"$f":"мощность!R27","v":0},{"$f":"мощность!S27","v":0},{"$f":"мощность!T27","v":0},{"$f":"мощность!U27","v":0},{"$f":"мощность!V27","v":0},{"$f":"мощность!W27","v":0},{"$f":"мощность!X27","v":0},{"$f":"мощность!Y27","v":0},0]
[{"$f":"мощность!AA28","v":"25.01.2026"},{"$f":"мощность!B28","v":0},{"$f":"мощность!C28","v":0},{"$f":"мощность!D28","v":0},{"$f":"мощность!E28","v":0},{"$f":"мощность!F28","v":0},{"$f":"мощность!G28","v":0},{"$f":"мощность!H28","v":0},{"$f":"мощность!I28","v":0},{"$f":"мощность!J28","v":0},{"$f":"мощность!K28","v":0},{"$f":"мощность!L28","v":0},{"$f":"мощность!M28","v":0},{"$f":"мощность!N28","v":0},{"$f":"мощность!O28","v":0},{"$f":"мощность!P28","v":0},{"$f":"мощность!Q28","v":0},{"$f":"мощность!R28","v":0},{"$f":"мощность!S28","v":0},{"$f":"мощность!T28","v":0},{"$f":"мощность!U28","v":0},{"$f":"мощность!V28","v":0},{"$f":"мощность!W28","v":0},{"$f":"мощность!X28","v":0},{"$f":"мощность!Y28","v":0},0]
[{"$f":"мощность!AA29","v":"26.01.2026"},{"$f":"мощность!B29","v":0},{"$f":"мощность!C29","v":0},{"$f":"мощность!D29","v":0},{"$f":"мощность!E29","v":0},{"$f":"мощность!F29","v":0},{"$f":"мощность!G29","v":0},{"$f":"мощность!H29","v":0},{"$f":"мощность!I29","v":0},{"$f":"мощность!J29","v":0},{"$f":"мощность!K29","v":0},{"$f":"мощность!L29","v":0},{"$f":"мощность!M29","v":0},{"$f":"мощность!N29","v":0},{"$f":"мощность!O29","v":0},{"$f":"мощность!P29","v":0},{"$f":"мощность!Q29","v":0},{"$f":"мощность!R29","v":0},{"$f":"мощность!S29","v":0},{"$f":"мощность!T29","v":0},{"$f":"мощность!U29","v":0},{"$f":"мощность!V29","v":0},{"$f":"мощность!W29","v":0},{"$f":"мощность!X29","v":0},{"$f":"мощность!Y29","v":0},0]
[{"$f":"мощность!AA30","v":"27.01.2026"},{"$f":"мощность!B30","v":0},{"$f":"мощность!C30","v":0},{"$f":"мощность!D30","v":0},{"$f":"мощность!E30","v":0},{"$f":"мощность!F30","v":0},{"$f":"мощность!G30","v":0},{"$f":"мощность!H30","v":0},{"$f":"мощность!I30","v":0},{"$f":"мощность!J30","v":0},{"$f":"мощность!K30","v":0},{"$f":"мощность!L30","v":0},{"$f":"мощность!M30","v":0},{"$f":"мощность!N30","v":0},{"$f":"мощность!O30","v":0},{"$f":"мощность!P30","v":0},{"$f":"мощность!Q30","v":0},{"$f":"мощность!R30","v":0},{"$f":"мощность!S30","v":0},{"$f":"мощность!T30","v":0},{"$f":"мощность!U30","v":0},{"$f":"мощность!V30","v":0},{"$f":"мощность!W30","v":0},{"$f":"мощность!X30","v":0},{"$f":"мощность!Y30","v":0},0]
[{"$f":"мощность!AA31","v":"28.01.2026"},{"$f":"мощность!B31","v":0},{"$f":"мощность!C31","v":0},{"$f":"мощность!D31","v":0},{"$f":"мощность!E31","v":0},{"$f":"мощность!F31","v":0},{"$f":"мощность!G31","v":0},{"$f":"мощность!H31","v":0},{"$f":"мощность!I31","v":0},{"$f":"мощность!J31","v":0},{"$f":"мощность!K31","v":0},{"$f":"мощность!L31","v":0},{"$f":"мощность!M31","v":0},{"$f":"мощность!N31","v":0},{"$f":"мощность!O31","v":0},{"$f":"мощность!P31","v":0},{"$f":"мощность!Q31","v":0},{"$f":"мощность!R31","v":0},{"$f":"мощность!S31","v":0},{"$f":"мощность!T31","v":0},{"$f":"мощность!U31","v":0},{"$f":"мощность!V31","v":0},{"$f":"мощность!W31","v":0},{"$f":"мощность!X31","v":0},{"$f":"мощность!Y31","v":0},0]
[{"$f":"мощность!AA32","v":"29.01.2026"},{"$f":"мощность!B32","v":0},{"$f":"мощность!C32","v":0},{"$f":"мощность!D32","v":0},{"$f":"мощность!E32","v":0},{"$f":"мощность!F32","v":0},{"$f":"мощность!G32","v":0},{"$f":"мощность!H32","v":0},{"$f":"мощность!I32","v":0},{"$f":"мощность!J32","v":0},{"$f":"мощность!K32","v":0},{"$f":"мощность!L32","v":0},{"$f":"мощность!M32","v":0},{"$f":"мощность!N32","v":0},{"$f":"мощность!O32","v":0},{"$f":"мощность!P32","v":0},{"$f":"мощность!Q32","v":0},{"$f":"мощность!R32","v":0},{"$f":"мощность!S32","v":0},{"$f":"мощность!T32","v":0},{"$f":"мощность!U32","v":0},{"$f":"мощность!V32","v":0},{"$f":"мощность!W32","v":0},{"$f":"мощность!X32","v":0},{"$f":"мощность!Y32","v":0},0]
[{"$f":"мощность!AA33","v":"30.01.2026"},{"$f":"мощность!B33","v":0},{"$f":"мощность!C33","v":0},{"$f":"мощность!D33","v":0},{"$f":"мощность!E33","v":0},{"$f":"мощность!F33","v":0},{"$f":"мощность!G33","v":0},{"$f":"мощность!H33","v":0},{"$f":"мощность!I33","v":0},{"$f":"мощность!J33","v":0},{"$f":"мощность!K33","v":0},{"$f":"мощность!L33","v":0},{"$f":"мощность!M33","v":0},{"$f":"мощность!N33","v":0},{"$f":"мощность!O33","v":0},{"$f":"мощность!P33","v":0},{"$f":"мощность!Q33","v":0},{"$f":"мощность!R33","v":0},{"$f":"мощность!S33","v":0},{"$f":"мощность!T33","v":0},{"$f":"мощность!U33","v":0},{"$f":"мощность!V33","v":0},{"$f":"мощность!W33","v":0},{"$f":"мощность!X33","v":0},{"$f":"мощность!Y33","v":0},0]
[{"$f":"мощность!AA34","v":"31.01.2026"},{"$f":"мощность!B34","v":0},{"$f":"мощность!C34","v":0},{"$f":"мощность!D34","v":0},{"$f":"мощность!E34","v":0},{"$f":"мощность!F34","v":0},{"$f":"мощность!G34","v":0},{"$f":"мощность!H34","v":0},{"$f":"мощность!I34","v":0},{"$f":"мощность!J34","v":0},{"$f":"мощность!K34","v":0},{"$f":"мощность!L34","v":0},{"$f":"мощность!M34","v":0},{"$f":"мощность!N34","v":0},{"$f":"мощность!O34","v":0},{"$f":"мощность!P34","v":0},{"$f":"мощность!Q34","v":0},{"$f":"мощность!R34","v":0},{"$f":"мощность!S34","v":0},{"$f":"мощность!T34","v":0},{"$f":"мощность!U34","v":0},{"$f":"мощность!V34","v":0},{"$f":"мощность!W34","v":0},{"$f":"мощность!X34","v":0},{"$f":"мощность!Y34","v":0},0]
["ИТОГО",{"$f":"SUM(B5:B35)","v":0},{"$f":"SUM(C5:C35)","v":0},0,0,0,0,0,0,0,0,0,0,0,0,0,0,0,0,0,0,0,{"$f":"SUM(W5:W35)","v":0},0,0,{"$f":"SUM(Z5:Z35)","v":0}]
[]
["2. Объем и стоиомсть электрической энергии и мощности по договорам купли-продажи электрической энергии (мощности) для розничной генерации (за исключением микрогенерации)"]
["Показатель","Объём, МВтч (МВт)","Цена руб/МВтч (МВт)","Стоимость без НДС, руб.","Стоимость с НДС, руб.","в т.ч. НДС (22%)"]
["Электроэнергия",{"$f":"цены!C752/1000","v":0},{"$f":"IF(B40=0,\"\",цены!D752)","v":""},{"$f":"IF(B40=0,\"\",цены!E752)","v":""},{"$f":"IF(B40=0,\"\",цены!F752)","v":""},{"$f":"IF(B40=0,\"\",цены!G752)","v":""}]
["Мощность",{"$f":"цены!C753/1000","v":{"$error":"#N/A"}},{"$f":"IF(B41=0,\"\",цены!D753)","v":{"$error":"#N/A"}},{"$f":"IF(B41=0,\"\",цены!E753)","v":{"$error":"#N/A"}},{"$f":"IF(B41=0,\"\",цены!F753)","v":{"$error":"#N/A"}},{"$f":"IF(B41=0,\"\",цены!G753)","v":{"$error":"#N/A"}}]
["ИТОГО","Х",null,{"$f":"SUM(D40:D41)","v":{"$error":"#N/A"}},{"$f":"SUM(E40:E41)","v":{"$error":"#N/A"}},{"$f":"SUM(F40:F41)","v":{"$error":"#N/A"}}]

{"sheet":"мощность","index":2,"n_rows":48,"n_cols":32,"rows_kept":48,"cut":false,"hidden":true,"merged":[[1,0,2,0],[1,1,1,24],[1,25,2,25],[37,16,37,21],[38,16,38,21]]}
["Месяц",{"$f":"IF(E1=1,\"январь\",IF(E1=2,\"февраль\",IF(E1=3,\"март\",IF(E1=4,\"апрель\",IF(E1=5,\"май\",IF(E1=6,\"июнь\",IF(E1=7,\"июль\",IF(E1=8,\"август\",IF(E1=9,\"сентябрь\",IF(E1=10,\"октябрь\",IF(E1=11,\"ноябрь\",IF(E1=12,\"декабрь\",0))))))))))))","v":"январь"},null,null,{"$f":"MONTH(H1)","v":1},null,null,"2026-01-01","заполнять зеленые ячейки",null,null,null,null,null,null,null,null,null,null,null,null,null,null,null,null,null,{"$f":"TODAY()","v":"2026-03-13"},null,null,null,null,{"$f":"'[1]Лист 1'!$J$7","v":0}]
["Дата\\Часы","Фактический почасовой объем производства  электрической энергии (мощности), кВтч",null,null,null,null,null,null,null,null,null,null,null,null,null,null,null,null,null,null,null,null,null,null,null,"Итого",null,null,"max","в"]
[null,1,2,3,4,5,6,7,8,9,10,11,12,13,14,15,16,17,18,19,20,21,22,23,24,null,null,null,"час","дата"]
[1,{"$f":"округл!$B$66","v":0},{"$f":"округл!$B$67","v":0},{"$f":"округл!$B$68","v":0},{"$f":"округл!$B$69","v":0},{"$f":"округл!$B$70","v":0},{"$f":"округл!$B$71","v":0},{"$f":"округл!$B$72","v":0},{"$f":"округл!$B$73","v":0},{"$f":"округл!$B$74","v":0},{"$f":"округл!$B$75","v":0},{"$f":"округл!$B$76","v":0},{"$f":"округл!$B$77","v":0},{"$f":"округл!$B$78","v":0},{"$f":"округл!$B$79","v":0},{"$f":"округл!$B$80","v":0},{"$f":"округл!$B$81","v":0},{"$f":"округл!$B$82","v":0},{"$f":"округл!$B$83","v":0},{"$f":"округл!$B$84","v":0},{"$f":"округл!$B$85","v":0},{"$f":"округл!$B$86","v":0},{"$f":"округл!$B$87","v":0},{"$f":"округл!$B$88","v":0},{"$f":"округл!$B$89","v":0},{"$f":"SUM(B4:Y4)","v":0},{"$f":"B43","v":"01.01.2026"},{"$f":"IF(AD4=\"выходной\",\"\",INDEX($B$4:$Y$34,A4,LOOKUP(AC4,$B$3:$Y$3)))","v":""},{"$f":"VLOOKUP(AA4,'Часы пик'!$A$7:$B$60,2,0)","v":{"$error":"#N/A"}},{"$f":"IF($B$45=\"\",$B$44,$B$45)","v":"выходной"}]
[2,{"$f":"округл!$C$66","v":0},{"$f":"округл!$C$67","v":0},{"$f":"округл!$C$68","v":0},{"$f":"округл!$C$69","v":0},{"$f":"округл!$C$70","v":0},{"$f":"округл!$C$71","v":0},{"$f":"округл!$C$72","v":0},{"$f":"округл!$C$73","v":0},{"$f":"округл!$C$74","v":0},{"$f":"округл!$C$75","v":0},{"$f":"округл!$C$76","v":0},{"$f":"округл!$C$77","v":0},{"$f":"округл!$C$78","v":0},{"$f":"округл!$C$79","v":0},{"$f":"округл!$C$80","v":0},{"$f":"округл!$C$81","v":0},{"$f":"округл!$C$82","v":0},{"$f":"округл!$C$83","v":0},{"$f":"округл!$C$84","v":0},{"$f":"округл!$C$85","v":0},{"$f":"округл!$C$86","v":0},{"$f":"округл!$C$87","v":0},{"$f":"округл!$C$88","v":0},{"$f":"округл!$C$89","v":0},{"$f":"SUM(B5:Y5)","v":0},{"$f":"$C$43","v":"02.01.2026"},{"$f":"IF(AD5=\"выходной\",\"\",INDEX($B$4:$Y$34,A5,LOOKUP(AC5,$B$3:$Y$3)))","v":""},{"$f":"VLOOKUP(AA5,'Часы пик'!$A$7:$B$60,2,0)","v":{"$error":"#N/A"}},{"$f":"IF($C$45=\"\",$C$44,$C$45)","v":"выходной"}]
[3,{"$f":"округл!$D$66","v":0},{"$f":"округл!$D$67","v":0},{"$f":"округл!$D$68","v":0},{"$f":"округл!$D$69","v":0},{"$f":"округл!$D$70","v":0},{"$f":"округл!$D$71","v":0},{"$f":"округл!$D$72","v":0},{"$f":"округл!$D$73","v":0},{"$f":"округл!$D$74","v":0},{"$f":"округл!$D$75","v":0},{"$f":"округл!$D$76","v":0},{"$f":"округл!$D$77","v":0},{"$f":"округл!$D$78","v":0},{"$f":"округл!$D$79","v":0},{"$f":"округл!$D$80","v":0},{"$f":"округл!$D$81","v":0},{"$f":"округл!$D$82","v":0},{"$f":"округл!$D$83","v":0},{"$f":"округл!$D$84","v":0},{"$f":"округл!$D$85","v":0},{"$f":"округл!$D$86","v":0},{"$f":"округл!$D$87","v":0},{"$f":"округл!$D$88","v":0},{"$f":"округл!$D$89","v":0},0,{"$f":"$D$43","v":"03.01.2026"},{"$f":"IF(AD6=\"выходной\",\"\",INDEX($B$4:$Y$34,A6,LOOKUP(AC6,$B$3:$Y$3)))","v":""},{"$f":"VLOOKUP(AA6,'Часы пик'!$A$7:$B$60,2,0)","v":{"$error":"#N/A"}},{"$f":"IF($D$45=\"\",$D$44,$D$45)","v":"выходной"}]
[4,{"$f":"округл!$E$66","v":0},{"$f":"округл!$E$67","v":0},{"$f":"округл!$E$68","v":0},{"$f":"округл!$E$69","v":0},{"$f":"округл!$E$70","v":0},{"$f":"округл!$E$71","v":0},{"$f":"округл!$E$72","v":0},{"$f":"округл!$E$73","v":0},{"$f":"округл!$E$74","v":0},{"$f":"округл!$E$75","v":0},{"$f":"округл!$E$76","v":0},{"$f":"округл!$E$77","v":0},{"$f":"округл!$E$78","v":0},{"$f":"округл!$E$79","v":0},{"$f":"округл!$E$80","v":0},{"$f":"округл!$E$81","v":0},{"$f":"округл!$E$82","v":0},{"$f":"округл!$E$83","v":0},{"$f":"округл!$E$84","v":0},{"$f":"округл!$E$85","v":0},{"$f":"округл!$E$86","v":0},{"$f":"округл!$E$87","v":0},{"$f":"округл!$E$88","v":0},{"$f":"округл!$E$89","v":0},0,{"$f":"$E$43","v":"04.01.2026"},"",{"$f":"VLOOKUP(AA7,'Часы пик'!$A$7:$B$60,2,0)","v":{"$error":"#N/A"}},{"$f":"IF($E$45=\"\",$E$44,$E$45)","v":"выходной"}]
[5,{"$f":"округл!$F$66","v":0},{"$f":"округл!$F$67","v":0},{"$f":"округл!$F$68","v":0},{"$f":"округл!$F$69","v":0},{"$f":"округл!$F$70","v":0},{"$f":"округл!$F$71","v":0},{"$f":"округл!$F$72","v":0},{"$f":"округл!$F$73","v":0},{"$f":"округл!$F$74","v":0},{"$f":"округл!$F$75","v":0},{"$f":"округл!$F$76","v":0},{"$f":"округл!$F$77","v":0},{"$f":"округл!$F$78","v":0},{"$f":"округл!$F$79","v":0},{"$f":"округл!$F$80","v":0},{"$f":"округл!$F$81","v":0},{"$f":"округл!$F$82","v":0},{"$f":"округл!$F$83","v":0},{"$f":"округл!$F$84","v":0},{"$f":"округл!$F$85","v":0},{"$f":"округл!$F$86","v":0},{"$f":"округл!$F$87","v":0},{"$f":"округл!$F$88","v":0},{"$f":"округл!$F$89","v":0},0,{"$f":"$F$43","v":"05.01.2026"},"",{"$f":"VLOOKUP(AA8,'Часы пик'!$A$7:$B$60,2,0)","v":{"$error":"#N/A"}},{"$f":"IF($F$45=\"\",$F$44,$F$45)","v":"выходной"}]
[6,{"$f":"округл!$G$66","v":0},{"$f":"округл!$G$67","v":0},{"$f":"округл!$G$68","v":0},{"$f":"округл!$G$69","v":0},{"$f":"округл!$G$70","v":0},{"$f":"округл!$G$71","v":0},{"$f":"округл!$G$72","v":0},{"$f":"округл!$G$73","v":0},{"$f":"округл!$G$74","v":0},{"$f":"округл!$G$75","v":0},{"$f":"округл!$G$76","v":0},{"$f":"округл!$G$77","v":0},{"$f":"округл!$G$78","v":0},{"$f":"округл!$G$79","v":0},{"$f":"округл!$G$80","v":0},{"$f":"округл!$G$81","v":0},{"$f":"округл!$G$82","v":0},{"$f":"округл!$G$83","v":0},{"$f":"округл!$G$84","v":0},{"$f":"округл!$G$85","v":0},{"$f":"округл!$G$86","v":0},{"$f":"округл!$G$87","v":0},{"$f":"округл!$G$88","v":0},{"$f":"округл!$G$89","v":0},0,{"$f":"$G$43","v":"06.01.2026"},{"$f":"IF(AD9=\"выходной\",\"\",INDEX($B$4:$Y$34,A9,LOOKUP(AC9,$B$3:$Y$3)))","v":""},{"$f":"VLOOKUP(AA9,'Часы пик'!$A$7:$B$60,2,0)","v":{"$error":"#N/A"}},{"$f":"IF($G$45=\"\",$G$44,$G$45)","v":"выходной"}]
[7,{"$f":"округл!$H$66","v":0},{"$f":"округл!$H$67","v":0},{"$f":"округл!$H$68","v":0},{"$f":"округл!$H$69","v":0},{"$f":"округл!$H$70","v":0},{"$f":"округл!$H$71","v":0},{"$f":"округл!$H$72","v":0},{"$f":"округл!$H$73","v":0},{"$f":"округл!$H$74","v":0},{"$f":"округл!$H$75","v":0},{"$f":"округл!$H$76","v":0},{"$f":"округл!$H$77","v":0},{"$f":"округл!$H$78","v":0},{"$f":"округл!$H$79","v":0},{"$f":"округл!$H$80","v":0},{"$f":"округл!$H$81","v":0},{"$f":"округл!$H$82","v":0},{"$f":"округл!$H$83","v":0},{"$f":"округл!$H$84","v":0},{"$f":"округл!$H$85","v":0},{"$f":"округл!$H$86","v":0},{"$f":"округл!$H$87","v":0},{"$f":"округл!$H$88","v":0},{"$f":"округл!$H$89","v":0},0,{"$f":"$H$43","v":"07.01.2026"},"",{"$f":"VLOOKUP(AA10,'Часы пик'!$A$7:$B$60,2,0)","v":{"$error":"#N/A"}},{"$f":"IF($H$45=\"\",$H$44,$H$45)","v":"выходной"}]
[8,{"$f":"округл!$I$66","v":0},{"$f":"округл!$I$67","v":0},{"$f":"округл!$I$68","v":0},{"$f":"округл!$I$69","v":0},{"$f":"округл!$I$70","v":0},{"$f":"округл!$I$71","v":0},{"$f":"округл!$I$72","v":0},{"$f":"округл!$I$73","v":0},{"$f":"округл!$I$74","v":0},{"$f":"округл!$I$75","v":0},{"$f":"округл!$I$76","v":0},{"$f":"округл!$I$77","v":0},{"$f":"округл!$I$78","v":0},{"$f":"округл!$I$79","v":0},{"$f":"округл!$I$80","v":0},{"$f":"округл!$I$81","v":0},{"$f":"округл!$I$82","v":0},{"$f":"округл!$I$83","v":0},{"$f":"округл!$I$84","v":0},{"$f":"округл!$I$85","v":0},{"$f":"округл!$I$86","v":0},{"$f":"округл!$I$87","v":0},{"$f":"округл!$I$88","v":0},{"$f":"округл!$I$89","v":0},0,{"$f":"$I$43","v":"08.01.2026"},{"$f":"IF(AD11=\"выходной\",\"\",INDEX($B$4:$Y$34,A11,LOOKUP(AC11,$B$3:$Y$3)))","v":""},{"$f":"VLOOKUP(AA11,'Часы пик'!$A$7:$B$60,2,0)","v":{"$error":"#N/A"}},{"$f":"IF($I$45=\"\",$I$44,$I$45)","v":"выходной"}]
[9,{"$f":"округл!$J$66","v":0},{"$f":"округл!$J$67","v":0},{"$f":"округл!$J$68","v":0},{"$f":"округл!$J$69","v":0},{"$f":"округл!$J$70","v":0},{"$f":"округл!$J$71","v":0},{"$f":"округл!$J$72","v":0},{"$f":"округл!$J$73","v":0},{"$f":"округл!$J$74","v":0},{"$f":"округл!$J$75","v":0},{"$f":"округл!$J$76","v":0},{"$f":"округл!$J$77","v":0},{"$f":"округл!$J$78","v":0},{"$f":"округл!$J$79","v":0},{"$f":"округл!$J$80","v":0},{"$f":"округл!$J$81","v":0},{"$f":"округл!$J$82","v":0},{"$f":"округл!$J$83","v":0},{"$f":"округл!$J$84","v":0},{"$f":"округл!$J$85","v":0},{"$f":"округл!$J$86","v":0},{"$f":"округл!$J$87","v":0},{"$f":"округл!$J$88","v":0},{"$f":"округл!$J$89","v":0},0,{"$f":"$J$43","v":"09.01.2026"},{"$f":"IF(AD12=\"выходной\",\"\",INDEX($B$4:$Y$34,A12,LOOKUP(AC12,$B$3:$Y$3)))","v":""},{"$f":"VLOOKUP(AA12,'Часы пик'!$A$7:$B$60,2,0)","v":{"$error":"#N/A"}},{"$f":"IF($J$45=\"\",$J$44,$J$45)","v":"выходной"}]
[10,{"$f":"округл!$K$66","v":0},{"$f":"округл!$K$67","v":0},{"$f":"округл!$K$68","v":0},{"$f":"округл!$K$69","v":0},{"$f":"округл!$K$70","v":0},{"$f":"округл!$K$71","v":0},{"$f":"округл!$K$72","v":0},{"$f":"округл!$K$73","v":0},{"$f":"округл!$K$74","v":0},{"$f":"округл!$K$75","v":0},{"$f":"округл!$K$76","v":0},{"$f":"округл!$K$77","v":0},{"$f":"округл!$K$78","v":0},{"$f":"округл!$K$79","v":0},{"$f":"округл!$K$80","v":0},{"$f":"округл!$K$81","v":0},{"$f":"округл!$K$82","v":0},{"$f":"округл!$K$83","v":0},{"$f":"округл!$K$84","v":0},{"$f":"округл!$K$85","v":0},{"$f":"округл!$K$86","v":0},{"$f":"округл!$K$87","v":0},{"$f":"округл!$K$88","v":0},{"$f":"округл!$K$89","v":0},0,{"$f":"$K$43","v":"10.01.2026"},"",{"$f":"VLOOKUP(AA13,'Часы пик'!$A$7:$B$60,2,0)","v":{"$error":"#N/A"}},{"$f":"IF($K$45=\"\",$K$44,$K$45)","v":"выходной"}]
[11,{"$f":"округл!$L$66","v":0},{"$f":"округл!$L$67","v":0},{"$f":"округл!$L$68","v":0},{"$f":"округл!$L$69","v":0},{"$f":"округл!$L$70","v":0},{"$f":"округл!$L$71","v":0},{"$f":"округл!$L$72","v":0},{"$f":"округл!$L$73","v":0},{"$f":"округл!$L$74","v":0},{"$f":"округл!$L$75","v":0},{"$f":"округл!$L$76","v":0},{"$f":"округл!$L$77","v":0},{"$f":"округл!$L$78","v":0},{"$f":"округл!$L$79","v":0},{"$f":"округл!$L$80","v":0},{"$f":"округл!$L$81","v":0},{"$f":"округл!$L$82","v":0},{"$f":"округл!$L$83","v":0},{"$f":"округл!$L$84","v":0},{"$f":"округл!$L$85","v":0},{"$f":"округл!$L$86","v":0},{"$f":"округл!$L$87","v":0},{"$f":"округл!$L$88","v":0},{"$f":"округл!$L$89","v":0},0,{"$f":"$L$43","v":"11.01.2026"},{"$f":"IF(AD14=\"выходной\",\"\",INDEX($B$4:$Y$34,A14,LOOKUP(AC14,$B$3:$Y$3)))","v":""},{"$f":"VLOOKUP(AA14,'Часы пик'!$A$7:$B$60,2,0)","v":{"$error":"#N/A"}},{"$f":"IF($L$45=\"\",$L$44,$L$45)","v":"выходной"}]
[12,{"$f":"округл!$M$66","v":0},{"$f":"округл!$M$67","v":0},{"$f":"округл!$M$68","v":0},{"$f":"округл!$M$69","v":0},{"$f":"округл!$M$70","v":0},{"$f":"округл!$M$71","v":0},{"$f":"округл!$M$72","v":0},{"$f":"округл!$M$73","v":0},{"$f":"округл!$M$74","v":0},{"$f":"округл!$M$75","v":0},{"$f":"округл!$M$76","v":0},{"$f":"округл!$M$77","v":0},{"$f":"округл!$M$78","v":0},{"$f":"округл!$M$79","v":0},{"$f":"округл!$M$80","v":0},{"$f":"округл!$M$81","v":0},{"$f":"округл!$M$82","v":0},{"$f":"округл!$M$83","v":0},{"$f":"округл!$M$84","v":0},{"$f":"округл!$M$85","v":0},{"$f":"округл!$M$86","v":0},{"$f":"округл!$M$87","v":0},{"$f":"округл!$M$88","v":0},{"$f":"округл!$M$89","v":0},0,{"$f":"$M$43","v":"12.01.2026"},{"$error":"#N/A"},{"$f":"VLOOKUP(AA15,'Часы пик'!$A$7:$B$60,2,0)","v":{"$error":"#N/A"}},{"$f":"IF($M$45=\"\",$M$44,$M$45)","v":"рабочий"}]
[13,{"$f":"округл!$N$66","v":0},{"$f":"округл!$N$67","v":0},{"$f":"округл!$N$68","v":0},{"$f":"округл!$N$69","v":0},{"$f":"округл!$N$70","v":0},{"$f":"округл!$N$71","v":0},{"$f":"округл!$N$72","v":0},{"$f":"округл!$N$73","v":0},{"$f":"округл!$N$74","v":0},{"$f":"округл!$N$75","v":0},{"$f":"округл!$N$76","v":0},{"$f":"округл!$N$77","v":0},{"$f":"округл!$N$78","v":0},{"$f":"округл!$N$79","v":0},{"$f":"округл!$N$80","v":0},{"$f":"округл!$N$81","v":0},{"$f":"округл!$N$82","v":0},{"$f":"округл!$N$83","v":0},{"$f":"округл!$N$84","v":0},{"$f":"округл!$N$85","v":0},{"$f":"округл!$N$86","v":0},{"$f":"округл!$N$87","v":0},{"$f":"округл!$N$88","v":0},{"$f":"округл!$N$89","v":0},0,{"$f":"$N$43","v":"13.01.2026"},{"$error":"#N/A"},{"$f":"VLOOKUP(AA16,'Часы пик'!$A$7:$B$60,2,0)","v":{"$error":"#N/A"}},{"$f":"IF($N$45=\"\",$N$44,$N$45)","v":"рабочий"}]
[14,{"$f":"округл!$O$66","v":0},{"$f":"округл!$O$67","v":0},{"$f":"округл!$O$68","v":0},{"$f":"округл!$O$69","v":0},{"$f":"округл!$O$70","v":0},{"$f":"округл!$O$71","v":0},{"$f":"округл!$O$72","v":0},{"$f":"округл!$O$73","v":0},{"$f":"округл!$O$74","v":0},{"$f":"округл!$O$75","v":0},{"$f":"округл!$O$76","v":0},{"$f":"округл!$O$77","v":0},{"$f":"округл!$O$78","v":0},{"$f":"округл!$O$79","v":0},{"$f":"округл!$O$80","v":0},{"$f":"округл!$O$81","v":0},{"$f":"округл!$O$82","v":0},{"$f":"округл!$O$83","v":0},{"$f":"округл!$O$84","v":0},{"$f":"округл!$O$85","v":0},{"$f":"округл!$O$86","v":0},{"$f":"округл!$O$87","v":0},{"$f":"округл!$O$88","v":0},{"$f":"округл!$O$89","v":0},0,{"$f":"O$43","v":"14.01.2026"},{"$error":"#N/A"},{"$f":"VLOOKUP(AA17,'Часы пик'!$A$7:$B$60,2,0)","v":{"$error":"#N/A"}},{"$f":"IF($O$45=\"\",$O$44,$O$45)","v":"рабочий"}]
[15,{"$f":"округл!$P$66","v":0},{"$f":"округл!$P$67","v":0},{"$f":"округл!$P$68","v":0},{"$f":"округл!$P$69","v":0},{"$f":"округл!$P$70","v":0},{"$f":"округл!$P$71","v":0},{"$f":"округл!$P$72","v":0},{"$f":"округл!$P$73","v":0},{"$f":"округл!$P$74","v":0},{"$f":"округл!$P$75","v":0},{"$f":"округл!$P$76","v":0},{"$f":"округл!$P$77","v":0},{"$f":"округл!$P$78","v":0},{"$f":"округл!$P$79","v":0},{"$f":"округл!$P$80","v":0},{"$f":"округл!$P$81","v":0},{"$f":"округл!$P$82","v":0},{"$f":"округл!$P$83","v":0},{"$f":"округл!$P$84","v":0},{"$f":"округл!$P$85","v":0},{"$f":"округл!$P$86","v":0},{"$f":"округл!$P$87","v":0},{"$f":"округл!$P$88","v":0},{"$f":"округл!$P$89","v":0},0,{"$f":"$P$43","v":"15.01.2026"},{"$error":"#N/A"},{"$f":"VLOOKUP(AA18,'Часы пик'!$A$7:$B$60,2,0)","v":{"$error":"#N/A"}},{"$f":"IF($P$45=\"\",$P$44,$P$45)","v":"рабочий"}]
[16,{"$f":"округл!$Q$66","v":0},{"$f":"округл!$Q$67","v":0},{"$f":"округл!$Q$68","v":0},{"$f":"округл!$Q$69","v":0},{"$f":"округл!$Q$70","v":0},{"$f":"округл!$Q$71","v":0},{"$f":"округл!$Q$72","v":0},{"$f":"округл!$Q$73","v":0},{"$f":"округл!$Q$74","v":0},{"$f":"округл!$Q$75","v":0},{"$f":"округл!$Q$76","v":0},{"$f":"округл!$Q$77","v":0},{"$f":"округл!$Q$78","v":0},{"$f":"округл!$Q$79","v":0},{"$f":"округл!$Q$80","v":0},{"$f":"округл!$Q$81","v":0},{"$f":"округл!$Q$82","v":0},{"$f":"округл!$Q$83","v":0},{"$f":"округл!$Q$84","v":0},{"$f":"округл!$Q$85","v":0},{"$f":"округл!$Q$86","v":0},{"$f":"округл!$Q$87","v":0},{"$f":"округл!$Q$88","v":0},{"$f":"округл!$Q$89","v":0},0,{"$f":"$Q$43","v":"16.01.2026"},{"$error":"#N/A"},{"$f":"VLOOKUP(AA19,'Часы пик'!$A$7:$B$60,2,0)","v":{"$error":"#N/A"}},{"$f":"IF($Q$45=\"\",$Q$44,$Q$45)","v":"рабочий"}]
[17,{"$f":"округл!$R$66","v":0},{"$f":"округл!$R$67","v":0},{"$f":"округл!$R$68","v":0},{"$f":"округл!$R$69","v":0},{"$f":"округл!$R$70","v":0},{"$f":"округл!$R$71","v":0},{"$f":"округл!$R$72","v":0},{"$f":"округл!$R$73","v":0},{"$f":"округл!$R$74","v":0},{"$f":"округл!$R$75","v":0},{"$f":"округл!$R$76","v":0},{"$f":"округл!$R$77","v":0},{"$f":"округл!$R$78","v":0},{"$f":"округл!$R$79","v":0},{"$f":"округл!$R$80","v":0},{"$f":"округл!$R$81","v":0},{"$f":"округл!$R$82","v":0},{"$f":"округл!$R$83","v":0},{"$f":"округл!$R$84","v":0},{"$f":"округл!$R$85","v":0},{"$f":"округл!$R$86","v":0},{"$f":"округл!$R$87","v":0},{"$f":"округл!$R$88","v":0},{"$f":"округл!$R$89","v":0},0,{"$f":"$R$43","v":"17.01.2026"},"",{"$f":"VLOOKUP(AA20,'Часы пик'!$A$7:$B$60,2,0)","v":{"$error":"#N/A"}},{"$f":"IF($R$45=\"\",$R$44,$R$45)","v":"выходной"}]
[18,{"$f":"округл!$S$66","v":0},{"$f":"округл!$S$67","v":0},{"$f":"округл!$S$68","v":0},{"$f":"округл!$S$69","v":0},{"$f":"округл!$S$70","v":0},{"$f":"округл!$S$71","v":0},{"$f":"округл!$S$72","v":0},{"$f":"округл!$S$73","v":0},{"$f":"округл!$S$74","v":0},{"$f":"округл!$S$75","v":0},{"$f":"округл!$S$76","v":0},{"$f":"округл!$S$77","v":0},{"$f":"округл!$S$78","v":0},{"$f":"округл!$S$79","v":0},{"$f":"округл!$S$80","v":0},{"$f":"округл!$S$81","v":0},{"$f":"округл!$S$82","v":0},{"$f":"округл!$S$83","v":0},{"$f":"округл!$S$84","v":0},{"$f":"округл!$S$85","v":0},{"$f":"округл!$S$86","v":0},{"$f":"округл!$S$87","v":0},{"$f":"округл!$S$88","v":0},{"$f":"округл!$S$89","v":0},0,{"$f":"$S$43","v":"18.01.2026"},"",{"$f":"VLOOKUP(AA21,'Часы пик'!$A$7:$B$60,2,0)","v":{"$error":"#N/A"}},{"$f":"IF($S$45=\"\",$S$44,$S$45)","v":"выходной"}]
[19,{"$f":"округл!$T$66","v":0},{"$f":"округл!$T$67","v":0},{"$f":"округл!$T$68","v":0},{"$f":"округл!$T$69","v":0},{"$f":"округл!$T$70","v":0},{"$f":"округл!$T$71","v":0},{"$f":"округл!$T$72","v":0},{"$f":"округл!$T$73","v":0},{"$f":"округл!$T$74","v":0},{"$f":"округл!$T$75","v":0},{"$f":"округл!$T$76","v":0},{"$f":"округл!$T$77","v":0},{"$f":"округл!$T$78","v":0},{"$f":"округл!$T$79","v":0},{"$f":"округл!$T$80","v":0},{"$f":"округл!$T$81","v":0},{"$f":"округл!$T$82","v":0},{"$f":"округл!$T$83","v":0},{"$f":"округл!$T$84","v":0},{"$f":"округл!$T$85","v":0},{"$f":"округл!$T$86","v":0},{"$f":"округл!$T$87","v":0},{"$f":"округл!$T$88","v":0},{"$f":"округл!$T$89","v":0},0,{"$f":"$T$43","v":"19.01.2026"},{"$error":"#N/A"},{"$f":"VLOOKUP(AA22,'Часы пик'!$A$7:$B$60,2,0)","v":{"$error":"#N/A"}},{"$f":"IF($T$45=\"\",$T$44,$T$45)","v":"рабочий"}]
[20,{"$f":"округл!$U$66","v":0},{"$f":"округл!$U$67","v":0},{"$f":"округл!$U$68","v":0},{"$f":"округл!$U$69","v":0},{"$f":"округл!$U$70","v":0},{"$f":"округл!$U$71","v":0},{"$f":"округл!$U$72","v":0},{"$f":"округл!$U$73","v":0},{"$f":"округл!$U$74","v":0},{"$f":"округл!$U$75","v":0},{"$f":"округл!$U$76","v":0},{"$f":"округл!$U$77","v":0},{"$f":"округл!$U$78","v":0},{"$f":"округл!$U$79","v":0},{"$f":"округл!$U$80","v":0},{"$f":"округл!$U$81","v":0},{"$f":"округл!$U$82","v":0},{"$f":"округл!$U$83","v":0},{"$f":"округл!$U$84","v":0},{"$f":"округл!$U$85","v":0},{"$f":"округл!$U$86","v":0},{"$f":"округл!$U$87","v":0},{"$f":"округл!$U$88","v":0},{"$f":"округл!$U$89","v":0},0,{"$f":"$U$43","v":"20.01.2026"},{"$error":"#N/A"},{"$f":"VLOOKUP(AA23,'Часы пик'!$A$7:$B$60,2,0)","v":{"$error":"#N/A"}},{"$f":"IF($U$45=\"\",$U$44,$U$45)","v":"рабочий"}]
[21,{"$f":"округл!$V$66","v":0},{"$f":"округл!$V$67","v":0},{"$f":"округл!$V$68","v":0},{"$f":"округл!$V$69","v":0},{"$f":"округл!$V$70","v":0},{"$f":"округл!$V$71","v":0},{"$f":"округл!$V$72","v":0},{"$f":"округл!$V$73","v":0},{"$f":"округл!$V$74","v":0},{"$f":"округл!$V$75","v":0},{"$f":"округл!$V$76","v":0},{"$f":"округл!$V$77","v":0},{"$f":"округл!$V$78","v":0},{"$f":"округл!$V$79","v":0},{"$f":"округл!$V$80","v":0},{"$f":"округл!$V$81","v":0},{"$f":"округл!$V$82","v":0},{"$f":"округл!$V$83","v":0},{"$f":"округл!$V$84","v":0},{"$f":"округл!$V$85","v":0},{"$f":"округл!$V$86","v":0},{"$f":"округл!$V$87","v":0},{"$f":"округл!$V$88","v":0},{"$f":"округл!$V$89","v":0},0,{"$f":"$V$43","v":"21.01.2026"},{"$error":"#N/A"},{"$f":"VLOOKUP(AA24,'Часы пик'!$A$7:$B$60,2,0)","v":{"$error":"#N/A"}},{"$f":"IF($V$45=\"\",$V$44,$V$45)","v":"рабочий"}]
[22,{"$f":"округл!$W$66","v":0},{"$f":"округл!$W$67","v":0},{"$f":"округл!$W$68","v":0},{"$f":"округл!$W$69","v":0},{"$f":"округл!$W$70","v":0},{"$f":"округл!$W$71","v":0},{"$f":"округл!$W$72","v":0},{"$f":"округл!$W$73","v":0},{"$f":"округл!$W$74","v":0},{"$f":"округл!$W$75","v":0},{"$f":"округл!$W$76","v":0},{"$f":"округл!$W$77","v":0},{"$f":"округл!$W$78","v":0},{"$f":"округл!$W$79","v":0},{"$f":"округл!$W$80","v":0},{"$f":"округл!$W$81","v":0},{"$f":"округл!$W$82","v":0},{"$f":"округл!$W$83","v":0},{"$f":"округл!$W$84","v":0},{"$f":"округл!$W$85","v":0},{"$f":"округл!$W$86","v":0},{"$f":"округл!$W$87","v":0},{"$f":"округл!$W$88","v":0},{"$f":"округл!$W$89","v":0},0,{"$f":"$W$43","v":"22.01.2026"},{"$error":"#N/A"},{"$f":"VLOOKUP(AA25,'Часы пик'!$A$7:$B$60,2,0)","v":{"$error":"#N/A"}},{"$f":"IF($W$45=\"\",$W$44,$W$45)","v":"рабочий"}]
[23,{"$f":"округл!$X$66","v":0},{"$f":"округл!$X$67","v":0},{"$f":"округл!$X$68","v":0},{"$f":"округл!$X$69","v":0},{"$f":"округл!$X$70","v":0},{"$f":"округл!$X$71","v":0},{"$f":"округл!$X$72","v":0},{"$f":"округл!$X$73","v":0},{"$f":"округл!$X$74","v":0},{"$f":"округл!$X$75","v":0},{"$f":"округл!$X$76","v":0},{"$f":"округл!$X$77","v":0},{"$f":"округл!$X$78","v":0},{"$f":"округл!$X$79","v":0},{"$f":"округл!$X$80","v":0},{"$f":"округл!$X$81","v":0},{"$f":"округл!$X$82","v":0},{"$f":"округл!$X$83","v":0},{"$f":"округл!$X$84","v":0},{"$f":"округл!$X$85","v":0},{"$f":"округл!$X$86","v":0},{"$f":"округл!$X$87","v":0},{"$f":"округл!$X$88","v":0},{"$f":"округл!$X$89","v":0},0,{"$f":"$X$43","v":"23.01.2026"},{"$error":"#N/A"},{"$f":"VLOOKUP(AA26,'Часы пик'!$A$7:$B$60,2,0)","v":{"$error":"#N/A"}},{"$f":"IF($X$45=\"\",$X$44,$X$45)","v":"рабочий"}]
[24,{"$f":"округл!$Y$66","v":0},{"$f":"округл!$Y$67","v":0},{"$f":"округл!$Y$68","v":0},{"$f":"округл!$Y$69","v":0},{"$f":"округл!$Y$70","v":0},{"$f":"округл!$Y$71","v":0},{"$f":"округл!$Y$72","v":0},{"$f":"округл!$Y$73","v":0},{"$f":"округл!$Y$74","v":0},{"$f":"округл!$Y$75","v":0},{"$f":"округл!$Y$76","v":0},{"$f":"округл!$Y$77","v":0},{"$f":"округл!$Y$78","v":0},{"$f":"округл!$Y$79","v":0},{"$f":"округл!$Y$80","v":0},{"$f":"округл!$Y$81","v":0},{"$f":"округл!$Y$82","v":0},{"$f":"округл!$Y$83","v":0},{"$f":"округл!$Y$84","v":0},{"$f":"округл!$Y$85","v":0},{"$f":"округл!$Y$86","v":0},{"$f":"округл!$Y$87","v":0},{"$f":"округл!$Y$88","v":0},{"$f":"округл!$Y$89","v":0},0,{"$f":"$Y$43","v":"24.01.2026"},"",{"$f":"VLOOKUP(AA27,'Часы пик'!$A$7:$B$60,2,0)","v":{"$error":"#N/A"}},{"$f":"IF($Y$45=\"\",$Y$44,$Y$45)","v":"выходной"}]
[25,{"$f":"округл!$Z$66","v":0},{"$f":"округл!$Z$67","v":0},{"$f":"округл!$Z$68","v":0},{"$f":"округл!$Z$69","v":0},{"$f":"округл!$Z$70","v":0},{"$f":"округл!$Z$71","v":0},{"$f":"округл!$Z$72","v":0},{"$f":"округл!$Z$73","v":0},{"$f":"округл!$Z$74","v":0},{"$f":"округл!$Z$75","v":0},{"$f":"округл!$Z$76","v":0},{"$f":"округл!$Z$77","v":0},{"$f":"округл!$Z$78","v":0},{"$f":"округл!$Z$79","v":0},{"$f":"округл!$Z$80","v":0},{"$f":"округл!$Z$81","v":0},{"$f":"округл!$Z$82","v":0},{"$f":"округл!$Z$83","v":0},{"$f":"округл!$Z$84","v":0},{"$f":"округл!$Z$85","v":0},{"$f":"округл!$Z$86","v":0},{"$f":"округл!$Z$87","v":0},{"$f":"округл!$Z$88","v":0},{"$f":"округл!$Z$89","v":0},0,{"$f":"$Z$43","v":"25.01.2026"},"",{"$f":"VLOOKUP(AA28,'Часы пик'!$A$7:$B$60,2,0)","v":{"$error":"#N/A"}},{"$f":"IF($Z$45=\"\",$Z$44,$Z$45)","v":"выходной"}]
[26,{"$f":"округл!$AA$66","v":0},{"$f":"округл!$AA$67","v":0},{"$f":"округл!$AA$68","v":0},{"$f":"округл!$AA$69","v":0},{"$f":"округл!$AA$70","v":0},{"$f":"округл!$AA$71","v":0},{"$f":"округл!$AA$72","v":0},{"$f":"округл!$AA$73","v":0},{"$f":"округл!$AA$74","v":0},{"$f":"округл!$AA$75","v":0},{"$f":"округл!$AA$76","v":0},{"$f":"округл!$AA$77","v":0},{"$f":"округл!$AA$78","v":0},{"$f":"округл!$AA$79","v":0},{"$f":"округл!$AA$80","v":0},{"$f":"округл!$AA$81","v":0},{"$f":"округл!$AA$82","v":0},{"$f":"округл!$AA$83","v":0},{"$f":"округл!$AA$84","v":0},{"$f":"округл!$AA$85","v":0},{"$f":"округл!$AA$86","v":0},{"$f":"округл!$AA$87","v":0},{"$f":"округл!$AA$88","v":0},{"$f":"округл!$AA$89","v":0},0,{"$f":"$AA$43","v":"26.01.2026"},{"$error":"#N/A"},{"$f":"VLOOKUP(AA29,'Часы пик'!$A$7:$B$60,2,0)","v":{"$error":"#N/A"}},{"$f":"IF($AA$45=\"\",$AA$44,$AA$45)","v":"рабочий"}]
[27,{"$f":"округл!$AB$66","v":0},{"$f":"округл!$AB$67","v":0},{"$f":"округл!$AB$68","v":0},{"$f":"округл!$AB$69","v":0},{"$f":"округл!$AB$70","v":0},{"$f":"округл!$AB$71","v":0},{"$f":"округл!$AB$72","v":0},{"$f":"округл!$AB$73","v":0},{"$f":"округл!$AB$74","v":0},{"$f":"округл!$AB$75","v":0},{"$f":"округл!$AB$76","v":0},{"$f":"округл!$AB$77","v":0},{"$f":"округл!$AB$78","v":0},{"$f":"округл!$AB$79","v":0},{"$f":"округл!$AB$80","v":0},{"$f":"округл!$AB$81","v":0},{"$f":"округл!$AB$82","v":0},{"$f":"округл!$AB$83","v":0},{"$f":"округл!$AB$84","v":0},{"$f":"округл!$AB$85","v":0},{"$f":"округл!$AB$86","v":0},{"$f":"округл!$AB$87","v":0},{"$f":"округл!$AB$88","v":0},{"$f":"округл!$AB$89","v":0},0,{"$f":"$AB$43","v":"27.01.2026"},{"$error":"#N/A"},{"$f":"VLOOKUP(AA30,'Часы пик'!$A$7:$B$60,2,0)","v":{"$error":"#N/A"}},{"$f":"IF($AB$45=\"\",$AB$44,$AB$45)","v":"рабочий"}]
[28,{"$f":"округл!$AC$66","v":0},{"$f":"округл!$AC$67","v":0},{"$f":"округл!$AC$68","v":0},{"$f":"округл!$AC$69","v":0},{"$f":"округл!$AC$70","v":0},{"$f":"округл!$AC$71","v":0},{"$f":"округл!$AC$72","v":0},{"$f":"округл!$AC$73","v":0},{"$f":"округл!$AC$74","v":0},{"$f":"округл!$AC$75","v":0},{"$f":"округл!$AC$76","v":0},{"$f":"округл!$AC$77","v":0},{"$f":"округл!$AC$78","v":0},{"$f":"округл!$AC$79","v":0},{"$f":"округл!$AC$80","v":0},{"$f":"округл!$AC$81","v":0},{"$f":"округл!$AC$82","v":0},{"$f":"округл!$AC$83","v":0},{"$f":"округл!$AC$84","v":0},{"$f":"округл!$AC$85","v":0},{"$f":"округл!$AC$86","v":0},{"$f":"округл!$AC$87","v":0},{"$f":"округл!$AC$88","v":0},{"$f":"округл!$AC$89","v":0},0,{"$f":"$AC$43","v":"28.01.2026"},{"$error":"#N/A"},{"$f":"VLOOKUP(AA31,'Часы пик'!$A$7:$B$60,2,0)","v":{"$error":"#N/A"}},{"$f":"IF($AC$45=\"\",$AC$44,$AC$45)","v":"рабочий"}]
[29,{"$f":"округл!$AD$66","v":0},{"$f":"округл!$AD$67","v":0},{"$f":"округл!$AD$68","v":0},{"$f":"округл!$AD$69","v":0},{"$f":"округл!$AD$70","v":0},{"$f":"округл!$AD$71","v":0},{"$f":"округл!$AD$72","v":0},{"$f":"округл!$AD$73","v":0},{"$f":"округл!$AD$74","v":0},{"$f":"округл!$AD$75","v":0},{"$f":"округл!$AD$76","v":0},{"$f":"округл!$AD$77","v":0},{"$f":"округл!$AD$78","v":0},{"$f":"округл!$AD$79","v":0},{"$f":"округл!$AD$80","v":0},{"$f":"округл!$AD$81","v":0},{"$f":"округл!$AD$82","v":0},{"$f":"округл!$AD$83","v":0},{"$f":"округл!$AD$84","v":0},{"$f":"округл!$AD$85","v":0},{"$f":"округл!$AD$86","v":0},{"$f":"округл!$AD$87","v":0},{"$f":"округл!$AD$88","v":0},{"$f":"округл!$AD$89","v":0},0,{"$f":"$AD$43","v":"29.01.2026"},{"$error":"#N/A"},{"$f":"VLOOKUP(AA32,'Часы пик'!$A$7:$B$60,2,0)","v":{"$error":"#N/A"}},{"$f":"IF($AD$45=\"\",$AD$44,$AD$45)","v":"рабочий"}]
[30,{"$f":"округл!$AE$66","v":0},{"$f":"округл!$AE$67","v":0},{"$f":"округл!$AE$68","v":0},{"$f":"округл!$AE$69","v":0},{"$f":"округл!$AE$70","v":0},{"$f":"округл!$AE$71","v":0},{"$f":"округл!$AE$72","v":0},{"$f":"округл!$AE$73","v":0},{"$f":"округл!$AE$74","v":0},{"$f":"округл!$AE$75","v":0},{"$f":"округл!$AE$76","v":0},{"$f":"округл!$AE$77","v":0},{"$f":"округл!$AE$78","v":0},{"$f":"округл!$AE$79","v":0},{"$f":"округл!$AE$80","v":0},{"$f":"округл!$AE$81","v":0},{"$f":"округл!$AE$82","v":0},{"$f":"округл!$AE$83","v":0},{"$f":"округл!$AE$84","v":0},{"$f":"округл!$AE$85","v":0},{"$f":"округл!$AE$86","v":0},{"$f":"округл!$AE$87","v":0},{"$f":"округл!$AE$88","v":0},{"$f":"округл!$AE$89","v":0},0,{"$f":"$AE$43","v":"30.01.2026"},{"$error":"#N/A"},{"$f":"VLOOKUP(AA33,'Часы пик'!$A$7:$B$60,2,0)","v":{"$error":"#N/A"}},{"$f":"IF($AE$45=\"\",$AE$44,$AE$45)","v":"рабочий"}]
[31,{"$f":"округл!$AF$66","v":0},{"$f":"округл!$AF$67","v":0},{"$f":"округл!$AF$68","v":0},{"$f":"округл!$AF$69","v":0},{"$f":"округл!$AF$70","v":0},{"$f":"округл!$AF$71","v":0},{"$f":"округл!$AF$72","v":0},{"$f":"округл!$AF$73","v":0},{"$f":"округл!$AF$74","v":0},{"$f":"округл!$AF$75","v":0},{"$f":"округл!$AF$76","v":0},{"$f":"округл!$AF$77","v":0},{"$f":"округл!$AF$78","v":0},{"$f":"округл!$AF$79","v":0},{"$f":"округл!$AF$80","v":0},{"$f":"округл!$AF$81","v":0},{"$f":"округл!$AF$82","v":0},{"$f":"округл!$AF$83","v":0},{"$f":"округл!$AF$84","v":0},{"$f":"округл!$AF$85","v":0},{"$f":"округл!$AF$86","v":0},{"$f":"округл!$AF$87","v":0},{"$f":"округл!$AF$88","v":0},{"$f":"округл!$AF$89","v":0},0,{"$f":"$AF$43","v":"31.01.2026"},"",{"$f":"VLOOKUP(AA34,'Часы пик'!$A$7:$B$60,2,0)","v":{"$error":"#N/A"}},{"$f":"IF($AF$45=\"\",$AF$44,$AF$45)","v":"выходной"}]
["ИТОГО",{"$f":"SUM(B4:B34)","v":0},{"$f":"SUM(C4:C34)","v":0},0,0,0,0,0,0,0,0,0,0,0,0,0,0,0,0,0,0,0,{"$f":"SUM(W4:W34)","v":0},0,0,{"$f":"SUM(Z4:Z34)","v":0},null,{"$f":"AVERAGE(AB4:AB34)","v":{"$error":"#N/A"}}]
[]
[]
[null,null,null,null,null,null,null,null,null,null,null,null,null,null,null,null,"Итого электроэнергия за расчетный период, кВтч:",null,null,null,null,null,{"$f":"Z35","v":0}]
[null,null,null,null,null,null,null,null,null,null,null,null,null,null,null,null,"Итого мошность за расчетный период, кВт: ",null,null,null,null,null,{"$f":"ROUND(AB35,0)","v":{"$error":"#N/A"}}]
[]
[]
["День",{"$f":"CONCATENATE(PROPER(TEXT((DATE(YEAR($H$1),MONTH($H$1),DAY($H$1)+0)),\"ДДДД\")))","v":"Четверг"},{"$f":"CONCATENATE(PROPER(TEXT((DATE(YEAR($H$1),MONTH($H$1),DAY($H$1)+1)),\"ДДДД\")))","v":"Пятница"},{"$f":"CONCATENATE(PROPER(TEXT((DATE(YEAR($H$1),MONTH($H$1),DAY($H$1)+2)),\"ДДДД\")))","v":"Суббота"},{"$f":"CONCATENATE(PROPER(TEXT((DATE(YEAR($H$1),MONTH($H$1),DAY($H$1)+3)),\"ДДДД\")))","v":"Воскресенье"},{"$f":"CONCATENATE(PROPER(TEXT((DATE(YEAR($H$1),MONTH($H$1),DAY($H$1)+4)),\"ДДДД\")))","v":"Понедельник"},{"$f":"CONCATENATE(PROPER(TEXT((DATE(YEAR($H$1),MONTH($H$1),DAY($H$1)+5)),\"ДДДД\")))","v":"Вторник"},{"$f":"CONCATENATE(PROPER(TEXT((DATE(YEAR($H$1),MONTH($H$1),DAY($H$1)+6)),\"ДДДД\")))","v":"Среда"},{"$f":"CONCATENATE(PROPER(TEXT((DATE(YEAR($H$1),MONTH($H$1),DAY($H$1)+7)),\"ДДДД\")))","v":"Четверг"},{"$f":"CONCATENATE(PROPER(TEXT((DATE(YEAR($H$1),MONTH($H$1),DAY($H$1)+8)),\"ДДДД\")))","v":"Пятница"},{"$f":"CONCATENATE(PROPER(TEXT((DATE(YEAR($H$1),MONTH($H$1),DAY($H$1)+9)),\"ДДДД\")))","v":"Суббота"},{"$f":"CONCATENATE(PROPER(TEXT((DATE(YEAR($H$1),MONTH($H$1),DAY($H$1)+10)),\"ДДДД\")))","v":"Воскресенье"},{"$f":"CONCATENATE(PROPER(TEXT((DATE(YEAR($H$1),MONTH($H$1),DAY($H$1)+11)),\"ДДДД\")))","v":"Понедельник"},{"$f":"CONCATENATE(PROPER(TEXT((DATE(YEAR($H$1),MONTH($H$1),DAY($H$1)+12)),\"ДДДД\")))","v":"Вторник"},{"$f":"CONCATENATE(PROPER(TEXT((DATE(YEAR($H$1),MONTH($H$1),DAY($H$1)+13)),\"ДДДД\")))","v":"Среда"},{"$f":"CONCATENATE(PROPER(TEXT((DATE(YEAR($H$1),MONTH($H$1),DAY($H$1)+14)),\"ДДДД\")))","v":"Четверг"},{"$f":"CONCATENATE(PROPER(TEXT((DATE(YEAR($H$1),MONTH($H$1),DAY($H$1)+15)),\"ДДДД\")))","v":"Пятница"},{"$f":"CONCATENATE(PROPER(TEXT((DATE(YEAR($H$1),MONTH($H$1),DAY($H$1)+16)),\"ДДДД\")))","v":"Суббота"},{"$f":"CONCATENATE(PROPER(TEXT((DATE(YEAR($H$1),MONTH($H$1),DAY($H$1)+17)),\"ДДДД\")))","v":"Воскресенье"},{"$f":"CONCATENATE(PROPER(TEXT((DATE(YEAR($H$1),MONTH($H$1),DAY($H$1)+18)),\"ДДДД\")))","v":"Понедельник"},{"$f":"CONCATENATE(PROPER(TEXT((DATE(YEAR($H$1),MONTH($H$1),DAY($H$1)+19)),\"ДДДД\")))","v":"Вторник"},{"$f":"CONCATENATE(PROPER(TEXT((DATE(YEAR($H$1),MONTH($H$1),DAY($H$1)+20)),\"ДДДД\")))","v":"Среда"},{"$f":"CONCATENATE(PROPER(TEXT((DATE(YEAR($H$1),MONTH($H$1),DAY($H$1)+21)),\"ДДДД\")))","v":"Четверг"},{"$f":"CONCATENATE(PROPER(TEXT((DATE(YEAR($H$1),MONTH($H$1),DAY($H$1)+22)),\"ДДДД\")))","v":"Пятница"},{"$f":"CONCATENATE(PROPER(TEXT((DATE(YEAR($H$1),MONTH($H$1),DAY($H$1)+23)),\"ДДДД\")))","v":"Суббота"},{"$f":"CONCATENATE(PROPER(TEXT((DATE(YEAR($H$1),MONTH($H$1),DAY($H$1)+24)),\"ДДДД\")))","v":"Воскресенье"},{"$f":"CONCATENATE(PROPER(TEXT((DATE(YEAR($H$1),MONTH($H$1),DAY($H$1)+25)),\"ДДДД\")))","v":"Понедельник"},{"$f":"CONCATENATE(PROPER(TEXT((DATE(YEAR($H$1),MONTH($H$1),DAY($H$1)+26)),\"ДДДД\")))","v":"Вторник"},{"$f":"CONCATENATE(PROPER(TEXT((DATE(YEAR($H$1),MONTH($H$1),DAY($H$1)+27)),\"ДДДД\")))","v":"Среда"},{"$f":"CONCATENATE(PROPER(TEXT((DATE(YEAR($H$1),MONTH($H$1),DAY($H$1)+28)),\"ДДДД\")))","v":"Четверг"},{"$f":"CONCATENATE(PROPER(TEXT((DATE(YEAR($H$1),MONTH($H$1),DAY($H$1)+29)),\"ДДДД\")))","v":"Пятница"},{"$f":"CONCATENATE(PROPER(TEXT((DATE(YEAR($H$1),MONTH($H$1),DAY($H$1)+30)),\"ДДДД\")))","v":"Суббота"}]
["Дата",{"$f":"CONCATENATE(TEXT((DATE(YEAR($H$1),MONTH($H$1),DAY($H$1)+0)),\"ДД.ММ.ГГГГ\"))","v":"01.01.2026"},{"$f":"CONCATENATE(TEXT((DATE(YEAR($H$1),MONTH($H$1),DAY($H$1)+1)),\"ДД.ММ.ГГГГ\"))","v":"02.01.2026"},{"$f":"CONCATENATE(TEXT((DATE(YEAR($H$1),MONTH($H$1),DAY($H$1)+2)),\"ДД.ММ.ГГГГ\"))","v":"03.01.2026"},{"$f":"CONCATENATE(TEXT((DATE(YEAR($H$1),MONTH($H$1),DAY($H$1)+3)),\"ДД.ММ.ГГГГ\"))","v":"04.01.2026"},{"$f":"CONCATENATE(TEXT((DATE(YEAR($H$1),MONTH($H$1),DAY($H$1)+4)),\"ДД.ММ.ГГГГ\"))","v":"05.01.2026"},{"$f":"CONCATENATE(TEXT((DATE(YEAR($H$1),MONTH($H$1),DAY($H$1)+5)),\"ДД.ММ.ГГГГ\"))","v":"06.01.2026"},{"$f":"CONCATENATE(TEXT((DATE(YEAR($H$1),MONTH($H$1),DAY($H$1)+6)),\"ДД.ММ.ГГГГ\"))","v":"07.01.2026"},{"$f":"CONCATENATE(TEXT((DATE(YEAR($H$1),MONTH($H$1),DAY($H$1)+7)),\"ДД.ММ.ГГГГ\"))","v":"08.01.2026"},{"$f":"CONCATENATE(TEXT((DATE(YEAR($H$1),MONTH($H$1),DAY($H$1)+8)),\"ДД.ММ.ГГГГ\"))","v":"09.01.2026"},{"$f":"CONCATENATE(TEXT((DATE(YEAR($H$1),MONTH($H$1),DAY($H$1)+9)),\"ДД.ММ.ГГГГ\"))","v":"10.01.2026"},{"$f":"CONCATENATE(TEXT((DATE(YEAR($H$1),MONTH($H$1),DAY($H$1)+10)),\"ДД.ММ.ГГГГ\"))","v":"11.01.2026"},{"$f":"CONCATENATE(TEXT((DATE(YEAR($H$1),MONTH($H$1),DAY($H$1)+11)),\"ДД.ММ.ГГГГ\"))","v":"12.01.2026"},{"$f":"CONCATENATE(TEXT((DATE(YEAR($H$1),MONTH($H$1),DAY($H$1)+12)),\"ДД.ММ.ГГГГ\"))","v":"13.01.2026"},{"$f":"CONCATENATE(TEXT((DATE(YEAR($H$1),MONTH($H$1),DAY($H$1)+13)),\"ДД.ММ.ГГГГ\"))","v":"14.01.2026"},{"$f":"CONCATENATE(TEXT((DATE(YEAR($H$1),MONTH($H$1),DAY($H$1)+14)),\"ДД.ММ.ГГГГ\"))","v":"15.01.2026"},{"$f":"CONCATENATE(TEXT((DATE(YEAR($H$1),MONTH($H$1),DAY($H$1)+15)),\"ДД.ММ.ГГГГ\"))","v":"16.01.2026"},{"$f":"CONCATENATE(TEXT((DATE(YEAR($H$1),MONTH($H$1),DAY($H$1)+16)),\"ДД.ММ.ГГГГ\"))","v":"17.01.2026"},{"$f":"CONCATENATE(TEXT((DATE(YEAR($H$1),MONTH($H$1),DAY($H$1)+17)),\"ДД.ММ.ГГГГ\"))","v":"18.01.2026"},{"$f":"CONCATENATE(TEXT((DATE(YEAR($H$1),MONTH($H$1),DAY($H$1)+18)),\"ДД.ММ.ГГГГ\"))","v":"19.01.2026"},{"$f":"CONCATENATE(TEXT((DATE(YEAR($H$1),MONTH($H$1),DAY($H$1)+19)),\"ДД.ММ.ГГГГ\"))","v":"20.01.2026"},{"$f":"CONCATENATE(TEXT((DATE(YEAR($H$1),MONTH($H$1),DAY($H$1)+20)),\"ДД.ММ.ГГГГ\"))","v":"21.01.2026"},{"$f":"CONCATENATE(TEXT((DATE(YEAR($H$1),MONTH($H$1),DAY($H$1)+21)),\"ДД.ММ.ГГГГ\"))","v":"22.01.2026"},{"$f":"CONCATENATE(TEXT((DATE(YEAR($H$1),MONTH($H$1),DAY($H$1)+22)),\"ДД.ММ.ГГГГ\"))","v":"23.01.2026"},{"$f":"CONCATENATE(TEXT((DATE(YEAR($H$1),MONTH($H$1),DAY($H$1)+23)),\"ДД.ММ.ГГГГ\"))","v":"24.01.2026"},{"$f":"CONCATENATE(TEXT((DATE(YEAR($H$1),MONTH($H$1),DAY($H$1)+24)),\"ДД.ММ.ГГГГ\"))","v":"25.01.2026"},{"$f":"CONCATENATE(TEXT((DATE(YEAR($H$1),MONTH($H$1),DAY($H$1)+25)),\"ДД.ММ.ГГГГ\"))","v":"26.01.2026"},{"$f":"CONCATENATE(TEXT((DATE(YEAR($H$1),MONTH($H$1),DAY($H$1)+26)),\"ДД.ММ.ГГГГ\"))","v":"27.01.2026"},{"$f":"CONCATENATE(TEXT((DATE(YEAR($H$1),MONTH($H$1),DAY($H$1)+27)),\"ДД.ММ.ГГГГ\"))","v":"28.01.2026"},{"$f":"CONCATENATE(TEXT((DATE(YEAR($H$1),MONTH($H$1),DAY($H$1)+28)),\"ДД.ММ.ГГГГ\"))","v":"29.01.2026"},{"$f":"CONCATENATE(TEXT((DATE(YEAR($H$1),MONTH($H$1),DAY($H$1)+29)),\"ДД.ММ.ГГГГ\"))","v":"30.01.2026"},{"$f":"CONCATENATE(TEXT((DATE(YEAR($H$1),MONTH($H$1),DAY($H$1)+30)),\"ДД.ММ.ГГГГ\"))","v":"31.01.2026"}]
["В/Р",{"$f":"IF(B42=\"Понедельник\",\"рабочий\",IF(B42=\"Вторник\",\"рабочий\",IF(B42=\"Среда\",\"рабочий\",IF(B42=\"Четверг\",\"рабочий\",IF(B42=\"Пятница\",\"рабочий\",IF(B42=\"Суббота\",\"выходной\",IF(B42=\"Воскресенье\",\"выходной\",0)))))))","v":"рабочий"},{"$f":"IF(C42=\"Понедельник\",\"рабочий\",IF(C42=\"Вторник\",\"рабочий\",IF(C42=\"Среда\",\"рабочий\",IF(C42=\"Четверг\",\"рабочий\",IF(C42=\"Пятница\",\"рабочий\",IF(C42=\"Суббота\",\"выходной\",IF(C42=\"Воскресенье\",\"выходной\",0)))))))","v":"рабочий"},"выходной","выходной","рабочий","рабочий","рабочий","рабочий","рабочий","выходной","выходной","рабочий","рабочий","рабочий","рабочий","рабочий","выходной","выходной","рабочий","рабочий","рабочий","рабочий","рабочий","выходной","выходной","рабочий","рабочий","рабочий","рабочий","рабочий","выходной"]
["вых/раб","выходной","выходной","выходной","выходной","выходной","выходной","выходной","выходной","выходной","выходной","выходной"]
[]
["рабочий"]
["выходной"]

{"sheet":"цены","index":3,"n_rows":754,"n_cols":7,"rows_kept":754,"cut":false,"hidden":true,"merged":[[753,0,753,1],[747,5,748,5],[747,6,748,6],[750,0,750,1],[751,0,751,1],[752,0,752,1],[745,0,745,1],[747,0,748,1],[747,2,748,2],[747,3,748,3],[747,4,748,4]]}
["Дата","Час","Объём (КВтч)","Цена руб/МВтч","К*Цена руб/МВтч","Стоимость (руб.)","К*Стоимость (руб.)"]
[{"$f":"мощность!$AA$4","v":"01.01.2026"},0,{"$f":"мощность!B4","v":0},{"$f":"Нерег.цена!C58","v":1596.01},{"$f":"1*D2","v":1596.01},{"$f":"ROUND(C2*D2/1000,2)","v":0},{"$f":"ROUND(C2*E2/1000,2)","v":0}]
[{"$f":"мощность!$AA$4","v":"01.01.2026"},1,{"$f":"мощность!C4","v":0},{"$f":"Нерег.цена!C59","v":1492.53},{"$f":"1*D3","v":1492.53},{"$f":"ROUND(C3*D3/1000,2)","v":0},{"$f":"ROUND(C3*E3/1000,2)","v":0}]
[{"$f":"мощность!$AA$4","v":"01.01.2026"},2,{"$f":"мощность!D4","v":0},{"$f":"Нерег.цена!C60","v":1453.59},1453.59,0,0]
[{"$f":"мощность!$AA$4","v":"01.01.2026"},3,{"$f":"мощность!E4","v":0},{"$f":"Нерег.цена!C61","v":1448.24},1448.24,0,0]
[{"$f":"мощность!$AA$4","v":"01.01.2026"},4,{"$f":"мощность!F4","v":0},{"$f":"Нерег.цена!C62","v":1478.15},1478.15,0,0]
[{"$f":"мощность!$AA$4","v":"01.01.2026"},5,{"$f":"мощность!G4","v":0},{"$f":"Нерег.цена!C63","v":1683.47},1683.47,{"$f":"ROUND(C7*D7/1000,2)","v":0},0]
[{"$f":"мощность!$AA$4","v":"01.01.2026"},6,{"$f":"мощность!H4","v":0},{"$f":"Нерег.цена!C64","v":2086.48},2086.48,0,{"$f":"ROUND(C8*E8/1000,2)","v":0}]
[{"$f":"мощность!$AA$4","v":"01.01.2026"},7,{"$f":"мощность!I4","v":0},{"$f":"Нерег.цена!C65","v":2343.91},2343.91,0,0]
[{"$f":"мощность!$AA$4","v":"01.01.2026"},8,{"$f":"мощность!J4","v":0},{"$f":"Нерег.цена!C66","v":2539.4899999999998},2539.4899999999998,0,{"$f":"ROUND(C10*E10/1000,2)","v":0}]
[{"$f":"мощность!$AA$4","v":"01.01.2026"},9,{"$f":"мощность!K4","v":0},{"$f":"Нерег.цена!C67","v":2614.91},2614.91,0,{"$f":"ROUND(C11*E11/1000,2)","v":0}]
[{"$f":"мощность!$AA$4","v":"01.01.2026"},10,{"$f":"мощность!L4","v":0},{"$f":"Нерег.цена!C68","v":2646.26},2646.26,0,0]
[{"$f":"мощность!$AA$4","v":"01.01.2026"},11,{"$f":"мощность!M4","v":0},{"$f":"Нерег.цена!C69","v":2643.31},2643.31,0,0]
[{"$f":"мощность!$AA$4","v":"01.01.2026"},12,{"$f":"мощность!N4","v":0},{"$f":"Нерег.цена!C70","v":2626.88},2626.88,0,0]
[{"$f":"мощность!$AA$4","v":"01.01.2026"},13,{"$f":"мощность!O4","v":0},{"$f":"Нерег.цена!C71","v":2641.82},2641.82,0,0]
[{"$f":"мощность!$AA$4","v":"01.01.2026"},14,{"$f":"мощность!P4","v":0},{"$f":"Нерег.цена!C72","v":2637.66},2637.66,0,0]
[{"$f":"мощность!$AA$4","v":"01.01.2026"},15,{"$f":"мощность!Q4","v":0},{"$f":"Нерег.цена!C73","v":2637.23},2637.23,0,0]
[{"$f":"мощность!$AA$4","v":"01.01.2026"},16,{"$f":"мощность!R4","v":0},{"$f":"Нерег.цена!C74","v":2665.33},2665.33,0,0]
[{"$f":"мощность!$AA$4","v":"01.01.2026"},17,{"$f":"мощность!S4","v":0},{"$f":"Нерег.цена!C75","v":2667.28},2667.28,0,0]
[{"$f":"мощность!$AA$4","v":"01.01.2026"},18,{"$f":"мощность!T4","v":0},{"$f":"Нерег.цена!C76","v":2640.36},2640.36,0,0]
[{"$f":"мощность!$AA$4","v":"01.01.2026"},19,{"$f":"мощность!U4","v":0},{"$f":"Нерег.цена!C77","v":2595.65},2595.65,0,0]
[{"$f":"мощность!$AA$4","v":"01.01.2026"},20,{"$f":"мощность!V4","v":0},{"$f":"Нерег.цена!C78","v":2524.31},2524.31,0,0]
[{"$f":"мощность!$AA$4","v":"01.01.2026"},21,{"$f":"мощность!W4","v":0},{"$f":"Нерег.цена!C79","v":2368.39},2368.39,0,0]
[{"$f":"мощность!$AA$4","v":"01.01.2026"},22,{"$f":"мощность!X4","v":0},{"$f":"Нерег.цена!C80","v":2171.09},2171.09,0,0]
[{"$f":"мощность!$AA$4","v":"01.01.2026"},23,{"$f":"мощность!Y4","v":0},{"$f":"Нерег.цена!C81","v":1861.35},1861.35,0,0]
[{"$f":"мощность!$AA$5","v":"02.01.2026"},0,{"$f":"мощность!B5","v":0},{"$f":"Нерег.цена!C82","v":1567.72},1567.72,0,0]
[{"$f":"мощность!$AA$5","v":"02.01.2026"},1,{"$f":"мощность!C5","v":0},{"$f":"Нерег.цена!C83","v":1496.59},1496.59,0,0]
[{"$f":"мощность!$AA$5","v":"02.01.2026"},2,{"$f":"мощность!D5","v":0},{"$f":"Нерег.цена!C84","v":1434.2},1434.2,0,0]
[{"$f":"мощность!$AA$5","v":"02.01.2026"},3,{"$f":"мощность!E5","v":0},{"$f":"Нерег.цена!C85","v":1433.07},1433.07,0,0]
[{"$f":"мощность!$AA$5","v":"02.01.2026"},4,{"$f":"мощность!F5","v":0},{"$f":"Нерег.цена!C86","v":1492.83},1492.83,0,0]
[{"$f":"мощность!$AA$5","v":"02.01.2026"},5,{"$f":"мощность!G5","v":0},{"$f":"Нерег.цена!C87","v":1596.29},1596.29,0,0]
[{"$f":"мощность!$AA$5","v":"02.01.2026"},6,{"$f":"мощность!H5","v":0},{"$f":"Нерег.цена!C88","v":1909.75},1909.75,0,0]
[{"$f":"мощность!$AA$5","v":"02.01.2026"},7,{"$f":"мощность!I5","v":0},{"$f":"Нерег.цена!C89","v":2358.48},2358.48,0,{"$f":"ROUND(C33*E33/1000,2)","v":0}]
[{"$f":"мощность!$AA$5","v":"02.01.2026"},8,{"$f":"мощность!J5","v":0},{"$f":"Нерег.цена!C90","v":2534.73},2534.73,0,0]
[{"$f":"мощность!$AA$5","v":"02.01.2026"},9,{"$f":"мощность!K5","v":0},{"$f":"Нерег.цена!C91","v":2608.8000000000002},2608.8000000000002,0,0]
[{"$f":"мощность!$AA$5","v":"02.01.2026"},10,{"$f":"мощность!L5","v":0},{"$f":"Нерег.цена!C92","v":2634.59},2634.59,0,0]
[{"$f":"мощность!$AA$5","v":"02.01.2026"},11,{"$f":"мощность!M5","v":0},{"$f":"Нерег.цена!C93","v":2628.93},2628.93,0,0]
[{"$f":"мощность!$AA$5","v":"02.01.2026"},12,{"$f":"мощность!N5","v":0},{"$f":"Нерег.цена!C94","v":2611.5700000000002},2611.5700000000002,0,0]
[{"$f":"мощность!$AA$5","v":"02.01.2026"},13,{"$f":"мощность!O5","v":0},{"$f":"Нерег.цена!C95","v":2621.58},2621.58,0,0]
[{"$f":"мощность!$AA$5","v":"02.01.2026"},14,{"$f":"мощность!P5","v":0},{"$f":"Нерег.цена!C96","v":2620.13},2620.13,0,0]
[{"$f":"мощность!$AA$5","v":"02.01.2026"},15,{"$f":"мощность!Q5","v":0},{"$f":"Нерег.цена!C97","v":2619.85},2619.85,0,0]
[{"$f":"мощность!$AA$5","v":"02.01.2026"},16,{"$f":"мощность!R5","v":0},{"$f":"Нерег.цена!C98","v":2600.94},2600.94,0,0]
[{"$f":"мощность!$AA$5","v":"02.01.2026"},17,{"$f":"мощность!S5","v":0},{"$f":"Нерег.цена!C99","v":2653.61},2653.61,0,0]
[{"$f":"мощность!$AA$5","v":"02.01.2026"},18,{"$f":"мощность!T5","v":0},{"$f":"Нерег.цена!C100","v":2633.95},2633.95,0,0]
[{"$f":"мощность!$AA$5","v":"02.01.2026"},19,{"$f":"мощность!U5","v":0},{"$f":"Нерег.цена!C101","v":2589.91},2589.91,0,0]
[{"$f":"мощность!$AA$5","v":"02.01.2026"},20,{"$f":"мощность!V5","v":0},{"$f":"Нерег.цена!C102","v":2516.81},2516.81,0,0]
[{"$f":"мощность!$AA$5","v":"02.01.2026"},21,{"$f":"мощность!W5","v":0},{"$f":"Нерег.цена!C103","v":2416.64},2416.64,0,0]
[{"$f":"мощность!$AA$5","v":"02.01.2026"},22,{"$f":"мощность!X5","v":0},{"$f":"Нерег.цена!C104","v":2152.73},2152.73,0,0]
[{"$f":"мощность!$AA$5","v":"02.01.2026"},23,{"$f":"мощность!Y5","v":0},{"$f":"Нерег.цена!C105","v":1883.81},1883.81,0,0]
[{"$f":"мощность!$AA$6","v":"03.01.2026"},0,{"$f":"мощность!B6","v":0},{"$f":"Нерег.цена!C106","v":1568.21},1568.21,0,0]
[{"$f":"мощность!$AA$6","v":"03.01.2026"},1,{"$f":"мощность!C6","v":0},{"$f":"Нерег.цена!C107","v":1492.24},1492.24,0,0]
[{"$f":"мощность!$AA$6","v":"03.01.2026"},2,{"$f":"мощность!D6","v":0},{"$f":"Нерег.цена!C108","v":1449.06},1449.06,0,0]
[{"$f":"мощность!$AA$6","v":"03.01.2026"},3,{"$f":"мощность!E6","v":0},{"$f":"Нерег.цена!C109","v":1454.84},1454.84,0,0]
[{"$f":"мощность!$AA$6","v":"03.01.2026"},4,{"$f":"мощность!F6","v":0},{"$f":"Нерег.цена!C110","v":1504.31},1504.31,0,0]
[{"$f":"мощность!$AA$6","v":"03.01.2026"},5,{"$f":"мощность!G6","v":0},{"$f":"Нерег.цена!C111","v":1638.93},1638.93,0,0]
[{"$f":"мощность!$AA$6","v":"03.01.2026"},6,{"$f":"мощность!H6","v":0},{"$f":"Нерег.цена!C112","v":1941.59},1941.59,0,0]
[{"$f":"мощность!$AA$6","v":"03.01.2026"},7,{"$f":"мощность!I6","v":0},{"$f":"Нерег.цена!C113","v":2229.1},2229.1,0,0]
[{"$f":"мощность!$AA$6","v":"03.01.2026"},8,{"$f":"мощность!J6","v":0},{"$f":"Нерег.цена!C114","v":2328.06},2328.06,0,0]
[{"$f":"мощность!$AA$6","v":"03.01.2026"},9,{"$f":"мощность!K6","v":0},{"$f":"Нерег.цена!C115","v":2368.56},2368.56,0,0]
[{"$f":"мощность!$AA$6","v":"03.01.2026"},10,{"$f":"мощность!L6","v":0},{"$f":"Нерег.цена!C116","v":2382.5700000000002},2382.5700000000002,0,0]
[{"$f":"мощность!$AA$6","v":"03.01.2026"},11,{"$f":"мощность!M6","v":0},{"$f":"Нерег.цена!C117","v":2379.06},2379.06,0,0]
[{"$f":"мощность!$AA$6","v":"03.01.2026"},12,{"$f":"мощность!N6","v":0},{"$f":"Нерег.цена!C118","v":2366.89},2366.89,0,0]
[{"$f":"мощность!$AA$6","v":"03.01.2026"},13,{"$f":"мощность!O6","v":0},{"$f":"Нерег.цена!C119","v":2373.4299999999998},2373.4299999999998,0,0]
[{"$f":"мощность!$AA$6","v":"03.01.2026"},14,{"$f":"мощность!P6","v":0},{"$f":"Нерег.цена!C120","v":2369.91},2369.91,0,0]
[{"$f":"мощность!$AA$6","v":"03.01.2026"},15,{"$f":"мощность!Q6","v":0},{"$f":"Нерег.цена!C121","v":2370.83},2370.83,0,0]
[{"$f":"мощность!$AA$6","v":"03.01.2026"},16,{"$f":"мощность!R6","v":0},{"$f":"Нерег.цена!C122","v":2385.06},2385.06,0,0]
[{"$f":"мощность!$AA$6","v":"03.01.2026"},17,{"$f":"мощность!S6","v":0},{"$f":"Нерег.цена!C123","v":2390.52},{"$f":"1*D67","v":2390.52},{"$f":"ROUND(C67*D67/1000,2)","v":0},{"$f":"ROUND(C67*E67/1000,2)","v":0}]
[{"$f":"мощность!$AA$6","v":"03.01.2026"},18,{"$f":"мощность!T6","v":0},{"$f":"Нерег.цена!C124","v":2377.9899999999998},2377.9899999999998,0,0]
[{"$f":"мощность!$AA$6","v":"03.01.2026"},19,{"$f":"мощность!U6","v":0},{"$f":"Нерег.цена!C125","v":2359.5500000000002},2359.5500000000002,0,0]
[{"$f":"мощность!$AA$6","v":"03.01.2026"},20,{"$f":"мощность!V6","v":0},{"$f":"Нерег.цена!C126","v":2316.5100000000002},2316.5100000000002,0,0]
[{"$f":"мощность!$AA$6","v":"03.01.2026"},21,{"$f":"мощность!W6","v":0},{"$f":"Нерег.цена!C127","v":2231.11},2231.11,0,0]
[{"$f":"мощность!$AA$6","v":"03.01.2026"},22,{"$f":"мощность!X6","v":0},{"$f":"Нерег.цена!C128","v":2098.41},2098.41,0,0]
[{"$f":"мощность!$AA$6","v":"03.01.2026"},23,{"$f":"мощность!Y6","v":0},{"$f":"Нерег.цена!C129","v":1880.66},1880.66,0,0]
[{"$f":"мощность!$AA$7","v":"04.01.2026"},0,{"$f":"мощность!B7","v":0},{"$f":"Нерег.цена!C130","v":1569.65},1569.65,0,0]
[{"$f":"мощность!$AA$7","v":"04.01.2026"},1,{"$f":"мощность!C7","v":0},{"$f":"Нерег.цена!C131","v":1486.71},1486.71,0,0]
[{"$f":"мощность!$AA$7","v":"04.01.2026"},2,{"$f":"мощность!D7","v":0},{"$f":"Нерег.цена!C132","v":1430.86},1430.86,0,0]
[{"$f":"мощность!$AA$7","v":"04.01.2026"},3,{"$f":"мощность!E7","v":0},{"$f":"Нерег.цена!C133","v":1429.69},1429.69,0,0]
[{"$f":"мощность!$AA$7","v":"04.01.2026"},4,{"$f":"мощность!F7","v":0},{"$f":"Нерег.цена!C134","v":1489.33},1489.33,0,0]
[{"$f":"мощность!$AA$7","v":"04.01.2026"},5,{"$f":"мощность!G7","v":0},{"$f":"Нерег.цена!C135","v":1633.77},1633.77,0,0]
[{"$f":"мощность!$AA$7","v":"04.01.2026"},6,{"$f":"мощность!H7","v":0},{"$f":"Нерег.цена!C136","v":2000.97},2000.97,0,0]
[{"$f":"мощность!$AA$7","v":"04.01.2026"},7,{"$f":"мощность!I7","v":0},{"$f":"Нерег.цена!C137","v":2261.5500000000002},2261.5500000000002,0,0]
[{"$f":"мощность!$AA$7","v":"04.01.2026"},8,{"$f":"мощность!J7","v":0},{"$f":"Нерег.цена!C138","v":2397},2397,0,0]
[{"$f":"мощность!$AA$7","v":"04.01.2026"},9,{"$f":"мощность!K7","v":0},{"$f":"Нерег.цена!C139","v":2445.39},2445.39,0,0]
[{"$f":"мощность!$AA$7","v":"04.01.2026"},10,{"$f":"мощность!L7","v":0},{"$f":"Нерег.цена!C140","v":2463.42},2463.42,0,0]
[{"$f":"мощность!$AA$7","v":"04.01.2026"},11,{"$f":"мощность!M7","v":0},{"$f":"Нерег.цена!C141","v":2458.54},2458.54,0,{"$f":"ROUND(C85*E85/1000,2)","v":0}]
[{"$f":"мощность!$AA$7","v":"04.01.2026"},12,{"$f":"мощность!N7","v":0},{"$f":"Нерег.цена!C142","v":2441.19},2441.19,0,0]
[{"$f":"мощность!$AA$7","v":"04.01.2026"},13,{"$f":"мощность!O7","v":0},{"$f":"Нерег.цена!C143","v":2450.6},2450.6,0,0]
[{"$f":"мощность!$AA$7","v":"04.01.2026"},14,{"$f":"мощность!P7","v":0},{"$f":"Нерег.цена!C144","v":2444.86},2444.86,0,0]
[{"$f":"мощность!$AA$7","v":"04.01.2026"},15,{"$f":"мощность!Q7","v":0},{"$f":"Нерег.цена!C145","v":2444.2600000000002},2444.2600000000002,0,0]
[{"$f":"мощность!$AA$7","v":"04.01.2026"},16,{"$f":"мощность!R7","v":0},{"$f":"Нерег.цена!C146","v":2463.54},2463.54,0,0]
[{"$f":"мощность!$AA$7","v":"04.01.2026"},17,{"$f":"мощность!S7","v":0},{"$f":"Нерег.цена!C147","v":2461.3200000000002},2461.3200000000002,0,0]
[{"$f":"мощность!$AA$7","v":"04.01.2026"},18,{"$f":"мощность!T7","v":0},{"$f":"Нерег.цена!C148","v":2442.4299999999998},2442.4299999999998,0,0]
[{"$f":"мощность!$AA$7","v":"04.01.2026"},19,{"$f":"мощность!U7","v":0},{"$f":"Нерег.цена!C149","v":2414.85},2414.85,0,0]
[{"$f":"мощность!$AA$7","v":"04.01.2026"},20,{"$f":"мощность!V7","v":0},{"$f":"Нерег.цена!C150","v":2371.2399999999998},2371.2399999999998,0,0]
[{"$f":"мощность!$AA$7","v":"04.01.2026"},21,{"$f":"мощность!W7","v":0},{"$f":"Нерег.цена!C151","v":2273.81},2273.81,0,0]
[{"$f":"мощность!$AA$7","v":"04.01.2026"},22,{"$f":"мощность!X7","v":0},{"$f":"Нерег.цена!C152","v":2122.46},2122.46,0,0]
[{"$f":"мощность!$AA$7","v":"04.01.2026"},23,{"$f":"мощность!Y7","v":0},{"$f":"Нерег.цена!C153","v":1886.49},1886.49,0,0]
[{"$f":"мощность!$AA$8","v":"05.01.2026"},0,{"$f":"мощность!B8","v":0},{"$f":"Нерег.цена!C154","v":1580.04},1580.04,0,0]
[{"$f":"мощность!$AA$8","v":"05.01.2026"},1,{"$f":"мощность!C8","v":0},{"$f":"Нерег.цена!C155","v":1492.51},1492.51,0,0]
[{"$f":"мощность!$AA$8","v":"05.01.2026"},2,{"$f":"мощность!D8","v":0},{"$f":"Нерег.цена!C156","v":1439.02},1439.02,0,0]
[{"$f":"мощность!$AA$8","v":"05.01.2026"},3,{"$f":"мощность!E8","v":0},{"$f":"Нерег.цена!C157","v":1432},1432,0,0]
[{"$f":"мощность!$AA$8","v":"05.01.2026"},4,{"$f":"мощность!F8","v":0},{"$f":"Нерег.цена!C158","v":1486.96},1486.96,0,0]
[{"$f":"мощность!$AA$8","v":"05.01.2026"},5,{"$f":"мощность!G8","v":0},{"$f":"Нерег.цена!C159","v":1620.55},1620.55,0,0]
[{"$f":"мощность!$AA$8","v":"05.01.2026"},6,{"$f":"мощность!H8","v":0},{"$f":"Нерег.цена!C160","v":1963.33},1963.33,0,0]
[{"$f":"мощность!$AA$8","v":"05.01.2026"},7,{"$f":"мощность!I8","v":0},{"$f":"Нерег.цена!C161","v":2254.0300000000002},2254.0300000000002,0,0]
[{"$f":"мощность!$AA$8","v":"05.01.2026"},8,{"$f":"мощность!J8","v":0},{"$f":"Нерег.цена!C162","v":2412.0500000000002},2412.0500000000002,0,0]
[{"$f":"мощность!$AA$8","v":"05.01.2026"},9,{"$f":"мощность!K8","v":0},{"$f":"Нерег.цена!C163","v":2462.2199999999998},2462.2199999999998,0,0]
[{"$f":"мощность!$AA$8","v":"05.01.2026"},10,{"$f":"мощность!L8","v":0},{"$f":"Нерег.цена!C164","v":2479.75},2479.75,0,0]
[{"$f":"мощность!$AA$8","v":"05.01.2026"},11,{"$f":"мощность!M8","v":0},{"$f":"Нерег.цена!C165","v":2474.84},2474.84,0,0]
[{"$f":"мощность!$AA$8","v":"05.01.2026"},12,{"$f":"мощность!N8","v":0},{"$f":"Нерег.цена!C166","v":2463.34},2463.34,0,0]
[{"$f":"мощность!$AA$8","v":"05.01.2026"},13,{"$f":"мощность!O8","v":0},{"$f":"Нерег.цена!C167","v":2469.13},2469.13,0,0]
[{"$f":"мощность!$AA$8","v":"05.01.2026"},14,{"$f":"мощность!P8","v":0},{"$f":"Нерег.цена!C168","v":2468},2468,0,0]
[{"$f":"мощность!$AA$8","v":"05.01.2026"},15,{"$f":"мощность!Q8","v":0},{"$f":"Нерег.цена!C169","v":2467.9699999999998},2467.9699999999998,0,0]
[{"$f":"мощность!$AA$8","v":"05.01.2026"},16,{"$f":"мощность!R8","v":0},{"$f":"Нерег.цена!C170","v":2485.9299999999998},2485.9299999999998,0,0]
[{"$f":"мощность!$AA$8","v":"05.01.2026"},17,{"$f":"мощность!S8","v":0},{"$f":"Нерег.цена!C171","v":2509.59},2509.59,0,0]
[{"$f":"мощность!$AA$8","v":"05.01.2026"},18,{"$f":"мощность!T8","v":0},{"$f":"Нерег.цена!C172","v":2490.69},2490.69,0,0]
[{"$f":"мощность!$AA$8","v":"05.01.2026"},19,{"$f":"мощность!U8","v":0},{"$f":"Нерег.цена!C173","v":2452.42},2452.42,0,0]
[{"$f":"мощность!$AA$8","v":"05.01.2026"},20,{"$f":"мощность!V8","v":0},{"$f":"Нерег.цена!C174","v":2430.09},2430.09,0,0]
[{"$f":"мощность!$AA$8","v":"05.01.2026"},21,{"$f":"мощность!W8","v":0},{"$f":"Нерег.цена!C175","v":2351.77},2351.77,0,0]
[{"$f":"мощность!$AA$8","v":"05.01.2026"},22,{"$f":"мощность!X8","v":0},{"$f":"Нерег.цена!C176","v":2162.23},2162.23,0,0]
[{"$f":"мощность!$AA$8","v":"05.01.2026"},23,{"$f":"мощность!Y8","v":0},{"$f":"Нерег.цена!C177","v":1984.39},1984.39,0,0]
[{"$f":"мощность!$AA$9","v":"06.01.2026"},0,{"$f":"мощность!B9","v":0},{"$f":"Нерег.цена!C178","v":1945.21},1945.21,0,0]
[{"$f":"мощность!$AA$9","v":"06.01.2026"},1,{"$f":"мощность!C9","v":0},{"$f":"Нерег.цена!C179","v":1689.22},1689.22,0,0]
[{"$f":"мощность!$AA$9","v":"06.01.2026"},2,{"$f":"мощность!D9","v":0},{"$f":"Нерег.цена!C180","v":1595.09},1595.09,0,0]
[{"$f":"мощность!$AA$9","v":"06.01.2026"},3,{"$f":"мощность!E9","v":0},{"$f":"Нерег.цена!C181","v":1568.07},1568.07,0,0]
[{"$f":"мощность!$AA$9","v":"06.01.2026"},4,{"$f":"мощность!F9","v":0},{"$f":"Нерег.цена!C182","v":1580.63},1580.63,0,0]
[{"$f":"мощность!$AA$9","v":"06.01.2026"},5,{"$f":"мощность!G9","v":0},{"$f":"Нерег.цена!C183","v":1659.99},1659.99,0,0]
[{"$f":"мощность!$AA$9","v":"06.01.2026"},6,{"$f":"мощность!H9","v":0},{"$f":"Нерег.цена!C184","v":1836.89},1836.89,0,0]
[{"$f":"мощность!$AA$9","v":"06.01.2026"},7,{"$f":"мощность!I9","v":0},{"$f":"Нерег.цена!C185","v":2038.04},2038.04,0,0]
[{"$f":"мощность!$AA$9","v":"06.01.2026"},8,{"$f":"мощность!J9","v":0},{"$f":"Нерег.цена!C186","v":2296.23},2296.23,0,0]
[{"$f":"мощность!$AA$9","v":"06.01.2026"},9,{"$f":"мощность!K9","v":0},{"$f":"Нерег.цена!C187","v":2470.02},{"$f":"1*D131","v":2470.02},{"$f":"ROUND(C131*D131/1000,2)","v":0},{"$f":"ROUND(C131*E131/1000,2)","v":0}]
[{"$f":"мощность!$AA$9","v":"06.01.2026"},10,{"$f":"мощность!L9","v":0},{"$f":"Нерег.цена!C188","v":2544.39},2544.39,0,0]
[{"$f":"мощность!$AA$9","v":"06.01.2026"},11,{"$f":"мощность!M9","v":0},{"$f":"Нерег.цена!C189","v":2572.39},2572.39,0,0]
[{"$f":"мощность!$AA$9","v":"06.01.2026"},12,{"$f":"мощность!N9","v":0},{"$f":"Нерег.цена!C190","v":2568.7600000000002},2568.7600000000002,0,0]
[{"$f":"мощность!$AA$9","v":"06.01.2026"},13,{"$f":"мощность!O9","v":0},{"$f":"Нерег.цена!C191","v":2571.0100000000002},2571.0100000000002,0,0]
[{"$f":"мощность!$AA$9","v":"06.01.2026"},14,{"$f":"мощность!P9","v":0},{"$f":"Нерег.цена!C192","v":2514.54},2514.54,0,0]
[{"$f":"мощность!$AA$9","v":"06.01.2026"},15,{"$f":"мощность!Q9","v":0},{"$f":"Нерег.цена!C193","v":2517.87},2517.87,0,0]
[{"$f":"мощность!$AA$9","v":"06.01.2026"},16,{"$f":"мощность!R9","v":0},{"$f":"Нерег.цена!C194","v":2560.4699999999998},2560.4699999999998,0,0]
[{"$f":"мощность!$AA$9","v":"06.01.2026"},17,{"$f":"мощность!S9","v":0},{"$f":"Нерег.цена!C195","v":2573.9},2573.9,0,0]
[{"$f":"мощность!$AA$9","v":"06.01.2026"},18,{"$f":"мощность!T9","v":0},{"$f":"Нерег.цена!C196","v":2584.1},2584.1,0,0]
[{"$f":"мощность!$AA$9","v":"06.01.2026"},19,{"$f":"мощность!U9","v":0},{"$f":"Нерег.цена!C197","v":2571.8000000000002},2571.8000000000002,0,0]
[{"$f":"мощность!$AA$9","v":"06.01.2026"},20,{"$f":"мощность!V9","v":0},{"$f":"Нерег.цена!C198","v":2505.4699999999998},2505.4699999999998,0,0]
[{"$f":"мощность!$AA$9","v":"06.01.2026"},21,{"$f":"мощность!W9","v":0},{"$f":"Нерег.цена!C199","v":2372.94},2372.94,0,0]
[{"$f":"мощность!$AA$9","v":"06.01.2026"},22,{"$f":"мощность!X9","v":0},{"$f":"Нерег.цена!C200","v":2148.23},2148.23,0,0]
[{"$f":"мощность!$AA$9","v":"06.01.2026"},23,{"$f":"мощность!Y9","v":0},{"$f":"Нерег.цена!C201","v":1979.72},1979.72,0,0]
[{"$f":"мощность!$AA$10","v":"07.01.2026"},0,{"$f":"мощность!B10","v":0},{"$f":"Нерег.цена!C202","v":1738.27},1738.27,0,0]
[{"$f":"мощность!$AA$10","v":"07.01.2026"},1,{"$f":"мощность!C10","v":0},{"$f":"Нерег.цена!C203","v":1604.1},1604.1,0,0]
[{"$f":"мощность!$AA$10","v":"07.01.2026"},2,{"$f":"мощность!D10","v":0},{"$f":"Нерег.цена!C204","v":1545.34},1545.34,0,0]
[{"$f":"мощность!$AA$10","v":"07.01.2026"},3,{"$f":"мощность!E10","v":0},{"$f":"Нерег.цена!C205","v":1491.6},1491.6,0,0]
[{"$f":"мощность!$AA$10","v":"07.01.2026"},4,{"$f":"мощность!F10","v":0},{"$f":"Нерег.цена!C206","v":1507},1507,0,0]
[{"$f":"мощность!$AA$10","v":"07.01.2026"},5,{"$f":"мощность!G10","v":0},{"$f":"Нерег.цена!C207","v":1544.62},1544.62,0,0]
[{"$f":"мощность!$AA$10","v":"07.01.2026"},6,{"$f":"мощность!H10","v":0},{"$f":"Нерег.цена!C208","v":1582.56},1582.56,0,0]
[{"$f":"мощность!$AA$10","v":"07.01.2026"},7,{"$f":"мощность!I10","v":0},{"$f":"Нерег.цена!C209","v":1829.13},1829.13,0,0]
[{"$f":"мощность!$AA$10","v":"07.01.2026"},8,{"$f":"мощность!J10","v":0},{"$f":"Нерег.цена!C210","v":2037.4},2037.4,0,0]
[{"$f":"мощность!$AA$10","v":"07.01.2026"},9,{"$f":"мощность!K10","v":0},{"$f":"Нерег.цена!C211","v":2239.33},2239.33,0,0]
[{"$f":"мощность!$AA$10","v":"07.01.2026"},10,{"$f":"мощность!L10","v":0},{"$f":"Нерег.цена!C212","v":2421.7399999999998},2421.7399999999998,0,0]
[{"$f":"мощность!$AA$10","v":"07.01.2026"},11,{"$f":"мощность!M10","v":0},{"$f":"Нерег.цена!C213","v":2459.4499999999998},2459.4499999999998,0,0]
[{"$f":"мощность!$AA$10","v":"07.01.2026"},12,{"$f":"мощность!N10","v":0},{"$f":"Нерег.цена!C214","v":2462.15},2462.15,0,0]
[{"$f":"мощность!$AA$10","v":"07.01.2026"},13,{"$f":"мощность!O10","v":0},{"$f":"Нерег.цена!C215","v":2465.9899999999998},2465.9899999999998,0,0]
[{"$f":"мощность!$AA$10","v":"07.01.2026"},14,{"$f":"мощность!P10","v":0},{"$f":"Нерег.цена!C216","v":2416.69},2416.69,0,0]
[{"$f":"мощность!$AA$10","v":"07.01.2026"},15,{"$f":"мощность!Q10","v":0},{"$f":"Нерег.цена!C217","v":2435.58},2435.58,0,0]
[{"$f":"мощность!$AA$10","v":"07.01.2026"},16,{"$f":"мощность!R10","v":0},{"$f":"Нерег.цена!C218","v":2473.17},2473.17,0,0]
[{"$f":"мощность!$AA$10","v":"07.01.2026"},17,{"$f":"мощность!S10","v":0},{"$f":"Нерег.цена!C219","v":2506.09},2506.09,0,0]
[{"$f":"мощность!$AA$10","v":"07.01.2026"},18,{"$f":"мощность!T10","v":0},{"$f":"Нерег.цена!C220","v":2504.8000000000002},2504.8000000000002,0,0]
[{"$f":"мощность!$AA$10","v":"07.01.2026"},19,{"$f":"мощность!U10","v":0},{"$f":"Нерег.цена!C221","v":2521.42},2521.42,0,0]
[{"$f":"мощность!$AA$10","v":"07.01.2026"},20,{"$f":"мощность!V10","v":0},{"$f":"Нерег.цена!C222","v":2475.54},2475.54,0,0]
[{"$f":"мощность!$AA$10","v":"07.01.2026"},21,{"$f":"мощность!W10","v":0},{"$f":"Нерег.цена!C223","v":2341.16},2341.16,0,0]
[{"$f":"мощность!$AA$10","v":"07.01.2026"},22,{"$f":"мощность!X10","v":0},{"$f":"Нерег.цена!C224","v":2085.0700000000002},2085.0700000000002,0,0]
[{"$f":"мощность!$AA$10","v":"07.01.2026"},23,{"$f":"мощность!Y10","v":0},{"$f":"Нерег.цена!C225","v":1823.56},1823.56,0,0]
[{"$f":"мощность!$AA$11","v":"08.01.2026"},0,{"$f":"мощность!B11","v":0},{"$f":"Нерег.цена!C226","v":1631.95},1631.95,0,0]
[{"$f":"мощность!$AA$11","v":"08.01.2026"},1,{"$f":"мощность!C11","v":0},{"$f":"Нерег.цена!C227","v":1547.71},1547.71,0,0]
[{"$f":"мощность!$AA$11","v":"08.01.2026"},2,{"$f":"мощность!D11","v":0},{"$f":"Нерег.цена!C228","v":1502.3},1502.3,0,0]
[{"$f":"мощность!$AA$11","v":"08.01.2026"},3,{"$f":"мощность!E11","v":0},{"$f":"Нерег.цена!C229","v":1488.62},1488.62,0,0]
[{"$f":"мощность!$AA$11","v":"08.01.2026"},4,{"$f":"мощность!F11","v":0},{"$f":"Нерег.цена!C230","v":1539.45},1539.45,0,0]
[{"$f":"мощность!$AA$11","v":"08.01.2026"},5,{"$f":"мощность!G11","v":0},{"$f":"Нерег.цена!C231","v":1648.06},1648.06,0,0]
[{"$f":"мощность!$AA$11","v":"08.01.2026"},6,{"$f":"мощность!H11","v":0},{"$f":"Нерег.цена!C232","v":1924.83},1924.83,0,0]
[{"$f":"мощность!$AA$11","v":"08.01.2026"},7,{"$f":"мощность!I11","v":0},{"$f":"Нерег.цена!C233","v":2148.06},2148.06,0,0]
[{"$f":"мощность!$AA$11","v":"08.01.2026"},8,{"$f":"мощность!J11","v":0},{"$f":"Нерег.цена!C234","v":2456.88},2456.88,0,0]
[{"$f":"мощность!$AA$11","v":"08.01.2026"},9,{"$f":"мощность!K11","v":0},{"$f":"Нерег.цена!C235","v":2541.64},2541.64,0,0]
[{"$f":"мощность!$AA$11","v":"08.01.2026"},10,{"$f":"мощность!L11","v":0},{"$f":"Нерег.цена!C236","v":2570.7600000000002},2570.7600000000002,0,0]
[{"$f":"мощность!$AA$11","v":"08.01.2026"},11,{"$f":"мощность!M11","v":0},{"$f":"Нерег.цена!C237","v":2566.02},2566.02,0,0]
[{"$f":"мощность!$AA$11","v":"08.01.2026"},12,{"$f":"мощность!N11","v":0},{"$f":"Нерег.цена!C238","v":2547.71},2547.71,0,0]
[{"$f":"мощность!$AA$11","v":"08.01.2026"},13,{"$f":"мощность!O11","v":0},{"$f":"Нерег.цена!C239","v":2568.9},2568.9,0,0]
[{"$f":"мощность!$AA$11","v":"08.01.2026"},14,{"$f":"мощность!P11","v":0},{"$f":"Нерег.цена!C240","v":2494.66},2494.66,0,0]
[{"$f":"мощность!$AA$11","v":"08.01.2026"},15,{"$f":"мощность!Q11","v":0},{"$f":"Нерег.цена!C241","v":2496.96},2496.96,0,0]
[{"$f":"мощность!$AA$11","v":"08.01.2026"},16,{"$f":"мощность!R11","v":0},{"$f":"Нерег.цена!C242","v":2484.98},2484.98,0,0]
[{"$f":"мощность!$AA$11","v":"08.01.2026"},17,{"$f":"мощность!S11","v":0},{"$f":"Нерег.цена!C243","v":2485.38},2485.38,0,0]
[{"$f":"мощность!$AA$11","v":"08.01.2026"},18,{"$f":"мощность!T11","v":0},{"$f":"Нерег.цена!C244","v":2494.0500000000002},2494.0500000000002,0,0]
[{"$f":"мощность!$AA$11","v":"08.01.2026"},19,{"$f":"мощность!U11","v":0},{"$f":"Нерег.цена!C245","v":2493.75},2493.75,0,0]
[{"$f":"мощность!$AA$11","v":"08.01.2026"},20,{"$f":"мощность!V11","v":0},{"$f":"Нерег.цена!C246","v":2376.23},2376.23,0,0]
[{"$f":"мощность!$AA$11","v":"08.01.2026"},21,{"$f":"мощность!W11","v":0},{"$f":"Нерег.цена!C247","v":2152.2600000000002},2152.2600000000002,0,0]
[{"$f":"мощность!$AA$11","v":"08.01.2026"},22,{"$f":"мощность!X11","v":0},{"$f":"Нерег.цена!C248","v":1929.42},1929.42,0,0]
[{"$f":"мощность!$AA$11","v":"08.01.2026"},23,{"$f":"мощность!Y11","v":0},{"$f":"Нерег.цена!C249","v":1725.6},1725.6,0,0]
[{"$f":"мощность!$AA$12","v":"09.01.2026"},0,{"$f":"мощность!B12","v":0},{"$f":"Нерег.цена!C250","v":1658.76},1658.76,0,0]
[{"$f":"мощность!$AA$12","v":"09.01.2026"},1,{"$f":"мощность!C12","v":0},{"$f":"Нерег.цена!C251","v":1550.41},{"$f":"1*D195","v":1550.41},{"$f":"ROUND(C195*D195/1000,2)","v":0},{"$f":"ROUND(C195*E195/1000,2)","v":0}]
[{"$f":"мощность!$AA$12","v":"09.01.2026"},2,{"$f":"мощность!D12","v":0},{"$f":"Нерег.цена!C252","v":1535.71},1535.71,0,0]
[{"$f":"мощность!$AA$12","v":"09.01.2026"},3,{"$f":"мощность!E12","v":0},{"$f":"Нерег.цена!C253","v":1501.66},1501.66,0,0]
[{"$f":"мощность!$AA$12","v":"09.01.2026"},4,{"$f":"мощность!F12","v":0},{"$f":"Нерег.цена!C254","v":1542.11},1542.11,0,0]
[{"$f":"мощность!$AA$12","v":"09.01.2026"},5,{"$f":"мощность!G12","v":0},{"$f":"Нерег.цена!C255","v":1697.97},1697.97,0,0]
[{"$f":"мощность!$AA$12","v":"09.01.2026"},6,{"$f":"мощность!H12","v":0},{"$f":"Нерег.цена!C256","v":1863.9},1863.9,0,0]
[{"$f":"мощность!$AA$12","v":"09.01.2026"},7,{"$f":"мощность!I12","v":0},{"$f":"Нерег.цена!C257","v":2322.31},2322.31,0,0]
[{"$f":"мощность!$AA$12","v":"09.01.2026"},8,{"$f":"мощность!J12","v":0},{"$f":"Нерег.цена!C258","v":2502.89},2502.89,0,0]
[{"$f":"мощность!$AA$12","v":"09.01.2026"},9,{"$f":"мощность!K12","v":0},{"$f":"Нерег.цена!C259","v":2578.87},2578.87,0,0]
[{"$f":"мощность!$AA$12","v":"09.01.2026"},10,{"$f":"мощность!L12","v":0},{"$f":"Нерег.цена!C260","v":2595.5700000000002},2595.5700000000002,0,0]
[{"$f":"мощность!$AA$12","v":"09.01.2026"},11,{"$f":"мощность!M12","v":0},{"$f":"Нерег.цена!C261","v":2584.8000000000002},2584.8000000000002,0,0]
[{"$f":"мощность!$AA$12","v":"09.01.2026"},12,{"$f":"мощность!N12","v":0},{"$f":"Нерег.цена!C262","v":2561.92},2561.92,0,0]
[{"$f":"мощность!$AA$12","v":"09.01.2026"},13,{"$f":"мощность!O12","v":0},{"$f":"Нерег.цена!C263","v":2573.98},2573.98,0,0]
[{"$f":"мощность!$AA$12","v":"09.01.2026"},14,{"$f":"мощность!P12","v":0},{"$f":"Нерег.цена!C264","v":2547.56},2547.56,0,0]
[{"$f":"мощность!$AA$12","v":"09.01.2026"},15,{"$f":"мощность!Q12","v":0},{"$f":"Нерег.цена!C265","v":2503.11},2503.11,0,0]
[{"$f":"мощность!$AA$12","v":"09.01.2026"},16,{"$f":"мощность!R12","v":0},{"$f":"Нерег.цена!C266","v":2518.9699999999998},2518.9699999999998,0,0]
[{"$f":"мощность!$AA$12","v":"09.01.2026"},17,{"$f":"мощность!S12","v":0},{"$f":"Нерег.цена!C267","v":2525.98},2525.98,0,0]
[{"$f":"мощность!$AA$12","v":"09.01.2026"},18,{"$f":"мощность!T12","v":0},{"$f":"Нерег.цена!C268","v":2522.5100000000002},2522.5100000000002,0,0]
[{"$f":"мощность!$AA$12","v":"09.01.2026"},19,{"$f":"мощность!U12","v":0},{"$f":"Нерег.цена!C269","v":2524.48},2524.48,0,0]
[{"$f":"мощность!$AA$12","v":"09.01.2026"},20,{"$f":"мощность!V12","v":0},{"$f":"Нерег.цена!C270","v":2445.19},2445.19,0,0]
[{"$f":"мощность!$AA$12","v":"09.01.2026"},21,{"$f":"мощность!W12","v":0},{"$f":"Нерег.цена!C271","v":2252.85},2252.85,0,0]
[{"$f":"мощность!$AA$12","v":"09.01.2026"},22,{"$f":"мощность!X12","v":0},{"$f":"Нерег.цена!C272","v":1997.79},1997.79,0,0]
[{"$f":"мощность!$AA$12","v":"09.01.2026"},23,{"$f":"мощность!Y12","v":0},{"$f":"Нерег.цена!C273","v":1765.94},1765.94,0,0]
[{"$f":"мощность!$AA$13","v":"10.01.2026"},0,{"$f":"мощность!B13","v":0},{"$f":"Нерег.цена!C274","v":1542.68},1542.68,0,0]
[{"$f":"мощность!$AA$13","v":"10.01.2026"},1,{"$f":"мощность!C13","v":0},{"$f":"Нерег.цена!C275","v":1478.84},1478.84,0,0]
[{"$f":"мощность!$AA$13","v":"10.01.2026"},2,{"$f":"мощность!D13","v":0},{"$f":"Нерег.цена!C276","v":1453.38},1453.38,0,0]
[{"$f":"мощность!$AA$13","v":"10.01.2026"},3,{"$f":"мощность!E13","v":0},{"$f":"Нерег.цена!C277","v":1430.3},1430.3,0,0]
[{"$f":"мощность!$AA$13","v":"10.01.2026"},4,{"$f":"мощность!F13","v":0},{"$f":"Нерег.цена!C278","v":1464.47},1464.47,0,0]
[{"$f":"мощность!$AA$13","v":"10.01.2026"},5,{"$f":"мощность!G13","v":0},{"$f":"Нерег.цена!C279","v":1614.58},1614.58,0,0]
[{"$f":"мощность!$AA$13","v":"10.01.2026"},6,{"$f":"мощность!H13","v":0},{"$f":"Нерег.цена!C280","v":1815.16},1815.16,0,0]
[{"$f":"мощность!$AA$13","v":"10.01.2026"},7,{"$f":"мощность!I13","v":0},{"$f":"Нерег.цена!C281","v":2165.2800000000002},2165.2800000000002,0,0]
[{"$f":"мощность!$AA$13","v":"10.01.2026"},8,{"$f":"мощность!J13","v":0},{"$f":"Нерег.цена!C282","v":2383.06},2383.06,0,0]
[{"$f":"мощность!$AA$13","v":"10.01.2026"},9,{"$f":"мощность!K13","v":0},{"$f":"Нерег.цена!C283","v":2457},2457,0,0]
[{"$f":"мощность!$AA$13","v":"10.01.2026"},10,{"$f":"мощность!L13","v":0},{"$f":"Нерег.цена!C284","v":2463.4699999999998},2463.4699999999998,0,0]
[{"$f":"мощность!$AA$13","v":"10.01.2026"},11,{"$f":"мощность!M13","v":0},{"$f":"Нерег.цена!C285","v":2460.36},2460.36,0,0]
[{"$f":"мощность!$AA$13","v":"10.01.2026"},12,{"$f":"мощность!N13","v":0},{"$f":"Нерег.цена!C286","v":2449.73},2449.73,0,0]
[{"$f":"мощность!$AA$13","v":"10.01.2026"},13,{"$f":"мощность!O13","v":0},{"$f":"Нерег.цена!C287","v":2463.46},2463.46,0,0]
[{"$f":"мощность!$AA$13","v":"10.01.2026"},14,{"$f":"мощность!P13","v":0},{"$f":"Нерег.цена!C288","v":2439.88},2439.88,0,0]
[{"$f":"мощность!$AA$13","v":"10.01.2026"},15,{"$f":"мощность!Q13","v":0},{"$f":"Нерег.цена!C289","v":2434.5500000000002},2434.5500000000002,0,0]
[{"$f":"мощность!$AA$13","v":"10.01.2026"},16,{"$f":"мощность!R13","v":0},{"$f":"Нерег.цена!C290","v":2435.46},2435.46,0,0]
[{"$f":"мощность!$AA$13","v":"10.01.2026"},17,{"$f":"мощность!S13","v":0},{"$f":"Нерег.цена!C291","v":2430.35},2430.35,0,0]
[{"$f":"мощность!$AA$13","v":"10.01.2026"},18,{"$f":"мощность!T13","v":0},{"$f":"Нерег.цена!C292","v":2438.8200000000002},2438.8200000000002,0,0]
[{"$f":"мощность!$AA$13","v":"10.01.2026"},19,{"$f":"мощность!U13","v":0},{"$f":"Нерег.цена!C293","v":2450.6999999999998},2450.6999999999998,0,0]
[{"$f":"мощность!$AA$13","v":"10.01.2026"},20,{"$f":"мощность!V13","v":0},{"$f":"Нерег.цена!C294","v":2373},2373,0,0]
[{"$f":"мощность!$AA$13","v":"10.01.2026"},21,{"$f":"мощность!W13","v":0},{"$f":"Нерег.цена!C295","v":2168.35},2168.35,0,0]
[{"$f":"мощность!$AA$13","v":"10.01.2026"},22,{"$f":"мощность!X13","v":0},{"$f":"Нерег.цена!C296","v":1978.27},1978.27,0,0]
[{"$f":"мощность!$AA$13","v":"10.01.2026"},23,{"$f":"мощность!Y13","v":0},{"$f":"Нерег.цена!C297","v":1710.56},1710.56,0,0]
[{"$f":"мощность!$AA$14","v":"11.01.2026"},0,{"$f":"мощность!B14","v":0},{"$f":"Нерег.цена!C298","v":1651.3},1651.3,0,0]
[{"$f":"мощность!$AA$14","v":"11.01.2026"},1,{"$f":"мощность!C14","v":0},{"$f":"Нерег.цена!C299","v":1558.73},1558.73,0,0]
[{"$f":"мощность!$AA$14","v":"11.01.2026"},2,{"$f":"мощность!D14","v":0},{"$f":"Нерег.цена!C300","v":1528.36},1528.36,0,0]
[{"$f":"мощность!$AA$14","v":"11.01.2026"},3,{"$f":"мощность!E14","v":0},{"$f":"Нерег.цена!C301","v":1513.19},1513.19,0,0]
[{"$f":"мощность!$AA$14","v":"11.01.2026"},4,{"$f":"мощность!F14","v":0},{"$f":"Нерег.цена!C302","v":1562.98},1562.98,0,0]
[{"$f":"мощность!$AA$14","v":"11.01.2026"},5,{"$f":"мощность!G14","v":0},{"$f":"Нерег.цена!C303","v":1746.74},1746.74,0,0]
[{"$f":"мощность!$AA$14","v":"11.01.2026"},6,{"$f":"мощность!H14","v":0},{"$f":"Нерег.цена!C304","v":2022.18},2022.18,0,0]
[{"$f":"мощность!$AA$14","v":"11.01.2026"},7,{"$f":"мощность!I14","v":0},{"$f":"Нерег.цена!C305","v":2366.1999999999998},2366.1999999999998,0,0]
[{"$f":"мощность!$AA$14","v":"11.01.2026"},8,{"$f":"мощность!J14","v":0},{"$f":"Нерег.цена!C306","v":2534.4299999999998},2534.4299999999998,0,0]
[{"$f":"мощность!$AA$14","v":"11.01.2026"},9,{"$f":"мощность!K14","v":0},{"$f":"Нерег.цена!C307","v":2596.4699999999998},2596.4699999999998,0,0]
[{"$f":"мощность!$AA$14","v":"11.01.2026"},10,{"$f":"мощность!L14","v":0},{"$f":"Нерег.цена!C308","v":2624.7},2624.7,0,0]
[{"$f":"мощность!$AA$14","v":"11.01.2026"},11,{"$f":"мощность!M14","v":0},{"$f":"Нерег.цена!C309","v":2616.73},2616.73,0,0]
[{"$f":"мощность!$AA$14","v":"11.01.2026"},12,{"$f":"мощность!N14","v":0},{"$f":"Нерег.цена!C310","v":2598.11},2598.11,0,0]
[{"$f":"мощность!$AA$14","v":"11.01.2026"},13,{"$f":"мощность!O14","v":0},{"$f":"Нерег.цена!C311","v":2620.17},2620.17,0,0]
[{"$f":"мощность!$AA$14","v":"11.01.2026"},14,{"$f":"мощность!P14","v":0},{"$f":"Нерег.цена!C312","v":2586.5700000000002},2586.5700000000002,0,0]
[{"$f":"мощность!$AA$14","v":"11.01.2026"},15,{"$f":"мощность!Q14","v":0},{"$f":"Нерег.цена!C313","v":2565.2199999999998},2565.2199999999998,0,0]
[{"$f":"мощность!$AA$14","v":"11.01.2026"},16,{"$f":"мощность!R14","v":0},{"$f":"Нерег.цена!C314","v":2567.15},2567.15,0,0]
[{"$f":"мощность!$AA$14","v":"11.01.2026"},17,{"$f":"мощность!S14","v":0},{"$f":"Нерег.цена!C315","v":2561.67},{"$f":"1*D259","v":2561.67},{"$f":"ROUND(C259*D259/1000,2)","v":0},{"$f":"ROUND(C259*E259/1000,2)","v":0}]
[{"$f":"мощность!$AA$14","v":"11.01.2026"},18,{"$f":"мощность!T14","v":0},{"$f":"Нерег.цена!C316","v":2568.41},2568.41,0,0]
[{"$f":"мощность!$AA$14","v":"11.01.2026"},19,{"$f":"мощность!U14","v":0},{"$f":"Нерег.цена!C317","v":2570.9299999999998},2570.9299999999998,0,0]
[{"$f":"мощность!$AA$14","v":"11.01.2026"},20,{"$f":"мощность!V14","v":0},{"$f":"Нерег.цена!C318","v":2506.42},2506.42,0,0]
[{"$f":"мощность!$AA$14","v":"11.01.2026"},21,{"$f":"мощность!W14","v":0},{"$f":"Нерег.цена!C319","v":2351.1},2351.1,0,0]
[{"$f":"мощность!$AA$14","v":"11.01.2026"},22,{"$f":"мощность!X14","v":0},{"$f":"Нерег.цена!C320","v":2106.2800000000002},2106.2800000000002,0,0]
[{"$f":"мощность!$AA$14","v":"11.01.2026"},23,{"$f":"мощность!Y14","v":0},{"$f":"Нерег.цена!C321","v":1881.53},1881.53,0,0]
[{"$f":"мощность!$AA$15","v":"12.01.2026"},0,{"$f":"мощность!B15","v":0},{"$f":"Нерег.цена!C322","v":1646.26},1646.26,0,0]
[{"$f":"мощность!$AA$15","v":"12.01.2026"},1,{"$f":"мощность!C15","v":0},{"$f":"Нерег.цена!C323","v":1530.42},1530.42,0,0]
[{"$f":"мощность!$AA$15","v":"12.01.2026"},2,{"$f":"мощность!D15","v":0},{"$f":"Нерег.цена!C324","v":1506.69},1506.69,0,0]
[{"$f":"мощность!$AA$15","v":"12.01.2026"},3,{"$f":"мощность!E15","v":0},{"$f":"Нерег.цена!C325","v":1490.36},1490.36,0,0]
[{"$f":"мощность!$AA$15","v":"12.01.2026"},4,{"$f":"мощность!F15","v":0},{"$f":"Нерег.цена!C326","v":1530.3},1530.3,0,0]
[{"$f":"мощность!$AA$15","v":"12.01.2026"},5,{"$f":"мощность!G15","v":0},{"$f":"Нерег.цена!C327","v":1657.75},1657.75,0,0]
[{"$f":"мощность!$AA$15","v":"12.01.2026"},6,{"$f":"мощность!H15","v":0},{"$f":"Нерег.цена!C328","v":1819.7},1819.7,0,0]
[{"$f":"мощность!$AA$15","v":"12.01.2026"},7,{"$f":"мощность!I15","v":0},{"$f":"Нерег.цена!C329","v":2174.2199999999998},2174.2199999999998,0,0]
[{"$f":"мощность!$AA$15","v":"12.01.2026"},8,{"$f":"мощность!J15","v":0},{"$f":"Нерег.цена!C330","v":2442.2800000000002},2442.2800000000002,0,0]
[{"$f":"мощность!$AA$15","v":"12.01.2026"},9,{"$f":"мощность!K15","v":0},{"$f":"Нерег.цена!C331","v":2506.6999999999998},2506.6999999999998,0,0]
[{"$f":"мощность!$AA$15","v":"12.01.2026"},10,{"$f":"мощность!L15","v":0},{"$f":"Нерег.цена!C332","v":2529.89},2529.89,0,0]
[{"$f":"мощность!$AA$15","v":"12.01.2026"},11,{"$f":"мощность!M15","v":0},{"$f":"Нерег.цена!C333","v":2522.98},2522.98,0,0]
[{"$f":"мощность!$AA$15","v":"12.01.2026"},12,{"$f":"мощность!N15","v":0},{"$f":"Нерег.цена!C334","v":2496.87},2496.87,0,0]
[{"$f":"мощность!$AA$15","v":"12.01.2026"},13,{"$f":"мощность!O15","v":0},{"$f":"Нерег.цена!C335","v":2515.34},2515.34,0,0]
[{"$f":"мощность!$AA$15","v":"12.01.2026"},14,{"$f":"мощность!P15","v":0},{"$f":"Нерег.цена!C336","v":2487.54},2487.54,0,0]
[{"$f":"мощность!$AA$15","v":"12.01.2026"},15,{"$f":"мощность!Q15","v":0},{"$f":"Нерег.цена!C337","v":2451.94},2451.94,0,0]
[{"$f":"мощность!$AA$15","v":"12.01.2026"},16,{"$f":"мощность!R15","v":0},{"$f":"Нерег.цена!C338","v":2467.54},2467.54,0,0]
[{"$f":"мощность!$AA$15","v":"12.01.2026"},17,{"$f":"мощность!S15","v":0},{"$f":"Нерег.цена!C339","v":2470.12},2470.12,0,0]
[{"$f":"мощность!$AA$15","v":"12.01.2026"},18,{"$f":"мощность!T15","v":0},{"$f":"Нерег.цена!C340","v":2464.71},2464.71,0,0]
[{"$f":"мощность!$AA$15","v":"12.01.2026"},19,{"$f":"мощность!U15","v":0},{"$f":"Нерег.цена!C341","v":2466.87},2466.87,0,0]
[{"$f":"мощность!$AA$15","v":"12.01.2026"},20,{"$f":"мощность!V15","v":0},{"$f":"Нерег.цена!C342","v":2349.08},2349.08,0,0]
[{"$f":"мощность!$AA$15","v":"12.01.2026"},21,{"$f":"мощность!W15","v":0},{"$f":"Нерег.цена!C343","v":2204.35},2204.35,0,0]
[{"$f":"мощность!$AA$15","v":"12.01.2026"},22,{"$f":"мощность!X15","v":0},{"$f":"Нерег.цена!C344","v":1908.74},1908.74,0,0]
[{"$f":"мощность!$AA$15","v":"12.01.2026"},23,{"$f":"мощность!Y15","v":0},{"$f":"Нерег.цена!C345","v":1791.33},1791.33,0,0]
[{"$f":"мощность!$AA$16","v":"13.01.2026"},0,{"$f":"мощность!B16","v":0},{"$f":"Нерег.цена!C346","v":1810.45},1810.45,0,0]
[{"$f":"мощность!$AA$16","v":"13.01.2026"},1,{"$f":"мощность!C16","v":0},{"$f":"Нерег.цена!C347","v":1588.05},1588.05,0,0]
[{"$f":"мощность!$AA$16","v":"13.01.2026"},2,{"$f":"мощность!D16","v":0},{"$f":"Нерег.цена!C348","v":1484.52},1484.52,0,0]
[{"$f":"мощность!$AA$16","v":"13.01.2026"},3,{"$f":"мощность!E16","v":0},{"$f":"Нерег.цена!C349","v":1452.64},1452.64,0,0]
[{"$f":"мощность!$AA$16","v":"13.01.2026"},4,{"$f":"мощность!F16","v":0},{"$f":"Нерег.цена!C350","v":1450.83},1450.83,0,0]
[{"$f":"мощность!$AA$16","v":"13.01.2026"},5,{"$f":"мощность!G16","v":0},{"$f":"Нерег.цена!C351","v":1518.47},1518.47,0,0]
[{"$f":"мощность!$AA$16","v":"13.01.2026"},6,{"$f":"мощность!H16","v":0},{"$f":"Нерег.цена!C352","v":1612.98},1612.98,0,0]
[{"$f":"мощность!$AA$16","v":"13.01.2026"},7,{"$f":"мощность!I16","v":0},{"$f":"Нерег.цена!C353","v":1850.45},1850.45,0,0]
[{"$f":"мощность!$AA$16","v":"13.01.2026"},8,{"$f":"мощность!J16","v":0},{"$f":"Нерег.цена!C354","v":2133.58},2133.58,0,0]
[{"$f":"мощность!$AA$16","v":"13.01.2026"},9,{"$f":"мощность!K16","v":0},{"$f":"Нерег.цена!C355","v":2173.41},2173.41,0,0]
[{"$f":"мощность!$AA$16","v":"13.01.2026"},10,{"$f":"мощность!L16","v":0},{"$f":"Нерег.цена!C356","v":2220.7600000000002},2220.7600000000002,0,0]
[{"$f":"мощность!$AA$16","v":"13.01.2026"},11,{"$f":"мощность!M16","v":0},{"$f":"Нерег.цена!C357","v":2238.7399999999998},2238.7399999999998,0,0]
[{"$f":"мощность!$AA$16","v":"13.01.2026"},12,{"$f":"мощность!N16","v":0},{"$f":"Нерег.цена!C358","v":2274.7800000000002},2274.7800000000002,0,0]
[{"$f":"мощность!$AA$16","v":"13.01.2026"},13,{"$f":"мощность!O16","v":0},{"$f":"Нерег.цена!C359","v":2326.54},2326.54,0,0]
[{"$f":"мощность!$AA$16","v":"13.01.2026"},14,{"$f":"мощность!P16","v":0},{"$f":"Нерег.цена!C360","v":2277.16},2277.16,0,0]
[{"$f":"мощность!$AA$16","v":"13.01.2026"},15,{"$f":"мощность!Q16","v":0},{"$f":"Нерег.цена!C361","v":2221.52},2221.52,0,0]
[{"$f":"мощность!$AA$16","v":"13.01.2026"},16,{"$f":"мощность!R16","v":0},{"$f":"Нерег.цена!C362","v":2242.9},2242.9,0,0]
[{"$f":"мощность!$AA$16","v":"13.01.2026"},17,{"$f":"мощность!S16","v":0},{"$f":"Нерег.цена!C363","v":2253.46},2253.46,0,0]
[{"$f":"мощность!$AA$16","v":"13.01.2026"},18,{"$f":"мощность!T16","v":0},{"$f":"Нерег.цена!C364","v":2245.08},2245.08,0,0]
[{"$f":"мощность!$AA$16","v":"13.01.2026"},19,{"$f":"мощность!U16","v":0},{"$f":"Нерег.цена!C365","v":2310.2600000000002},2310.2600000000002,0,0]
[{"$f":"мощность!$AA$16","v":"13.01.2026"},20,{"$f":"мощность!V16","v":0},{"$f":"Нерег.цена!C366","v":2234.3200000000002},2234.3200000000002,0,0]
[{"$f":"мощность!$AA$16","v":"13.01.2026"},21,{"$f":"мощность!W16","v":0},{"$f":"Нерег.цена!C367","v":2157.62},2157.62,0,0]
[{"$f":"мощность!$AA$16","v":"13.01.2026"},22,{"$f":"мощность!X16","v":0},{"$f":"Нерег.цена!C368","v":2073.64},2073.64,0,0]
[{"$f":"мощность!$AA$16","v":"13.01.2026"},23,{"$f":"мощность!Y16","v":0},{"$f":"Нерег.цена!C369","v":1847.61},1847.61,0,0]
[{"$f":"мощность!$AA$17","v":"14.01.2026"},0,{"$f":"мощность!B17","v":0},{"$f":"Нерег.цена!C370","v":1652.9},1652.9,0,0]
[{"$f":"мощность!$AA$17","v":"14.01.2026"},1,{"$f":"мощность!C17","v":0},{"$f":"Нерег.цена!C371","v":1497.44},1497.44,0,0]
[{"$f":"мощность!$AA$17","v":"14.01.2026"},2,{"$f":"мощность!D17","v":0},{"$f":"Нерег.цена!C372","v":1421.98},1421.98,0,0]
[{"$f":"мощность!$AA$17","v":"14.01.2026"},3,{"$f":"мощность!E17","v":0},{"$f":"Нерег.цена!C373","v":1401.15},1401.15,0,0]
[{"$f":"мощность!$AA$17","v":"14.01.2026"},4,{"$f":"мощность!F17","v":0},{"$f":"Нерег.цена!C374","v":1413.89},1413.89,0,0]
[{"$f":"мощность!$AA$17","v":"14.01.2026"},5,{"$f":"мощность!G17","v":0},{"$f":"Нерег.цена!C375","v":1449.96},1449.96,0,0]
[{"$f":"мощность!$AA$17","v":"14.01.2026"},6,{"$f":"мощность!H17","v":0},{"$f":"Нерег.цена!C376","v":1541.88},1541.88,0,0]
[{"$f":"мощность!$AA$17","v":"14.01.2026"},7,{"$f":"мощность!I17","v":0},{"$f":"Нерег.цена!C377","v":1741.84},1741.84,0,0]
[{"$f":"мощность!$AA$17","v":"14.01.2026"},8,{"$f":"мощность!J17","v":0},{"$f":"Нерег.цена!C378","v":1994.65},1994.65,0,0]
[{"$f":"мощность!$AA$17","v":"14.01.2026"},9,{"$f":"мощность!K17","v":0},{"$f":"Нерег.цена!C379","v":2137.7800000000002},{"$f":"1*D323","v":2137.7800000000002},{"$f":"ROUND(C323*D323/1000,2)","v":0},{"$f":"ROUND(C323*E323/1000,2)","v":0}]
[{"$f":"мощность!$AA$17","v":"14.01.2026"},10,{"$f":"мощность!L17","v":0},{"$f":"Нерег.цена!C380","v":2170.94},2170.94,0,0]
[{"$f":"мощность!$AA$17","v":"14.01.2026"},11,{"$f":"мощность!M17","v":0},{"$f":"Нерег.цена!C381","v":2194.75},2194.75,0,0]
[{"$f":"мощность!$AA$17","v":"14.01.2026"},12,{"$f":"мощность!N17","v":0},{"$f":"Нерег.цена!C382","v":2195.65},2195.65,0,0]
[{"$f":"мощность!$AA$17","v":"14.01.2026"},13,{"$f":"мощность!O17","v":0},{"$f":"Нерег.цена!C383","v":2199.73},2199.73,0,0]
[{"$f":"мощность!$AA$17","v":"14.01.2026"},14,{"$f":"мощность!P17","v":0},{"$f":"Нерег.цена!C384","v":2193.8200000000002},2193.8200000000002,0,0]
[{"$f":"мощность!$AA$17","v":"14.01.2026"},15,{"$f":"мощность!Q17","v":0},{"$f":"Нерег.цена!C385","v":2220.5500000000002},2220.5500000000002,0,0]
[{"$f":"мощность!$AA$17","v":"14.01.2026"},16,{"$f":"мощность!R17","v":0},{"$f":"Нерег.цена!C386","v":2266.98},2266.98,0,0]
[{"$f":"мощность!$AA$17","v":"14.01.2026"},17,{"$f":"мощность!S17","v":0},{"$f":"Нерег.цена!C387","v":2306.12},2306.12,0,0]
[{"$f":"мощность!$AA$17","v":"14.01.2026"},18,{"$f":"мощность!T17","v":0},{"$f":"Нерег.цена!C388","v":2301.21},2301.21,0,0]
[{"$f":"мощность!$AA$17","v":"14.01.2026"},19,{"$f":"мощность!U17","v":0},{"$f":"Нерег.цена!C389","v":2266.64},2266.64,0,0]
[{"$f":"мощность!$AA$17","v":"14.01.2026"},20,{"$f":"мощность!V17","v":0},{"$f":"Нерег.цена!C390","v":2218.63},2218.63,0,0]
[{"$f":"мощность!$AA$17","v":"14.01.2026"},21,{"$f":"мощность!W17","v":0},{"$f":"Нерег.цена!C391","v":2175.21},2175.21,0,0]
[{"$f":"мощность!$AA$17","v":"14.01.2026"},22,{"$f":"мощность!X17","v":0},{"$f":"Нерег.цена!C392","v":2058.7600000000002},2058.7600000000002,0,0]
[{"$f":"мощность!$AA$17","v":"14.01.2026"},23,{"$f":"мощность!Y17","v":0},{"$f":"Нерег.цена!C393","v":1845.18},1845.18,0,0]
[{"$f":"мощность!$AA$18","v":"15.01.2026"},0,{"$f":"мощность!B18","v":0},{"$f":"Нерег.цена!C394","v":1565.08},1565.08,0,0]
[{"$f":"мощность!$AA$18","v":"15.01.2026"},1,{"$f":"мощность!C18","v":0},{"$f":"Нерег.цена!C395","v":1463.02},1463.02,0,0]
[{"$f":"мощность!$AA$18","v":"15.01.2026"},2,{"$f":"мощность!D18","v":0},{"$f":"Нерег.цена!C396","v":1422.5},1422.5,0,0]
[{"$f":"мощность!$AA$18","v":"15.01.2026"},3,{"$f":"мощность!E18","v":0},{"$f":"Нерег.цена!C397","v":1389.82},1389.82,0,0]
[{"$f":"мощность!$AA$18","v":"15.01.2026"},4,{"$f":"мощность!F18","v":0},{"$f":"Нерег.цена!C398","v":1429.03},1429.03,0,0]
[{"$f":"мощность!$AA$18","v":"15.01.2026"},5,{"$f":"мощность!G18","v":0},{"$f":"Нерег.цена!C399","v":1586.86},1586.86,0,0]
[{"$f":"мощность!$AA$18","v":"15.01.2026"},6,{"$f":"мощность!H18","v":0},{"$f":"Нерег.цена!C400","v":1771.62},1771.62,0,0]
[{"$f":"мощность!$AA$18","v":"15.01.2026"},7,{"$f":"мощность!I18","v":0},{"$f":"Нерег.цена!C401","v":2068.06},2068.06,0,0]
[{"$f":"мощность!$AA$18","v":"15.01.2026"},8,{"$f":"мощность!J18","v":0},{"$f":"Нерег.цена!C402","v":2260.48},2260.48,0,0]
[{"$f":"мощность!$AA$18","v":"15.01.2026"},9,{"$f":"мощность!K18","v":0},{"$f":"Нерег.цена!C403","v":2345.15},2345.15,0,0]
[{"$f":"мощность!$AA$18","v":"15.01.2026"},10,{"$f":"мощность!L18","v":0},{"$f":"Нерег.цена!C404","v":2386.6799999999998},2386.6799999999998,0,0]
[{"$f":"мощность!$AA$18","v":"15.01.2026"},11,{"$f":"мощность!M18","v":0},{"$f":"Нерег.цена!C405","v":2392.71},2392.71,0,0]
[{"$f":"мощность!$AA$18","v":"15.01.2026"},12,{"$f":"мощность!N18","v":0},{"$f":"Нерег.цена!C406","v":2363.58},2363.58,0,0]
[{"$f":"мощность!$AA$18","v":"15.01.2026"},13,{"$f":"мощность!O18","v":0},{"$f":"Нерег.цена!C407","v":2382.4299999999998},2382.4299999999998,0,0]
[{"$f":"мощность!$AA$18","v":"15.01.2026"},14,{"$f":"мощность!P18","v":0},{"$f":"Нерег.цена!C408","v":2341.98},2341.98,0,0]
[{"$f":"мощность!$AA$18","v":"15.01.2026"},15,{"$f":"мощность!Q18","v":0},{"$f":"Нерег.цена!C409","v":2282.6799999999998},2282.6799999999998,0,0]
[{"$f":"мощность!$AA$18","v":"15.01.2026"},16,{"$f":"мощность!R18","v":0},{"$f":"Нерег.цена!C410","v":2261.7199999999998},2261.7199999999998,0,0]
[{"$f":"мощность!$AA$18","v":"15.01.2026"},17,{"$f":"мощность!S18","v":0},{"$f":"Нерег.цена!C411","v":2255.86},2255.86,0,0]
[{"$f":"мощность!$AA$18","v":"15.01.2026"},18,{"$f":"мощность!T18","v":0},{"$f":"Нерег.цена!C412","v":2281.1999999999998},2281.1999999999998,0,0]
[{"$f":"мощность!$AA$18","v":"15.01.2026"},19,{"$f":"мощность!U18","v":0},{"$f":"Нерег.цена!C413","v":2267},2267,0,0]
[{"$f":"мощность!$AA$18","v":"15.01.2026"},20,{"$f":"мощность!V18","v":0},{"$f":"Нерег.цена!C414","v":2166.92},2166.92,0,0]
[{"$f":"мощность!$AA$18","v":"15.01.2026"},21,{"$f":"мощность!W18","v":0},{"$f":"Нерег.цена!C415","v":2061.06},2061.06,0,0]
[{"$f":"мощность!$AA$18","v":"15.01.2026"},22,{"$f":"мощность!X18","v":0},{"$f":"Нерег.цена!C416","v":1880.25},1880.25,0,0]
[{"$f":"мощность!$AA$18","v":"15.01.2026"},23,{"$f":"мощность!Y18","v":0},{"$f":"Нерег.цена!C417","v":1616.36},1616.36,0,0]
[{"$f":"мощность!$AA$19","v":"16.01.2026"},0,{"$f":"мощность!B19","v":0},{"$f":"Нерег.цена!C418","v":905.6},905.6,0,0]
[{"$f":"мощность!$AA$19","v":"16.01.2026"},1,{"$f":"мощность!C19","v":0},{"$f":"Нерег.цена!C419","v":776.65},776.65,0,0]
[{"$f":"мощность!$AA$19","v":"16.01.2026"},2,{"$f":"мощность!D19","v":0},{"$f":"Нерег.цена!C420","v":737.87},737.87,0,0]
[{"$f":"мощность!$AA$19","v":"16.01.2026"},3,{"$f":"мощность!E19","v":0},{"$f":"Нерег.цена!C421","v":736.27},736.27,0,0]
[{"$f":"мощность!$AA$19","v":"16.01.2026"},4,{"$f":"мощность!F19","v":0},{"$f":"Нерег.цена!C422","v":768.41},768.41,0,0]
[{"$f":"мощность!$AA$19","v":"16.01.2026"},5,{"$f":"мощность!G19","v":0},{"$f":"Нерег.цена!C423","v":962.7},962.7,0,0]
[{"$f":"мощность!$AA$19","v":"16.01.2026"},6,{"$f":"мощность!H19","v":0},{"$f":"Нерег.цена!C424","v":1443.44},1443.44,0,0]
[{"$f":"мощность!$AA$19","v":"16.01.2026"},7,{"$f":"мощность!I19","v":0},{"$f":"Нерег.цена!C425","v":2150.62},2150.62,0,0]
[{"$f":"мощность!$AA$19","v":"16.01.2026"},8,{"$f":"мощность!J19","v":0},{"$f":"Нерег.цена!C426","v":2399.86},2399.86,0,0]
[{"$f":"мощность!$AA$19","v":"16.01.2026"},9,{"$f":"мощность!K19","v":0},{"$f":"Нерег.цена!C427","v":2512.2800000000002},2512.2800000000002,0,0]
[{"$f":"мощность!$AA$19","v":"16.01.2026"},10,{"$f":"мощность!L19","v":0},{"$f":"Нерег.цена!C428","v":2539.14},2539.14,0,0]
[{"$f":"мощность!$AA$19","v":"16.01.2026"},11,{"$f":"мощность!M19","v":0},{"$f":"Нерег.цена!C429","v":2530.11},2530.11,0,0]
[{"$f":"мощность!$AA$19","v":"16.01.2026"},12,{"$f":"мощность!N19","v":0},{"$f":"Нерег.цена!C430","v":2474.4499999999998},2474.4499999999998,0,0]
[{"$f":"мощность!$AA$19","v":"16.01.2026"},13,{"$f":"мощность!O19","v":0},{"$f":"Нерег.цена!C431","v":2483.67},2483.67,0,0]
[{"$f":"мощность!$AA$19","v":"16.01.2026"},14,{"$f":"мощность!P19","v":0},{"$f":"Нерег.цена!C432","v":2469.4499999999998},2469.4499999999998,0,0]
[{"$f":"мощность!$AA$19","v":"16.01.2026"},15,{"$f":"мощность!Q19","v":0},{"$f":"Нерег.цена!C433","v":2430.52},2430.52,0,0]
[{"$f":"мощность!$AA$19","v":"16.01.2026"},16,{"$f":"мощность!R19","v":0},{"$f":"Нерег.цена!C434","v":2451.58},2451.58,0,0]
[{"$f":"мощность!$AA$19","v":"16.01.2026"},17,{"$f":"мощность!S19","v":0},{"$f":"Нерег.цена!C435","v":2435.11},2435.11,0,0]
[{"$f":"мощность!$AA$19","v":"16.01.2026"},18,{"$f":"мощность!T19","v":0},{"$f":"Нерег.цена!C436","v":2435.21},2435.21,0,0]
[{"$f":"мощность!$AA$19","v":"16.01.2026"},19,{"$f":"мощность!U19","v":0},{"$f":"Нерег.цена!C437","v":2405.08},2405.08,0,0]
[{"$f":"мощность!$AA$19","v":"16.01.2026"},20,{"$f":"мощность!V19","v":0},{"$f":"Нерег.цена!C438","v":2178.59},2178.59,0,0]
[{"$f":"мощность!$AA$19","v":"16.01.2026"},21,{"$f":"мощность!W19","v":0},{"$f":"Нерег.цена!C439","v":2158.09},2158.09,0,0]
[{"$f":"мощность!$AA$19","v":"16.01.2026"},22,{"$f":"мощность!X19","v":0},{"$f":"Нерег.цена!C440","v":2019.46},2019.46,0,0]
[{"$f":"мощность!$AA$19","v":"16.01.2026"},23,{"$f":"мощность!Y19","v":0},{"$f":"Нерег.цена!C441","v":1710.52},1710.52,0,0]
[{"$f":"мощность!$AA$20","v":"17.01.2026"},0,{"$f":"мощность!B20","v":0},{"$f":"Нерег.цена!C442","v":1704.33},1704.33,0,0]
[{"$f":"мощность!$AA$20","v":"17.01.2026"},1,{"$f":"мощность!C20","v":0},{"$f":"Нерег.цена!C443","v":1565.13},{"$f":"1*D387","v":1565.13},{"$f":"ROUND(C387*D387/1000,2)","v":0},{"$f":"ROUND(C387*E387/1000,2)","v":0}]
[{"$f":"мощность!$AA$20","v":"17.01.2026"},2,{"$f":"мощность!D20","v":0},{"$f":"Нерег.цена!C444","v":1514.06},1514.06,0,0]
[{"$f":"мощность!$AA$20","v":"17.01.2026"},3,{"$f":"мощность!E20","v":0},{"$f":"Нерег.цена!C445","v":1501.94},1501.94,0,0]
[{"$f":"мощность!$AA$20","v":"17.01.2026"},4,{"$f":"мощность!F20","v":0},{"$f":"Нерег.цена!C446","v":1563.03},1563.03,0,0]
[{"$f":"мощность!$AA$20","v":"17.01.2026"},5,{"$f":"мощность!G20","v":0},{"$f":"Нерег.цена!C447","v":1788.65},1788.65,0,0]
[{"$f":"мощность!$AA$20","v":"17.01.2026"},6,{"$f":"мощность!H20","v":0},{"$f":"Нерег.цена!C448","v":1738.98},1738.98,0,0]
[{"$f":"мощность!$AA$20","v":"17.01.2026"},7,{"$f":"мощность!I20","v":0},{"$f":"Нерег.цена!C449","v":2161.84},2161.84,0,0]
[{"$f":"мощность!$AA$20","v":"17.01.2026"},8,{"$f":"мощность!J20","v":0},{"$f":"Нерег.цена!C450","v":2376.69},2376.69,0,0]
[{"$f":"мощность!$AA$20","v":"17.01.2026"},9,{"$f":"мощность!K20","v":0},{"$f":"Нерег.цена!C451","v":2451.36},2451.36,0,0]
[{"$f":"мощность!$AA$20","v":"17.01.2026"},10,{"$f":"мощность!L20","v":0},{"$f":"Нерег.цена!C452","v":2474.06},2474.06,0,0]
[{"$f":"мощность!$AA$20","v":"17.01.2026"},11,{"$f":"мощность!M20","v":0},{"$f":"Нерег.цена!C453","v":2479.14},2479.14,0,0]
[{"$f":"мощность!$AA$20","v":"17.01.2026"},12,{"$f":"мощность!N20","v":0},{"$f":"Нерег.цена!C454","v":2468.54},2468.54,0,0]
[{"$f":"мощность!$AA$20","v":"17.01.2026"},13,{"$f":"мощность!O20","v":0},{"$f":"Нерег.цена!C455","v":2472.83},2472.83,0,0]
[{"$f":"мощность!$AA$20","v":"17.01.2026"},14,{"$f":"мощность!P20","v":0},{"$f":"Нерег.цена!C456","v":2454.5100000000002},2454.5100000000002,0,0]
[{"$f":"мощность!$AA$20","v":"17.01.2026"},15,{"$f":"мощность!Q20","v":0},{"$f":"Нерег.цена!C457","v":2438.44},2438.44,0,0]
[{"$f":"мощность!$AA$20","v":"17.01.2026"},16,{"$f":"мощность!R20","v":0},{"$f":"Нерег.цена!C458","v":2449.4499999999998},2449.4499999999998,0,0]
[{"$f":"мощность!$AA$20","v":"17.01.2026"},17,{"$f":"мощность!S20","v":0},{"$f":"Нерег.цена!C459","v":2451.59},2451.59,0,0]
[{"$f":"мощность!$AA$20","v":"17.01.2026"},18,{"$f":"мощность!T20","v":0},{"$f":"Нерег.цена!C460","v":2457.69},2457.69,0,0]
[{"$f":"мощность!$AA$20","v":"17.01.2026"},19,{"$f":"мощность!U20","v":0},{"$f":"Нерег.цена!C461","v":2443.65},2443.65,0,0]
[{"$f":"мощность!$AA$20","v":"17.01.2026"},20,{"$f":"мощность!V20","v":0},{"$f":"Нерег.цена!C462","v":2336.2399999999998},2336.2399999999998,0,0]
[{"$f":"мощность!$AA$20","v":"17.01.2026"},21,{"$f":"мощность!W20","v":0},{"$f":"Нерег.цена!C463","v":2172.44},2172.44,0,0]
[{"$f":"мощность!$AA$20","v":"17.01.2026"},22,{"$f":"мощность!X20","v":0},{"$f":"Нерег.цена!C464","v":2126.83},2126.83,0,0]
[{"$f":"мощность!$AA$20","v":"17.01.2026"},23,{"$f":"мощность!Y20","v":0},{"$f":"Нерег.цена!C465","v":1759.86},1759.86,0,0]
[{"$f":"мощность!$AA$21","v":"18.01.2026"},0,{"$f":"мощность!B21","v":0},{"$f":"Нерег.цена!C466","v":1813.45},1813.45,0,0]
[{"$f":"мощность!$AA$21","v":"18.01.2026"},1,{"$f":"мощность!C21","v":0},{"$f":"Нерег.цена!C467","v":1663.19},1663.19,0,0]
[{"$f":"мощность!$AA$21","v":"18.01.2026"},2,{"$f":"мощность!D21","v":0},{"$f":"Нерег.цена!C468","v":1638.59},1638.59,0,0]
[{"$f":"мощность!$AA$21","v":"18.01.2026"},3,{"$f":"мощность!E21","v":0},{"$f":"Нерег.цена!C469","v":1599.26},1599.26,0,0]
[{"$f":"мощность!$AA$21","v":"18.01.2026"},4,{"$f":"мощность!F21","v":0},{"$f":"Нерег.цена!C470","v":1662.67},1662.67,0,0]
[{"$f":"мощность!$AA$21","v":"18.01.2026"},5,{"$f":"мощность!G21","v":0},{"$f":"Нерег.цена!C471","v":1856.86},1856.86,0,0]
[{"$f":"мощность!$AA$21","v":"18.01.2026"},6,{"$f":"мощность!H21","v":0},{"$f":"Нерег.цена!C472","v":1985.67},1985.67,0,0]
[{"$f":"мощность!$AA$21","v":"18.01.2026"},7,{"$f":"мощность!I21","v":0},{"$f":"Нерег.цена!C473","v":2196.9899999999998},2196.9899999999998,0,0]
[{"$f":"мощность!$AA$21","v":"18.01.2026"},8,{"$f":"мощность!J21","v":0},{"$f":"Нерег.цена!C474","v":2418.5300000000002},2418.5300000000002,0,0]
[{"$f":"мощность!$AA$21","v":"18.01.2026"},9,{"$f":"мощность!K21","v":0},{"$f":"Нерег.цена!C475","v":2509.31},2509.31,0,0]
[{"$f":"мощность!$AA$21","v":"18.01.2026"},10,{"$f":"мощность!L21","v":0},{"$f":"Нерег.цена!C476","v":2531.5},2531.5,0,0]
[{"$f":"мощность!$AA$21","v":"18.01.2026"},11,{"$f":"мощность!M21","v":0},{"$f":"Нерег.цена!C477","v":2530.58},2530.58,0,0]
[{"$f":"мощность!$AA$21","v":"18.01.2026"},12,{"$f":"мощность!N21","v":0},{"$f":"Нерег.цена!C478","v":2501.39},2501.39,0,0]
[{"$f":"мощность!$AA$21","v":"18.01.2026"},13,{"$f":"мощность!O21","v":0},{"$f":"Нерег.цена!C479","v":2520.11},2520.11,0,0]
[{"$f":"мощность!$AA$21","v":"18.01.2026"},14,{"$f":"мощность!P21","v":0},{"$f":"Нерег.цена!C480","v":2475.4},2475.4,0,0]
[{"$f":"мощность!$AA$21","v":"18.01.2026"},15,{"$f":"мощность!Q21","v":0},{"$f":"Нерег.цена!C481","v":2461.64},2461.64,0,0]
[{"$f":"мощность!$AA$21","v":"18.01.2026"},16,{"$f":"мощность!R21","v":0},{"$f":"Нерег.цена!C482","v":2474.73},2474.73,0,0]
[{"$f":"мощность!$AA$21","v":"18.01.2026"},17,{"$f":"мощность!S21","v":0},{"$f":"Нерег.цена!C483","v":2457.08},2457.08,0,0]
[{"$f":"мощность!$AA$21","v":"18.01.2026"},18,{"$f":"мощность!T21","v":0},{"$f":"Нерег.цена!C484","v":2456.81},2456.81,0,0]
[{"$f":"мощность!$AA$21","v":"18.01.2026"},19,{"$f":"мощность!U21","v":0},{"$f":"Нерег.цена!C485","v":2458.65},2458.65,0,0]
[{"$f":"мощность!$AA$21","v":"18.01.2026"},20,{"$f":"мощность!V21","v":0},{"$f":"Нерег.цена!C486","v":2360.66},2360.66,0,0]
[{"$f":"мощность!$AA$21","v":"18.01.2026"},21,{"$f":"мощность!W21","v":0},{"$f":"Нерег.цена!C487","v":2198.27},2198.27,0,0]
[{"$f":"мощность!$AA$21","v":"18.01.2026"},22,{"$f":"мощность!X21","v":0},{"$f":"Нерег.цена!C488","v":2011.59},2011.59,0,0]
[{"$f":"мощность!$AA$21","v":"18.01.2026"},23,{"$f":"мощность!Y21","v":0},{"$f":"Нерег.цена!C489","v":1769.93},1769.93,0,0]
[{"$f":"мощность!$AA$22","v":"19.01.2026"},0,{"$f":"мощность!B22","v":0},{"$f":"Нерег.цена!C490","v":1820.89},1820.89,0,0]
[{"$f":"мощность!$AA$22","v":"19.01.2026"},1,{"$f":"мощность!C22","v":0},{"$f":"Нерег.цена!C491","v":1650.3},1650.3,0,0]
[{"$f":"мощность!$AA$22","v":"19.01.2026"},2,{"$f":"мощность!D22","v":0},{"$f":"Нерег.цена!C492","v":1592.19},1592.19,0,0]
[{"$f":"мощность!$AA$22","v":"19.01.2026"},3,{"$f":"мощность!E22","v":0},{"$f":"Нерег.цена!C493","v":1538.24},1538.24,0,0]
[{"$f":"мощность!$AA$22","v":"19.01.2026"},4,{"$f":"мощность!F22","v":0},{"$f":"Нерег.цена!C494","v":1655.39},1655.39,0,0]
[{"$f":"мощность!$AA$22","v":"19.01.2026"},5,{"$f":"мощность!G22","v":0},{"$f":"Нерег.цена!C495","v":1844.38},1844.38,0,0]
[{"$f":"мощность!$AA$22","v":"19.01.2026"},6,{"$f":"мощность!H22","v":0},{"$f":"Нерег.цена!C496","v":2012.13},2012.13,0,0]
[{"$f":"мощность!$AA$22","v":"19.01.2026"},7,{"$f":"мощность!I22","v":0},{"$f":"Нерег.цена!C497","v":2242.38},2242.38,0,0]
[{"$f":"мощность!$AA$22","v":"19.01.2026"},8,{"$f":"мощность!J22","v":0},{"$f":"Нерег.цена!C498","v":2544.73},2544.73,0,0]
[{"$f":"мощность!$AA$22","v":"19.01.2026"},9,{"$f":"мощность!K22","v":0},{"$f":"Нерег.цена!C499","v":2621.39},2621.39,0,0]
[{"$f":"мощность!$AA$22","v":"19.01.2026"},10,{"$f":"мощность!L22","v":0},{"$f":"Нерег.цена!C500","v":2657.7},2657.7,0,0]
[{"$f":"мощность!$AA$22","v":"19.01.2026"},11,{"$f":"мощность!M22","v":0},{"$f":"Нерег.цена!C501","v":2656.1},2656.1,0,0]
[{"$f":"мощность!$AA$22","v":"19.01.2026"},12,{"$f":"мощность!N22","v":0},{"$f":"Нерег.цена!C502","v":2643.37},2643.37,0,0]
[{"$f":"мощность!$AA$22","v":"19.01.2026"},13,{"$f":"мощность!O22","v":0},{"$f":"Нерег.цена!C503","v":2646.74},2646.74,0,0]
[{"$f":"мощность!$AA$22","v":"19.01.2026"},14,{"$f":"мощность!P22","v":0},{"$f":"Нерег.цена!C504","v":2542.4},2542.4,0,0]
[{"$f":"мощность!$AA$22","v":"19.01.2026"},15,{"$f":"мощность!Q22","v":0},{"$f":"Нерег.цена!C505","v":2440.73},2440.73,0,0]
[{"$f":"мощность!$AA$22","v":"19.01.2026"},16,{"$f":"мощность!R22","v":0},{"$f":"Нерег.цена!C506","v":2461.6799999999998},2461.6799999999998,0,0]
[{"$f":"мощность!$AA$22","v":"19.01.2026"},17,{"$f":"мощность!S22","v":0},{"$f":"Нерег.цена!C507","v":2457.89},{"$f":"1*D451","v":2457.89},{"$f":"ROUND(C451*D451/1000,2)","v":0},{"$f":"ROUND(C451*E451/1000,2)","v":0}]
[{"$f":"мощность!$AA$22","v":"19.01.2026"},18,{"$f":"мощность!T22","v":0},{"$f":"Нерег.цена!C508","v":2455.15},2455.15,0,0]
[{"$f":"мощность!$AA$22","v":"19.01.2026"},19,{"$f":"мощность!U22","v":0},{"$f":"Нерег.цена!C509","v":2584.06},2584.06,0,0]
[{"$f":"мощность!$AA$22","v":"19.01.2026"},20,{"$f":"мощность!V22","v":0},{"$f":"Нерег.цена!C510","v":2482.4899999999998},2482.4899999999998,0,0]
[{"$f":"мощность!$AA$22","v":"19.01.2026"},21,{"$f":"мощность!W22","v":0},{"$f":"Нерег.цена!C511","v":2381.0100000000002},2381.0100000000002,0,0]
[{"$f":"мощность!$AA$22","v":"19.01.2026"},22,{"$f":"мощность!X22","v":0},{"$f":"Нерег.цена!C512","v":2210.41},2210.41,0,0]
[{"$f":"мощность!$AA$22","v":"19.01.2026"},23,{"$f":"мощность!Y22","v":0},{"$f":"Нерег.цена!C513","v":2045.36},2045.36,0,0]
[{"$f":"мощность!$AA$23","v":"20.01.2026"},0,{"$f":"мощность!B23","v":0},{"$f":"Нерег.цена!C514","v":1930.52},1930.52,0,0]
[{"$f":"мощность!$AA$23","v":"20.01.2026"},1,{"$f":"мощность!C23","v":0},{"$f":"Нерег.цена!C515","v":1756.88},1756.88,0,0]
[{"$f":"мощность!$AA$23","v":"20.01.2026"},2,{"$f":"мощность!D23","v":0},{"$f":"Нерег.цена!C516","v":1661.84},1661.84,0,0]
[{"$f":"мощность!$AA$23","v":"20.01.2026"},3,{"$f":"мощность!E23","v":0},{"$f":"Нерег.цена!C517","v":1620.31},1620.31,0,0]
[{"$f":"мощность!$AA$23","v":"20.01.2026"},4,{"$f":"мощность!F23","v":0},{"$f":"Нерег.цена!C518","v":1646.58},1646.58,0,0]
[{"$f":"мощность!$AA$23","v":"20.01.2026"},5,{"$f":"мощность!G23","v":0},{"$f":"Нерег.цена!C519","v":1703.56},1703.56,0,0]
[{"$f":"мощность!$AA$23","v":"20.01.2026"},6,{"$f":"мощность!H23","v":0},{"$f":"Нерег.цена!C520","v":1816.61},1816.61,0,0]
[{"$f":"мощность!$AA$23","v":"20.01.2026"},7,{"$f":"мощность!I23","v":0},{"$f":"Нерег.цена!C521","v":2043.13},2043.13,0,0]
[{"$f":"мощность!$AA$23","v":"20.01.2026"},8,{"$f":"мощность!J23","v":0},{"$f":"Нерег.цена!C522","v":2188.19},2188.19,0,0]
[{"$f":"мощность!$AA$23","v":"20.01.2026"},9,{"$f":"мощность!K23","v":0},{"$f":"Нерег.цена!C523","v":2289.9899999999998},2289.9899999999998,0,0]
[{"$f":"мощность!$AA$23","v":"20.01.2026"},10,{"$f":"мощность!L23","v":0},{"$f":"Нерег.цена!C524","v":2399.2600000000002},2399.2600000000002,0,0]
[{"$f":"мощность!$AA$23","v":"20.01.2026"},11,{"$f":"мощность!M23","v":0},{"$f":"Нерег.цена!C525","v":2467.25},2467.25,0,0]
[{"$f":"мощность!$AA$23","v":"20.01.2026"},12,{"$f":"мощность!N23","v":0},{"$f":"Нерег.цена!C526","v":2429.4499999999998},2429.4499999999998,0,0]
[{"$f":"мощность!$AA$23","v":"20.01.2026"},13,{"$f":"мощность!O23","v":0},{"$f":"Нерег.цена!C527","v":2408.81},2408.81,0,0]
[{"$f":"мощность!$AA$23","v":"20.01.2026"},14,{"$f":"мощность!P23","v":0},{"$f":"Нерег.цена!C528","v":2347.13},2347.13,0,0]
[{"$f":"мощность!$AA$23","v":"20.01.2026"},15,{"$f":"мощность!Q23","v":0},{"$f":"Нерег.цена!C529","v":2320.5500000000002},2320.5500000000002,0,0]
[{"$f":"мощность!$AA$23","v":"20.01.2026"},16,{"$f":"мощность!R23","v":0},{"$f":"Нерег.цена!C530","v":2346.54},2346.54,0,0]
[{"$f":"мощность!$AA$23","v":"20.01.2026"},17,{"$f":"мощность!S23","v":0},{"$f":"Нерег.цена!C531","v":2359.6999999999998},2359.6999999999998,0,0]
[{"$f":"мощность!$AA$23","v":"20.01.2026"},18,{"$f":"мощность!T23","v":0},{"$f":"Нерег.цена!C532","v":2356.77},2356.77,0,0]
[{"$f":"мощность!$AA$23","v":"20.01.2026"},19,{"$f":"мощность!U23","v":0},{"$f":"Нерег.цена!C533","v":2394.7800000000002},2394.7800000000002,0,0]
[{"$f":"мощность!$AA$23","v":"20.01.2026"},20,{"$f":"мощность!V23","v":0},{"$f":"Нерег.цена!C534","v":2319.96},2319.96,0,0]
[{"$f":"мощность!$AA$23","v":"20.01.2026"},21,{"$f":"мощность!W23","v":0},{"$f":"Нерег.цена!C535","v":2246.89},2246.89,0,0]
[{"$f":"мощность!$AA$23","v":"20.01.2026"},22,{"$f":"мощность!X23","v":0},{"$f":"Нерег.цена!C536","v":2182.35},2182.35,0,0]
[{"$f":"мощность!$AA$23","v":"20.01.2026"},23,{"$f":"мощность!Y23","v":0},{"$f":"Нерег.цена!C537","v":1924.77},1924.77,0,0]
[{"$f":"мощность!$AA$24","v":"21.01.2026"},0,{"$f":"мощность!B24","v":0},{"$f":"Нерег.цена!C538","v":1888.24},1888.24,0,0]
[{"$f":"мощность!$AA$24","v":"21.01.2026"},1,{"$f":"мощность!C24","v":0},{"$f":"Нерег.цена!C539","v":1664.92},1664.92,0,0]
[{"$f":"мощность!$AA$24","v":"21.01.2026"},2,{"$f":"мощность!D24","v":0},{"$f":"Нерег.цена!C540","v":1625.38},1625.38,0,0]
[{"$f":"мощность!$AA$24","v":"21.01.2026"},3,{"$f":"мощность!E24","v":0},{"$f":"Нерег.цена!C541","v":1545.54},1545.54,0,0]
[{"$f":"мощность!$AA$24","v":"21.01.2026"},4,{"$f":"мощность!F24","v":0},{"$f":"Нерег.цена!C542","v":1559.54},1559.54,0,0]
[{"$f":"мощность!$AA$24","v":"21.01.2026"},5,{"$f":"мощность!G24","v":0},{"$f":"Нерег.цена!C543","v":1648.49},1648.49,0,0]
[{"$f":"мощность!$AA$24","v":"21.01.2026"},6,{"$f":"мощность!H24","v":0},{"$f":"Нерег.цена!C544","v":1670.67},1670.67,0,0]
[{"$f":"мощность!$AA$24","v":"21.01.2026"},7,{"$f":"мощность!I24","v":0},{"$f":"Нерег.цена!C545","v":1866.11},1866.11,0,0]
[{"$f":"мощность!$AA$24","v":"21.01.2026"},8,{"$f":"мощность!J24","v":0},{"$f":"Нерег.цена!C546","v":2057.5100000000002},2057.5100000000002,0,0]
[{"$f":"мощность!$AA$24","v":"21.01.2026"},9,{"$f":"мощность!K24","v":0},{"$f":"Нерег.цена!C547","v":2193.83},2193.83,0,0]
[{"$f":"мощность!$AA$24","v":"21.01.2026"},10,{"$f":"мощность!L24","v":0},{"$f":"Нерег.цена!C548","v":2239.17},2239.17,0,0]
[{"$f":"мощность!$AA$24","v":"21.01.2026"},11,{"$f":"мощность!M24","v":0},{"$f":"Нерег.цена!C549","v":2270.1999999999998},2270.1999999999998,0,0]
[{"$f":"мощность!$AA$24","v":"21.01.2026"},12,{"$f":"мощность!N24","v":0},{"$f":"Нерег.цена!C550","v":2272.5100000000002},2272.5100000000002,0,0]
[{"$f":"мощность!$AA$24","v":"21.01.2026"},13,{"$f":"мощность!O24","v":0},{"$f":"Нерег.цена!C551","v":2278.35},2278.35,0,0]
[{"$f":"мощность!$AA$24","v":"21.01.2026"},14,{"$f":"мощность!P24","v":0},{"$f":"Нерег.цена!C552","v":2260.2199999999998},2260.2199999999998,0,0]
[{"$f":"мощность!$AA$24","v":"21.01.2026"},15,{"$f":"мощность!Q24","v":0},{"$f":"Нерег.цена!C553","v":2255.83},2255.83,0,0]
[{"$f":"мощность!$AA$24","v":"21.01.2026"},16,{"$f":"мощность!R24","v":0},{"$f":"Нерег.цена!C554","v":2314.09},2314.09,0,0]
[{"$f":"мощность!$AA$24","v":"21.01.2026"},17,{"$f":"мощность!S24","v":0},{"$f":"Нерег.цена!C555","v":2356.67},2356.67,0,0]
[{"$f":"мощность!$AA$24","v":"21.01.2026"},18,{"$f":"мощность!T24","v":0},{"$f":"Нерег.цена!C556","v":2351.6799999999998},2351.6799999999998,0,0]
[{"$f":"мощность!$AA$24","v":"21.01.2026"},19,{"$f":"мощность!U24","v":0},{"$f":"Нерег.цена!C557","v":2386.67},2386.67,0,0]
[{"$f":"мощность!$AA$24","v":"21.01.2026"},20,{"$f":"мощность!V24","v":0},{"$f":"Нерег.цена!C558","v":2290.0100000000002},2290.0100000000002,0,0]
[{"$f":"мощность!$AA$24","v":"21.01.2026"},21,{"$f":"мощность!W24","v":0},{"$f":"Нерег.цена!C559","v":2235.33},2235.33,0,0]
[{"$f":"мощность!$AA$24","v":"21.01.2026"},22,{"$f":"мощность!X24","v":0},{"$f":"Нерег.цена!C560","v":2101.63},2101.63,0,0]
[{"$f":"мощность!$AA$24","v":"21.01.2026"},23,{"$f":"мощность!Y24","v":0},{"$f":"Нерег.цена!C561","v":1878.52},1878.52,0,0]
[{"$f":"мощность!$AA$25","v":"22.01.2026"},0,{"$f":"мощность!B25","v":0},{"$f":"Нерег.цена!C562","v":1675.52},1675.52,0,0]
[{"$f":"мощность!$AA$25","v":"22.01.2026"},1,{"$f":"мощность!C25","v":0},{"$f":"Нерег.цена!C563","v":1551.3},1551.3,0,0]
[{"$f":"мощность!$AA$25","v":"22.01.2026"},2,{"$f":"мощность!D25","v":0},{"$f":"Нерег.цена!C564","v":1527.77},1527.77,0,0]
[{"$f":"мощность!$AA$25","v":"22.01.2026"},3,{"$f":"мощность!E25","v":0},{"$f":"Нерег.цена!C565","v":1515.38},1515.38,0,0]
[{"$f":"мощность!$AA$25","v":"22.01.2026"},4,{"$f":"мощность!F25","v":0},{"$f":"Нерег.цена!C566","v":1533.95},1533.95,0,0]
[{"$f":"мощность!$AA$25","v":"22.01.2026"},5,{"$f":"мощность!G25","v":0},{"$f":"Нерег.цена!C567","v":1695.08},1695.08,0,0]
[{"$f":"мощность!$AA$25","v":"22.01.2026"},6,{"$f":"мощность!H25","v":0},{"$f":"Нерег.цена!C568","v":1898.3},1898.3,0,0]
[{"$f":"мощность!$AA$25","v":"22.01.2026"},7,{"$f":"мощность!I25","v":0},{"$f":"Нерег.цена!C569","v":2178.37},2178.37,0,0]
[{"$f":"мощность!$AA$25","v":"22.01.2026"},8,{"$f":"мощность!J25","v":0},{"$f":"Нерег.цена!C570","v":2263.12},2263.12,0,0]
[{"$f":"мощность!$AA$25","v":"22.01.2026"},9,{"$f":"мощность!K25","v":0},{"$f":"Нерег.цена!C571","v":2372.54},{"$f":"1*D515","v":2372.54},{"$f":"ROUND(C515*D515/1000,2)","v":0},{"$f":"ROUND(C515*E515/1000,2)","v":0}]
[{"$f":"мощность!$AA$25","v":"22.01.2026"},10,{"$f":"мощность!L25","v":0},{"$f":"Нерег.цена!C572","v":2364.98},2364.98,0,0]
[{"$f":"мощность!$AA$25","v":"22.01.2026"},11,{"$f":"мощность!M25","v":0},{"$f":"Нерег.цена!C573","v":2342.12},2342.12,0,0]
[{"$f":"мощность!$AA$25","v":"22.01.2026"},12,{"$f":"мощность!N25","v":0},{"$f":"Нерег.цена!C574","v":2316.0100000000002},2316.0100000000002,0,0]
[{"$f":"мощность!$AA$25","v":"22.01.2026"},13,{"$f":"мощность!O25","v":0},{"$f":"Нерег.цена!C575","v":2329.66},2329.66,0,0]
[{"$f":"мощность!$AA$25","v":"22.01.2026"},14,{"$f":"мощность!P25","v":0},{"$f":"Нерег.цена!C576","v":2290.04},2290.04,0,0]
[{"$f":"мощность!$AA$25","v":"22.01.2026"},15,{"$f":"мощность!Q25","v":0},{"$f":"Нерег.цена!C577","v":2278.4499999999998},2278.4499999999998,0,0]
[{"$f":"мощность!$AA$25","v":"22.01.2026"},16,{"$f":"мощность!R25","v":0},{"$f":"Нерег.цена!C578","v":2276.2199999999998},2276.2199999999998,0,0]
[{"$f":"мощность!$AA$25","v":"22.01.2026"},17,{"$f":"мощность!S25","v":0},{"$f":"Нерег.цена!C579","v":2282.67},2282.67,0,0]
[{"$f":"мощность!$AA$25","v":"22.01.2026"},18,{"$f":"мощность!T25","v":0},{"$f":"Нерег.цена!C580","v":2270.3000000000002},2270.3000000000002,0,0]
[{"$f":"мощность!$AA$25","v":"22.01.2026"},19,{"$f":"мощность!U25","v":0},{"$f":"Нерег.цена!C581","v":2194.86},2194.86,0,0]
[{"$f":"мощность!$AA$25","v":"22.01.2026"},20,{"$f":"мощность!V25","v":0},{"$f":"Нерег.цена!C582","v":2084.13},2084.13,0,0]
[{"$f":"мощность!$AA$25","v":"22.01.2026"},21,{"$f":"мощность!W25","v":0},{"$f":"Нерег.цена!C583","v":1852.84},1852.84,0,0]
[{"$f":"мощность!$AA$25","v":"22.01.2026"},22,{"$f":"мощность!X25","v":0},{"$f":"Нерег.цена!C584","v":1888.14},1888.14,0,0]
[{"$f":"мощность!$AA$25","v":"22.01.2026"},23,{"$f":"мощность!Y25","v":0},{"$f":"Нерег.цена!C585","v":1469.89},1469.89,0,0]
[{"$f":"мощность!$AA$26","v":"23.01.2026"},0,{"$f":"мощность!B26","v":0},{"$f":"Нерег.цена!C586","v":1654.01},1654.01,0,0]
[{"$f":"мощность!$AA$26","v":"23.01.2026"},1,{"$f":"мощность!C26","v":0},{"$f":"Нерег.цена!C587","v":1492.45},1492.45,0,0]
[{"$f":"мощность!$AA$26","v":"23.01.2026"},2,{"$f":"мощность!D26","v":0},{"$f":"Нерег.цена!C588","v":1472.81},1472.81,0,0]
[{"$f":"мощность!$AA$26","v":"23.01.2026"},3,{"$f":"мощность!E26","v":0},{"$f":"Нерег.цена!C589","v":1392.78},1392.78,0,0]
[{"$f":"мощность!$AA$26","v":"23.01.2026"},4,{"$f":"мощность!F26","v":0},{"$f":"Нерег.цена!C590","v":1182.9000000000001},1182.9000000000001,0,0]
[{"$f":"мощность!$AA$26","v":"23.01.2026"},5,{"$f":"мощность!G26","v":0},{"$f":"Нерег.цена!C591","v":1070.5999999999999},1070.5999999999999,0,0]
[{"$f":"мощность!$AA$26","v":"23.01.2026"},6,{"$f":"мощность!H26","v":0},{"$f":"Нерег.цена!C592","v":1145.04},1145.04,0,0]
[{"$f":"мощность!$AA$26","v":"23.01.2026"},7,{"$f":"мощность!I26","v":0},{"$f":"Нерег.цена!C593","v":2191.66},2191.66,0,0]
[{"$f":"мощность!$AA$26","v":"23.01.2026"},8,{"$f":"мощность!J26","v":0},{"$f":"Нерег.цена!C594","v":2290.5300000000002},2290.5300000000002,0,0]
[{"$f":"мощность!$AA$26","v":"23.01.2026"},9,{"$f":"мощность!K26","v":0},{"$f":"Нерег.цена!C595","v":2364.56},2364.56,0,0]
[{"$f":"мощность!$AA$26","v":"23.01.2026"},10,{"$f":"мощность!L26","v":0},{"$f":"Нерег.цена!C596","v":2398.62},2398.62,0,0]
[{"$f":"мощность!$AA$26","v":"23.01.2026"},11,{"$f":"мощность!M26","v":0},{"$f":"Нерег.цена!C597","v":2396.88},2396.88,0,0]
[{"$f":"мощность!$AA$26","v":"23.01.2026"},12,{"$f":"мощность!N26","v":0},{"$f":"Нерег.цена!C598","v":2366.75},2366.75,0,0]
[{"$f":"мощность!$AA$26","v":"23.01.2026"},13,{"$f":"мощность!O26","v":0},{"$f":"Нерег.цена!C599","v":2383.31},2383.31,0,0]
[{"$f":"мощность!$AA$26","v":"23.01.2026"},14,{"$f":"мощность!P26","v":0},{"$f":"Нерег.цена!C600","v":2350.27},2350.27,0,0]
[{"$f":"мощность!$AA$26","v":"23.01.2026"},15,{"$f":"мощность!Q26","v":0},{"$f":"Нерег.цена!C601","v":2331.3000000000002},2331.3000000000002,0,0]
[{"$f":"мощность!$AA$26","v":"23.01.2026"},16,{"$f":"мощность!R26","v":0},{"$f":"Нерег.цена!C602","v":2360.71},2360.71,0,0]
[{"$f":"мощность!$AA$26","v":"23.01.2026"},17,{"$f":"мощность!S26","v":0},{"$f":"Нерег.цена!C603","v":2366.88},2366.88,0,0]
[{"$f":"мощность!$AA$26","v":"23.01.2026"},18,{"$f":"мощность!T26","v":0},{"$f":"Нерег.цена!C604","v":2355.9299999999998},2355.9299999999998,0,0]
[{"$f":"мощность!$AA$26","v":"23.01.2026"},19,{"$f":"мощность!U26","v":0},{"$f":"Нерег.цена!C605","v":2365.9499999999998},2365.9499999999998,0,0]
[{"$f":"мощность!$AA$26","v":"23.01.2026"},20,{"$f":"мощность!V26","v":0},{"$f":"Нерег.цена!C606","v":2280.63},2280.63,0,0]
[{"$f":"мощность!$AA$26","v":"23.01.2026"},21,{"$f":"мощность!W26","v":0},{"$f":"Нерег.цена!C607","v":2065.39},2065.39,0,0]
[{"$f":"мощность!$AA$26","v":"23.01.2026"},22,{"$f":"мощность!X26","v":0},{"$f":"Нерег.цена!C608","v":1921.42},1921.42,0,0]
[{"$f":"мощность!$AA$26","v":"23.01.2026"},23,{"$f":"мощность!Y26","v":0},{"$f":"Нерег.цена!C609","v":1158.8499999999999},1158.8499999999999,0,0]
[{"$f":"мощность!$AA$27","v":"24.01.2026"},0,{"$f":"мощность!B27","v":0},{"$f":"Нерег.цена!C610","v":996.75},996.75,0,0]
[{"$f":"мощность!$AA$27","v":"24.01.2026"},1,{"$f":"мощность!C27","v":0},{"$f":"Нерег.цена!C611","v":867.71},867.71,0,0]
[{"$f":"мощность!$AA$27","v":"24.01.2026"},2,{"$f":"мощность!D27","v":0},{"$f":"Нерег.цена!C612","v":850.07},850.07,0,0]
[{"$f":"мощность!$AA$27","v":"24.01.2026"},3,{"$f":"мощность!E27","v":0},{"$f":"Нерег.цена!C613","v":840.74},840.74,0,0]
[{"$f":"мощность!$AA$27","v":"24.01.2026"},4,{"$f":"мощность!F27","v":0},{"$f":"Нерег.цена!C614","v":878.7},878.7,0,0]
[{"$f":"мощность!$AA$27","v":"24.01.2026"},5,{"$f":"мощность!G27","v":0},{"$f":"Нерег.цена!C615","v":1057.68},1057.68,0,0]
[{"$f":"мощность!$AA$27","v":"24.01.2026"},6,{"$f":"мощность!H27","v":0},{"$f":"Нерег.цена!C616","v":1105.21},1105.21,0,0]
[{"$f":"мощность!$AA$27","v":"24.01.2026"},7,{"$f":"мощность!I27","v":0},{"$f":"Нерег.цена!C617","v":2254.6799999999998},2254.6799999999998,0,0]
[{"$f":"мощность!$AA$27","v":"24.01.2026"},8,{"$f":"мощность!J27","v":0},{"$f":"Нерег.цена!C618","v":2400.83},2400.83,0,0]
[{"$f":"мощность!$AA$27","v":"24.01.2026"},9,{"$f":"мощность!K27","v":0},{"$f":"Нерег.цена!C619","v":2485.0500000000002},2485.0500000000002,0,0]
[{"$f":"мощность!$AA$27","v":"24.01.2026"},10,{"$f":"мощность!L27","v":0},{"$f":"Нерег.цена!C620","v":2517.37},2517.37,0,0]
[{"$f":"мощность!$AA$27","v":"24.01.2026"},11,{"$f":"мощность!M27","v":0},{"$f":"Нерег.цена!C621","v":2517.62},2517.62,0,0]
[{"$f":"мощность!$AA$27","v":"24.01.2026"},12,{"$f":"мощность!N27","v":0},{"$f":"Нерег.цена!C622","v":2491.19},2491.19,0,0]
[{"$f":"мощность!$AA$27","v":"24.01.2026"},13,{"$f":"мощность!O27","v":0},{"$f":"Нерег.цена!C623","v":2501.54},2501.54,0,0]
[{"$f":"мощность!$AA$27","v":"24.01.2026"},14,{"$f":"мощность!P27","v":0},{"$f":"Нерег.цена!C624","v":2459.1999999999998},2459.1999999999998,0,0]
[{"$f":"мощность!$AA$27","v":"24.01.2026"},15,{"$f":"мощность!Q27","v":0},{"$f":"Нерег.цена!C625","v":2439.19},2439.19,0,0]
[{"$f":"мощность!$AA$27","v":"24.01.2026"},16,{"$f":"мощность!R27","v":0},{"$f":"Нерег.цена!C626","v":2452.96},2452.96,0,0]
[{"$f":"мощность!$AA$27","v":"24.01.2026"},17,{"$f":"мощность!S27","v":0},{"$f":"Нерег.цена!C627","v":2451.19},2451.19,0,0]
[{"$f":"мощность!$AA$27","v":"24.01.2026"},18,{"$f":"мощность!T27","v":0},{"$f":"Нерег.цена!C628","v":2448.19},2448.19,0,0]
[{"$f":"мощность!$AA$27","v":"24.01.2026"},19,{"$f":"мощность!U27","v":0},{"$f":"Нерег.цена!C629","v":2453.77},2453.77,0,0]
[{"$f":"мощность!$AA$27","v":"24.01.2026"},20,{"$f":"мощность!V27","v":0},{"$f":"Нерег.цена!C630","v":2338.94},2338.94,0,0]
[{"$f":"мощность!$AA$27","v":"24.01.2026"},21,{"$f":"мощность!W27","v":0},{"$f":"Нерег.цена!C631","v":2265.31},2265.31,0,0]
[{"$f":"мощность!$AA$27","v":"24.01.2026"},22,{"$f":"мощность!X27","v":0},{"$f":"Нерег.цена!C632","v":2002.19},2002.19,0,0]
[{"$f":"мощность!$AA$27","v":"24.01.2026"},23,{"$f":"мощность!Y27","v":0},{"$f":"Нерег.цена!C633","v":1189.69},1189.69,0,0]
[{"$f":"мощность!$AA$28","v":"25.01.2026"},0,{"$f":"мощность!B28","v":0},{"$f":"Нерег.цена!C634","v":1666.18},1666.18,0,0]
[{"$f":"мощность!$AA$28","v":"25.01.2026"},1,{"$f":"мощность!C28","v":0},{"$f":"Нерег.цена!C635","v":1509.04},{"$f":"1*D579","v":1509.04},{"$f":"ROUND(C579*D579/1000,2)","v":0},{"$f":"ROUND(C579*E579/1000,2)","v":0}]
[{"$f":"мощность!$AA$28","v":"25.01.2026"},2,{"$f":"мощность!D28","v":0},{"$f":"Нерег.цена!C636","v":1461.92},1461.92,0,0]
[{"$f":"мощность!$AA$28","v":"25.01.2026"},3,{"$f":"мощность!E28","v":0},{"$f":"Нерег.цена!C637","v":1418.68},1418.68,0,0]
[{"$f":"мощность!$AA$28","v":"25.01.2026"},4,{"$f":"мощность!F28","v":0},{"$f":"Нерег.цена!C638","v":1476.07},1476.07,0,0]
[{"$f":"мощность!$AA$28","v":"25.01.2026"},5,{"$f":"мощность!G28","v":0},{"$f":"Нерег.цена!C639","v":1678.26},1678.26,0,0]
[{"$f":"мощность!$AA$28","v":"25.01.2026"},6,{"$f":"мощность!H28","v":0},{"$f":"Нерег.цена!C640","v":1857.65},1857.65,0,0]
[{"$f":"мощность!$AA$28","v":"25.01.2026"},7,{"$f":"мощность!I28","v":0},{"$f":"Нерег.цена!C641","v":2234.9},2234.9,0,0]
[{"$f":"мощность!$AA$28","v":"25.01.2026"},8,{"$f":"мощность!J28","v":0},{"$f":"Нерег.цена!C642","v":2332.02},2332.02,0,0]
[{"$f":"мощность!$AA$28","v":"25.01.2026"},9,{"$f":"мощность!K28","v":0},{"$f":"Нерег.цена!C643","v":2433.09},2433.09,0,0]
[{"$f":"мощность!$AA$28","v":"25.01.2026"},10,{"$f":"мощность!L28","v":0},{"$f":"Нерег.цена!C644","v":2461.79},2461.79,0,0]
[{"$f":"мощность!$AA$28","v":"25.01.2026"},11,{"$f":"мощность!M28","v":0},{"$f":"Нерег.цена!C645","v":2442.9499999999998},2442.9499999999998,0,0]
[{"$f":"мощность!$AA$28","v":"25.01.2026"},12,{"$f":"мощность!N28","v":0},{"$f":"Нерег.цена!C646","v":2418.16},2418.16,0,0]
[{"$f":"мощность!$AA$28","v":"25.01.2026"},13,{"$f":"мощность!O28","v":0},{"$f":"Нерег.цена!C647","v":2433.11},2433.11,0,0]
[{"$f":"мощность!$AA$28","v":"25.01.2026"},14,{"$f":"мощность!P28","v":0},{"$f":"Нерег.цена!C648","v":2370.84},2370.84,0,0]
[{"$f":"мощность!$AA$28","v":"25.01.2026"},15,{"$f":"мощность!Q28","v":0},{"$f":"Нерег.цена!C649","v":2359.19},2359.19,0,0]
[{"$f":"мощность!$AA$28","v":"25.01.2026"},16,{"$f":"мощность!R28","v":0},{"$f":"Нерег.цена!C650","v":2394.39},2394.39,0,0]
[{"$f":"мощность!$AA$28","v":"25.01.2026"},17,{"$f":"мощность!S28","v":0},{"$f":"Нерег.цена!C651","v":2370.89},2370.89,0,0]
[{"$f":"мощность!$AA$28","v":"25.01.2026"},18,{"$f":"мощность!T28","v":0},{"$f":"Нерег.цена!C652","v":2362.89},2362.89,0,0]
[{"$f":"мощность!$AA$28","v":"25.01.2026"},19,{"$f":"мощность!U28","v":0},{"$f":"Нерег.цена!C653","v":2364.17},2364.17,0,0]
[{"$f":"мощность!$AA$28","v":"25.01.2026"},20,{"$f":"мощность!V28","v":0},{"$f":"Нерег.цена!C654","v":2329.4},2329.4,0,0]
[{"$f":"мощность!$AA$28","v":"25.01.2026"},21,{"$f":"мощность!W28","v":0},{"$f":"Нерег.цена!C655","v":2298.6999999999998},2298.6999999999998,0,0]
[{"$f":"мощность!$AA$28","v":"25.01.2026"},22,{"$f":"мощность!X28","v":0},{"$f":"Нерег.цена!C656","v":2036.53},2036.53,0,0]
[{"$f":"мощность!$AA$28","v":"25.01.2026"},23,{"$f":"мощность!Y28","v":0},{"$f":"Нерег.цена!C657","v":1785.74},1785.74,0,0]
[{"$f":"мощность!$AA$29","v":"26.01.2026"},0,{"$f":"мощность!B29","v":0},{"$f":"Нерег.цена!C658","v":1706.12},1706.12,0,0]
[{"$f":"мощность!$AA$29","v":"26.01.2026"},1,{"$f":"мощность!C29","v":0},{"$f":"Нерег.цена!C659","v":1596.56},1596.56,0,0]
[{"$f":"мощность!$AA$29","v":"26.01.2026"},2,{"$f":"мощность!D29","v":0},{"$f":"Нерег.цена!C660","v":1570.82},1570.82,0,0]
[{"$f":"мощность!$AA$29","v":"26.01.2026"},3,{"$f":"мощность!E29","v":0},{"$f":"Нерег.цена!C661","v":1533.91},1533.91,0,0]
[{"$f":"мощность!$AA$29","v":"26.01.2026"},4,{"$f":"мощность!F29","v":0},{"$f":"Нерег.цена!C662","v":1567.15},1567.15,0,0]
[{"$f":"мощность!$AA$29","v":"26.01.2026"},5,{"$f":"мощность!G29","v":0},{"$f":"Нерег.цена!C663","v":1759.81},1759.81,0,0]
[{"$f":"мощность!$AA$29","v":"26.01.2026"},6,{"$f":"мощность!H29","v":0},{"$f":"Нерег.цена!C664","v":1927.48},1927.48,0,0]
[{"$f":"мощность!$AA$29","v":"26.01.2026"},7,{"$f":"мощность!I29","v":0},{"$f":"Нерег.цена!C665","v":2285.75},2285.75,0,0]
[{"$f":"мощность!$AA$29","v":"26.01.2026"},8,{"$f":"мощность!J29","v":0},{"$f":"Нерег.цена!C666","v":2358.54},2358.54,0,0]
[{"$f":"мощность!$AA$29","v":"26.01.2026"},9,{"$f":"мощность!K29","v":0},{"$f":"Нерег.цена!C667","v":2463.4699999999998},2463.4699999999998,0,0]
[{"$f":"мощность!$AA$29","v":"26.01.2026"},10,{"$f":"мощность!L29","v":0},{"$f":"Нерег.цена!C668","v":2502.67},2502.67,0,0]
[{"$f":"мощность!$AA$29","v":"26.01.2026"},11,{"$f":"мощность!M29","v":0},{"$f":"Нерег.цена!C669","v":2499.4},2499.4,0,0]
[{"$f":"мощность!$AA$29","v":"26.01.2026"},12,{"$f":"мощность!N29","v":0},{"$f":"Нерег.цена!C670","v":2463.6999999999998},2463.6999999999998,0,0]
[{"$f":"мощность!$AA$29","v":"26.01.2026"},13,{"$f":"мощность!O29","v":0},{"$f":"Нерег.цена!C671","v":2472.6999999999998},2472.6999999999998,0,0]
[{"$f":"мощность!$AA$29","v":"26.01.2026"},14,{"$f":"мощность!P29","v":0},{"$f":"Нерег.цена!C672","v":2399.61},2399.61,0,0]
[{"$f":"мощность!$AA$29","v":"26.01.2026"},15,{"$f":"мощность!Q29","v":0},{"$f":"Нерег.цена!C673","v":2386.11},2386.11,0,0]
[{"$f":"мощность!$AA$29","v":"26.01.2026"},16,{"$f":"мощность!R29","v":0},{"$f":"Нерег.цена!C674","v":2407.02},2407.02,0,0]
[{"$f":"мощность!$AA$29","v":"26.01.2026"},17,{"$f":"мощность!S29","v":0},{"$f":"Нерег.цена!C675","v":2398.9299999999998},2398.9299999999998,0,0]
[{"$f":"мощность!$AA$29","v":"26.01.2026"},18,{"$f":"мощность!T29","v":0},{"$f":"Нерег.цена!C676","v":2386.98},2386.98,0,0]
[{"$f":"мощность!$AA$29","v":"26.01.2026"},19,{"$f":"мощность!U29","v":0},{"$f":"Нерег.цена!C677","v":2401.0700000000002},2401.0700000000002,0,0]
[{"$f":"мощность!$AA$29","v":"26.01.2026"},20,{"$f":"мощность!V29","v":0},{"$f":"Нерег.цена!C678","v":2341.11},2341.11,0,0]
[{"$f":"мощность!$AA$29","v":"26.01.2026"},21,{"$f":"мощность!W29","v":0},{"$f":"Нерег.цена!C679","v":2322.64},2322.64,0,0]
[{"$f":"мощность!$AA$29","v":"26.01.2026"},22,{"$f":"мощность!X29","v":0},{"$f":"Нерег.цена!C680","v":2268.65},2268.65,0,0]
[{"$f":"мощность!$AA$29","v":"26.01.2026"},23,{"$f":"мощность!Y29","v":0},{"$f":"Нерег.цена!C681","v":1922.68},1922.68,0,0]
[{"$f":"мощность!$AA$30","v":"27.01.2026"},0,{"$f":"мощность!B30","v":0},{"$f":"Нерег.цена!C682","v":1782.59},1782.59,0,0]
[{"$f":"мощность!$AA$30","v":"27.01.2026"},1,{"$f":"мощность!C30","v":0},{"$f":"Нерег.цена!C683","v":1619.87},1619.87,0,0]
[{"$f":"мощность!$AA$30","v":"27.01.2026"},2,{"$f":"мощность!D30","v":0},{"$f":"Нерег.цена!C684","v":1556.48},1556.48,0,0]
[{"$f":"мощность!$AA$30","v":"27.01.2026"},3,{"$f":"мощность!E30","v":0},{"$f":"Нерег.цена!C685","v":1521.73},1521.73,0,0]
[{"$f":"мощность!$AA$30","v":"27.01.2026"},4,{"$f":"мощность!F30","v":0},{"$f":"Нерег.цена!C686","v":1581.47},1581.47,0,0]
[{"$f":"мощность!$AA$30","v":"27.01.2026"},5,{"$f":"мощность!G30","v":0},{"$f":"Нерег.цена!C687","v":1723.62},1723.62,0,0]
[{"$f":"мощность!$AA$30","v":"27.01.2026"},6,{"$f":"мощность!H30","v":0},{"$f":"Нерег.цена!C688","v":1804.93},1804.93,0,0]
[{"$f":"мощность!$AA$30","v":"27.01.2026"},7,{"$f":"мощность!I30","v":0},{"$f":"Нерег.цена!C689","v":2069.2600000000002},2069.2600000000002,0,0]
[{"$f":"мощность!$AA$30","v":"27.01.2026"},8,{"$f":"мощность!J30","v":0},{"$f":"Нерег.цена!C690","v":2357.5700000000002},2357.5700000000002,0,0]
[{"$f":"мощность!$AA$30","v":"27.01.2026"},9,{"$f":"мощность!K30","v":0},{"$f":"Нерег.цена!C691","v":2389.69},2389.69,0,0]
[{"$f":"мощность!$AA$30","v":"27.01.2026"},10,{"$f":"мощность!L30","v":0},{"$f":"Нерег.цена!C692","v":2454.35},2454.35,0,0]
[{"$f":"мощность!$AA$30","v":"27.01.2026"},11,{"$f":"мощность!M30","v":0},{"$f":"Нерег.цена!C693","v":2477.48},2477.48,0,0]
[{"$f":"мощность!$AA$30","v":"27.01.2026"},12,{"$f":"мощность!N30","v":0},{"$f":"Нерег.цена!C694","v":2479.33},2479.33,0,0]
[{"$f":"мощность!$AA$30","v":"27.01.2026"},13,{"$f":"мощность!O30","v":0},{"$f":"Нерег.цена!C695","v":2485.4299999999998},2485.4299999999998,0,0]
[{"$f":"мощность!$AA$30","v":"27.01.2026"},14,{"$f":"мощность!P30","v":0},{"$f":"Нерег.цена!C696","v":2439.63},2439.63,0,0]
[{"$f":"мощность!$AA$30","v":"27.01.2026"},15,{"$f":"мощность!Q30","v":0},{"$f":"Нерег.цена!C697","v":2431.1799999999998},2431.1799999999998,0,0]
[{"$f":"мощность!$AA$30","v":"27.01.2026"},16,{"$f":"мощность!R30","v":0},{"$f":"Нерег.цена!C698","v":2495.5700000000002},2495.5700000000002,0,0]
[{"$f":"мощность!$AA$30","v":"27.01.2026"},17,{"$f":"мощность!S30","v":0},{"$f":"Нерег.цена!C699","v":2518.52},{"$f":"1*D643","v":2518.52},{"$f":"ROUND(C643*D643/1000,2)","v":0},{"$f":"ROUND(C643*E643/1000,2)","v":0}]
[{"$f":"мощность!$AA$30","v":"27.01.2026"},18,{"$f":"мощность!T30","v":0},{"$f":"Нерег.цена!C700","v":2496.2399999999998},2496.2399999999998,0,0]
[{"$f":"мощность!$AA$30","v":"27.01.2026"},19,{"$f":"мощность!U30","v":0},{"$f":"Нерег.цена!C701","v":2515.36},2515.36,0,0]
[{"$f":"мощность!$AA$30","v":"27.01.2026"},20,{"$f":"мощность!V30","v":0},{"$f":"Нерег.цена!C702","v":2432.8200000000002},2432.8200000000002,0,0]
[{"$f":"мощность!$AA$30","v":"27.01.2026"},21,{"$f":"мощность!W30","v":0},{"$f":"Нерег.цена!C703","v":2367.96},2367.96,0,0]
[{"$f":"мощность!$AA$30","v":"27.01.2026"},22,{"$f":"мощность!X30","v":0},{"$f":"Нерег.цена!C704","v":2119.6999999999998},2119.6999999999998,0,0]
[{"$f":"мощность!$AA$30","v":"27.01.2026"},23,{"$f":"мощность!Y30","v":0},{"$f":"Нерег.цена!C705","v":1872.24},1872.24,0,0]
[{"$f":"мощность!$AA$31","v":"28.01.2026"},0,{"$f":"мощность!B31","v":0},{"$f":"Нерег.цена!C706","v":1828.76},1828.76,0,0]
[{"$f":"мощность!$AA$31","v":"28.01.2026"},1,{"$f":"мощность!C31","v":0},{"$f":"Нерег.цена!C707","v":1676.75},1676.75,0,0]
[{"$f":"мощность!$AA$31","v":"28.01.2026"},2,{"$f":"мощность!D31","v":0},{"$f":"Нерег.цена!C708","v":1559.93},1559.93,0,0]
[{"$f":"мощность!$AA$31","v":"28.01.2026"},3,{"$f":"мощность!E31","v":0},{"$f":"Нерег.цена!C709","v":1519.36},1519.36,0,0]
[{"$f":"мощность!$AA$31","v":"28.01.2026"},4,{"$f":"мощность!F31","v":0},{"$f":"Нерег.цена!C710","v":1524.33},1524.33,0,0]
[{"$f":"мощность!$AA$31","v":"28.01.2026"},5,{"$f":"мощность!G31","v":0},{"$f":"Нерег.цена!C711","v":1596.1},1596.1,0,0]
[{"$f":"мощность!$AA$31","v":"28.01.2026"},6,{"$f":"мощность!H31","v":0},{"$f":"Нерег.цена!C712","v":1653.53},1653.53,0,0]
[{"$f":"мощность!$AA$31","v":"28.01.2026"},7,{"$f":"мощность!I31","v":0},{"$f":"Нерег.цена!C713","v":1854.73},1854.73,0,0]
[{"$f":"мощность!$AA$31","v":"28.01.2026"},8,{"$f":"мощность!J31","v":0},{"$f":"Нерег.цена!C714","v":2203.09},2203.09,0,0]
[{"$f":"мощность!$AA$31","v":"28.01.2026"},9,{"$f":"мощность!K31","v":0},{"$f":"Нерег.цена!C715","v":2365.33},2365.33,0,0]
[{"$f":"мощность!$AA$31","v":"28.01.2026"},10,{"$f":"мощность!L31","v":0},{"$f":"Нерег.цена!C716","v":2369.38},2369.38,0,0]
[{"$f":"мощность!$AA$31","v":"28.01.2026"},11,{"$f":"мощность!M31","v":0},{"$f":"Нерег.цена!C717","v":2380.31},2380.31,0,0]
[{"$f":"мощность!$AA$31","v":"28.01.2026"},12,{"$f":"мощность!N31","v":0},{"$f":"Нерег.цена!C718","v":2381.87},2381.87,0,0]
[{"$f":"мощность!$AA$31","v":"28.01.2026"},13,{"$f":"мощность!O31","v":0},{"$f":"Нерег.цена!C719","v":2388.13},2388.13,0,0]
[{"$f":"мощность!$AA$31","v":"28.01.2026"},14,{"$f":"мощность!P31","v":0},{"$f":"Нерег.цена!C720","v":2370.62},2370.62,0,0]
[{"$f":"мощность!$AA$31","v":"28.01.2026"},15,{"$f":"мощность!Q31","v":0},{"$f":"Нерег.цена!C721","v":2371.63},2371.63,0,0]
[{"$f":"мощность!$AA$31","v":"28.01.2026"},16,{"$f":"мощность!R31","v":0},{"$f":"Нерег.цена!C722","v":2405.25},2405.25,0,0]
[{"$f":"мощность!$AA$31","v":"28.01.2026"},17,{"$f":"мощность!S31","v":0},{"$f":"Нерег.цена!C723","v":2437.02},2437.02,0,0]
[{"$f":"мощность!$AA$31","v":"28.01.2026"},18,{"$f":"мощность!T31","v":0},{"$f":"Нерег.цена!C724","v":2425.4},2425.4,0,0]
[{"$f":"мощность!$AA$31","v":"28.01.2026"},19,{"$f":"мощность!U31","v":0},{"$f":"Нерег.цена!C725","v":2449.34},2449.34,0,0]
[{"$f":"мощность!$AA$31","v":"28.01.2026"},20,{"$f":"мощность!V31","v":0},{"$f":"Нерег.цена!C726","v":2401.1},2401.1,0,0]
[{"$f":"мощность!$AA$31","v":"28.01.2026"},21,{"$f":"мощность!W31","v":0},{"$f":"Нерег.цена!C727","v":2363.7199999999998},2363.7199999999998,0,0]
[{"$f":"мощность!$AA$31","v":"28.01.2026"},22,{"$f":"мощность!X31","v":0},{"$f":"Нерег.цена!C728","v":2107.39},2107.39,0,0]
[{"$f":"мощность!$AA$31","v":"28.01.2026"},23,{"$f":"мощность!Y31","v":0},{"$f":"Нерег.цена!C729","v":1827.1},1827.1,0,0]
[{"$f":"мощность!$AA$32","v":"29.01.2026"},0,{"$f":"мощность!B32","v":0},{"$f":"Нерег.цена!C730","v":1747.41},1747.41,0,0]
[{"$f":"мощность!$AA$32","v":"29.01.2026"},1,{"$f":"мощность!C32","v":0},{"$f":"Нерег.цена!C731","v":1536.45},1536.45,0,0]
[{"$f":"мощность!$AA$32","v":"29.01.2026"},2,{"$f":"мощность!D32","v":0},{"$f":"Нерег.цена!C732","v":1482.18},1482.18,0,0]
[{"$f":"мощность!$AA$32","v":"29.01.2026"},3,{"$f":"мощность!E32","v":0},{"$f":"Нерег.цена!C733","v":1447.95},1447.95,0,0]
[{"$f":"мощность!$AA$32","v":"29.01.2026"},4,{"$f":"мощность!F32","v":0},{"$f":"Нерег.цена!C734","v":1514.29},1514.29,0,0]
[{"$f":"мощность!$AA$32","v":"29.01.2026"},5,{"$f":"мощность!G32","v":0},{"$f":"Нерег.цена!C735","v":1745.95},1745.95,0,0]
[{"$f":"мощность!$AA$32","v":"29.01.2026"},6,{"$f":"мощность!H32","v":0},{"$f":"Нерег.цена!C736","v":1954.7},1954.7,0,0]
[{"$f":"мощность!$AA$32","v":"29.01.2026"},7,{"$f":"мощность!I32","v":0},{"$f":"Нерег.цена!C737","v":2293},2293,0,0]
[{"$f":"мощность!$AA$32","v":"29.01.2026"},8,{"$f":"мощность!J32","v":0},{"$f":"Нерег.цена!C738","v":2409.11},2409.11,0,0]
[{"$f":"мощность!$AA$32","v":"29.01.2026"},9,{"$f":"мощность!K32","v":0},{"$f":"Нерег.цена!C739","v":2426.9899999999998},2426.9899999999998,0,0]
[{"$f":"мощность!$AA$32","v":"29.01.2026"},10,{"$f":"мощность!L32","v":0},{"$f":"Нерег.цена!C740","v":2438.33},2438.33,0,0]
[{"$f":"мощность!$AA$32","v":"29.01.2026"},11,{"$f":"мощность!M32","v":0},{"$f":"Нерег.цена!C741","v":2468.29},2468.29,0,0]
[{"$f":"мощность!$AA$32","v":"29.01.2026"},12,{"$f":"мощность!N32","v":0},{"$f":"Нерег.цена!C742","v":2435.41},2435.41,0,0]
[{"$f":"мощность!$AA$32","v":"29.01.2026"},13,{"$f":"мощность!O32","v":0},{"$f":"Нерег.цена!C743","v":2448.5100000000002},2448.5100000000002,0,0]
[{"$f":"мощность!$AA$32","v":"29.01.2026"},14,{"$f":"мощность!P32","v":0},{"$f":"Нерег.цена!C744","v":2387.41},2387.41,0,0]
[{"$f":"мощность!$AA$32","v":"29.01.2026"},15,{"$f":"мощность!Q32","v":0},{"$f":"Нерег.цена!C745","v":2362.5},2362.5,0,0]
[{"$f":"мощность!$AA$32","v":"29.01.2026"},16,{"$f":"мощность!R32","v":0},{"$f":"Нерег.цена!C746","v":2395.34},2395.34,0,0]
[{"$f":"мощность!$AA$32","v":"29.01.2026"},17,{"$f":"мощность!S32","v":0},{"$f":"Нерег.цена!C747","v":2442.88},2442.88,0,0]
[{"$f":"мощность!$AA$32","v":"29.01.2026"},18,{"$f":"мощность!T32","v":0},{"$f":"Нерег.цена!C748","v":2439.2800000000002},2439.2800000000002,0,0]
[{"$f":"мощность!$AA$32","v":"29.01.2026"},19,{"$f":"мощность!U32","v":0},{"$f":"Нерег.цена!C749","v":2394.79},2394.79,0,0]
[{"$f":"мощность!$AA$32","v":"29.01.2026"},20,{"$f":"мощность!V32","v":0},{"$f":"Нерег.цена!C750","v":2336.4},2336.4,0,0]
[{"$f":"мощность!$AA$32","v":"29.01.2026"},21,{"$f":"мощность!W32","v":0},{"$f":"Нерег.цена!C751","v":2300.77},2300.77,0,0]
[{"$f":"мощность!$AA$32","v":"29.01.2026"},22,{"$f":"мощность!X32","v":0},{"$f":"Нерег.цена!C752","v":2008.09},2008.09,0,0]
[{"$f":"мощность!$AA$32","v":"29.01.2026"},23,{"$f":"мощность!Y32","v":0},{"$f":"Нерег.цена!C753","v":1683.54},1683.54,0,0]
[{"$f":"мощность!$AA$33","v":"30.01.2026"},0,{"$f":"мощность!B33","v":0},{"$f":"Нерег.цена!C754","v":1558.05},1558.05,0,0]
[{"$f":"мощность!$AA$33","v":"30.01.2026"},1,{"$f":"мощность!C33","v":0},{"$f":"Нерег.цена!C755","v":1406.49},1406.49,0,0]
[{"$f":"мощность!$AA$33","v":"30.01.2026"},2,{"$f":"мощность!D33","v":0},{"$f":"Нерег.цена!C756","v":1397.8},1397.8,0,0]
[{"$f":"мощность!$AA$33","v":"30.01.2026"},3,{"$f":"мощность!E33","v":0},{"$f":"Нерег.цена!C757","v":1380.31},1380.31,0,0]
[{"$f":"мощность!$AA$33","v":"30.01.2026"},4,{"$f":"мощность!F33","v":0},{"$f":"Нерег.цена!C758","v":1405.16},1405.16,0,0]
[{"$f":"мощность!$AA$33","v":"30.01.2026"},5,{"$f":"мощность!G33","v":0},{"$f":"Нерег.цена!C759","v":1566.14},1566.14,0,0]
[{"$f":"мощность!$AA$33","v":"30.01.2026"},6,{"$f":"мощность!H33","v":0},{"$f":"Нерег.цена!C760","v":1838.96},1838.96,0,0]
[{"$f":"мощность!$AA$33","v":"30.01.2026"},7,{"$f":"мощность!I33","v":0},{"$f":"Нерег.цена!C761","v":2055.42},2055.42,0,0]
[{"$f":"мощность!$AA$33","v":"30.01.2026"},8,{"$f":"мощность!J33","v":0},{"$f":"Нерег.цена!C762","v":2288.4},2288.4,0,0]
[{"$f":"мощность!$AA$33","v":"30.01.2026"},9,{"$f":"мощность!K33","v":0},{"$f":"Нерег.цена!C763","v":2302.11},{"$f":"1*D707","v":2302.11},{"$f":"ROUND(C707*D707/1000,2)","v":0},{"$f":"ROUND(C707*E707/1000,2)","v":0}]
[{"$f":"мощность!$AA$33","v":"30.01.2026"},10,{"$f":"мощность!L33","v":0},{"$f":"Нерег.цена!C764","v":2447.08},2447.08,0,0]
[{"$f":"мощность!$AA$33","v":"30.01.2026"},11,{"$f":"мощность!M33","v":0},{"$f":"Нерег.цена!C765","v":2469.84},2469.84,0,0]
[{"$f":"мощность!$AA$33","v":"30.01.2026"},12,{"$f":"мощность!N33","v":0},{"$f":"Нерег.цена!C766","v":2352.65},2352.65,0,0]
[{"$f":"мощность!$AA$33","v":"30.01.2026"},13,{"$f":"мощность!O33","v":0},{"$f":"Нерег.цена!C767","v":2347.98},2347.98,0,0]
[{"$f":"мощность!$AA$33","v":"30.01.2026"},14,{"$f":"мощность!P33","v":0},{"$f":"Нерег.цена!C768","v":2286.8000000000002},2286.8000000000002,0,0]
[{"$f":"мощность!$AA$33","v":"30.01.2026"},15,{"$f":"мощность!Q33","v":0},{"$f":"Нерег.цена!C769","v":2280.06},2280.06,0,0]
[{"$f":"мощность!$AA$33","v":"30.01.2026"},16,{"$f":"мощность!R33","v":0},{"$f":"Нерег.цена!C770","v":2291.44},2291.44,0,0]
[{"$f":"мощность!$AA$33","v":"30.01.2026"},17,{"$f":"мощность!S33","v":0},{"$f":"Нерег.цена!C771","v":2300.34},2300.34,0,0]
[{"$f":"мощность!$AA$33","v":"30.01.2026"},18,{"$f":"мощность!T33","v":0},{"$f":"Нерег.цена!C772","v":2297.2199999999998},2297.2199999999998,0,0]
[{"$f":"мощность!$AA$33","v":"30.01.2026"},19,{"$f":"мощность!U33","v":0},{"$f":"Нерег.цена!C773","v":2293.7600000000002},2293.7600000000002,0,0]
[{"$f":"мощность!$AA$33","v":"30.01.2026"},20,{"$f":"мощность!V33","v":0},{"$f":"Нерег.цена!C774","v":2287.12},2287.12,0,0]
[{"$f":"мощность!$AA$33","v":"30.01.2026"},21,{"$f":"мощность!W33","v":0},{"$f":"Нерег.цена!C775","v":2259.88},2259.88,0,0]
[{"$f":"мощность!$AA$33","v":"30.01.2026"},22,{"$f":"мощность!X33","v":0},{"$f":"Нерег.цена!C776","v":2165.4899999999998},2165.4899999999998,0,0]
[{"$f":"мощность!$AA$33","v":"30.01.2026"},23,{"$f":"мощность!Y33","v":0},{"$f":"Нерег.цена!C777","v":1883.49},1883.49,0,0]
[{"$f":"мощность!$AA$34","v":"31.01.2026"},0,{"$f":"мощность!B34","v":0},{"$f":"Нерег.цена!C778","v":1652.42},1652.42,0,0]
[{"$f":"мощность!$AA$34","v":"31.01.2026"},1,{"$f":"мощность!C34","v":0},{"$f":"Нерег.цена!C779","v":1459.21},1459.21,0,0]
[{"$f":"мощность!$AA$34","v":"31.01.2026"},2,{"$f":"мощность!D34","v":0},{"$f":"Нерег.цена!C780","v":1406.73},1406.73,0,0]
[{"$f":"мощность!$AA$34","v":"31.01.2026"},3,{"$f":"мощность!E34","v":0},{"$f":"Нерег.цена!C781","v":1357.3},1357.3,0,0]
[{"$f":"мощность!$AA$34","v":"31.01.2026"},4,{"$f":"мощность!F34","v":0},{"$f":"Нерег.цена!C782","v":1366.31},1366.31,0,0]
[{"$f":"мощность!$AA$34","v":"31.01.2026"},5,{"$f":"мощность!G34","v":0},{"$f":"Нерег.цена!C783","v":1458.4},1458.4,0,0]
[{"$f":"мощность!$AA$34","v":"31.01.2026"},6,{"$f":"мощность!H34","v":0},{"$f":"Нерег.цена!C784","v":1457.83},1457.83,0,0]
[{"$f":"мощность!$AA$34","v":"31.01.2026"},7,{"$f":"мощность!I34","v":0},{"$f":"Нерег.цена!C785","v":1694.56},1694.56,0,0]
[{"$f":"мощность!$AA$34","v":"31.01.2026"},8,{"$f":"мощность!J34","v":0},{"$f":"Нерег.цена!C786","v":1913.98},1913.98,0,0]
[{"$f":"мощность!$AA$34","v":"31.01.2026"},9,{"$f":"мощность!K34","v":0},{"$f":"Нерег.цена!C787","v":2036.11},2036.11,0,0]
[{"$f":"мощность!$AA$34","v":"31.01.2026"},10,{"$f":"мощность!L34","v":0},{"$f":"Нерег.цена!C788","v":2151.54},2151.54,0,0]
[{"$f":"мощность!$AA$34","v":"31.01.2026"},11,{"$f":"мощность!M34","v":0},{"$f":"Нерег.цена!C789","v":2205.1},2205.1,0,0]
[{"$f":"мощность!$AA$34","v":"31.01.2026"},12,{"$f":"мощность!N34","v":0},{"$f":"Нерег.цена!C790","v":2212.39},2212.39,0,0]
[{"$f":"мощность!$AA$34","v":"31.01.2026"},13,{"$f":"мощность!O34","v":0},{"$f":"Нерег.цена!C791","v":2215.19},2215.19,0,0]
[{"$f":"мощность!$AA$34","v":"31.01.2026"},14,{"$f":"мощность!P34","v":0},{"$f":"Нерег.цена!C792","v":2183.64},2183.64,0,0]
[{"$f":"мощность!$AA$34","v":"31.01.2026"},15,{"$f":"мощность!Q34","v":0},{"$f":"Нерег.цена!C793","v":2185.66},2185.66,0,0]
[{"$f":"мощность!$AA$34","v":"31.01.2026"},16,{"$f":"мощность!R34","v":0},{"$f":"Нерег.цена!C794","v":2241.71},2241.71,0,0]
[{"$f":"мощность!$AA$34","v":"31.01.2026"},17,{"$f":"мощность!S34","v":0},{"$f":"Нерег.цена!C795","v":2291.61},2291.61,0,0]
[{"$f":"мощность!$AA$34","v":"31.01.2026"},18,{"$f":"мощность!T34","v":0},{"$f":"Нерег.цена!C796","v":2280.86},2280.86,0,0]
[{"$f":"мощность!$AA$34","v":"31.01.2026"},19,{"$f":"мощность!U34","v":0},{"$f":"Нерег.цена!C797","v":2281.75},2281.75,0,0]
[{"$f":"мощность!$AA$34","v":"31.01.2026"},20,{"$f":"мощность!V34","v":0},{"$f":"Нерег.цена!C798","v":2231.36},2231.36,0,0]
[{"$f":"мощность!$AA$34","v":"31.01.2026"},21,{"$f":"мощность!W34","v":0},{"$f":"Нерег.цена!C799","v":2172.8000000000002},2172.8000000000002,{"$f":"ROUND(C743*D743/1000,2)","v":0},0]
[{"$f":"мощность!$AA$34","v":"31.01.2026"},22,{"$f":"мощность!X34","v":0},{"$f":"Нерег.цена!C800","v":1969.13},1969.13,0,0]
[{"$f":"мощность!$AA$34","v":"31.01.2026"},23,{"$f":"мощность!Y34","v":0},{"$f":"Нерег.цена!C801","v":1734.97},1734.97,0,0]
["ИТОГО",null,{"$f":"SUM(C2:C745)","v":0},{"$f":"ROUND(F746/C746*1000,2)","v":{"$error":"#DIV/0!"}},{"$f":"ROUND(G746/C746*1000,2)","v":{"$error":"#DIV/0!"}},{"$f":"SUM(F2:F745)","v":0},{"$f":"SUM(G2:G745)","v":0}]
[]
["Средневзвешенная нерегулируемая цена на мощность",null,{"$f":"ROUND(мощность!AB35,0)","v":{"$error":"#N/A"}},{"$f":"Нерег.цена!B32","v":"1107534,28"},{"$f":"ROUND(1*D748,2)","v":1107534.28},{"$f":"ROUND(C748*D748,2)/1000","v":{"$error":"#N/A"}},{"$f":"C748*E748/1000","v":{"$error":"#N/A"}}]
[null,null,null,"377213,16"]
[]
["Показатель",null,"Объём (КВтч)","Цена руб/МВтч","Стоимость, руб.","Стоимость с НДС, руб.","в т.ч. НДС (22%)"]
["Электроэнергия",null,{"$f":"C746","v":0},{"$f":"E746","v":{"$error":"#DIV/0!"}},{"$f":"ROUND(D752*C752/1000,2)","v":{"$error":"#DIV/0!"}},{"$f":"ROUND(E752*1.22,2)","v":{"$error":"#DIV/0!"}},{"$f":"ROUND(E752*1.22,2)-E752","v":{"$error":"#DIV/0!"}}]
["Мощность",null,{"$f":"C748","v":{"$error":"#N/A"}},{"$f":"E748","v":1107534.28},{"$f":"ROUND(D753*C753/1000,2)","v":{"$error":"#N/A"}},{"$f":"ROUND(E753*1.22,2)","v":{"$error":"#N/A"}},{"$f":"ROUND(E753*1.22,2)-E753","v":{"$error":"#N/A"}}]
["ИТОГО",null,"Х",null,{"$f":"SUM(E752:E753)","v":{"$error":"#DIV/0!"}},{"$f":"SUM(F752:F753)","v":{"$error":"#DIV/0!"}},{"$f":"SUM(G752:G753)","v":{"$error":"#DIV/0!"}}]

{"sheet":"округл","index":4,"n_rows":91,"n_cols":33,"rows_kept":91,"cut":false,"hidden":true,"merged":[]}
[null,"Почасовые расходы,кВтч ( мощность,кВт ) "]
[]
[null,"за ",{"$f":"мощность!B1","v":"январь"}]
[]
[null,1,2,3,4,5,6,7,8,9,10,11,12,13,14,15,16,17,18,19,20,21,22,23,24,25,26,27,28,29,30,31]
[1,{"$f":"ввод!$B$5","v":0},{"$f":"ввод!$B$6","v":0},{"$f":"ввод!$B$7","v":0},{"$f":"ввод!$B$8","v":0},{"$f":"ввод!$B$9","v":0},{"$f":"ввод!$B$10","v":0},{"$f":"ввод!$B$11","v":0},{"$f":"ввод!$B$12","v":0},{"$f":"ввод!$B$13","v":0},{"$f":"ввод!$B$14","v":0},{"$f":"ввод!$B$15","v":0},{"$f":"ввод!$B$16","v":0},{"$f":"ввод!$B$17","v":0},{"$f":"ввод!$B$18","v":0},{"$f":"ввод!$B$19","v":0},{"$f":"ввод!$B$20","v":0},{"$f":"ввод!$B$21","v":0},{"$f":"ввод!$B$22","v":0},{"$f":"ввод!$B$23","v":0},{"$f":"ввод!$B$24","v":0},{"$f":"ввод!$B$25","v":0},{"$f":"ввод!$B$26","v":0},{"$f":"ввод!$B$27","v":0},{"$f":"ввод!$B$28","v":0},{"$f":"ввод!$B$29","v":0},{"$f":"ввод!$B$30","v":0},{"$f":"ввод!$B$31","v":0},{"$f":"ввод!$B$32","v":0},{"$f":"ввод!$B$33","v":0},{"$f":"ввод!$B$34","v":0},{"$f":"ввод!$B$35","v":0}]
[2,{"$f":"ввод!$C$5","v":0},{"$f":"ввод!$C$6","v":0},{"$f":"ввод!$C$7","v":0},{"$f":"ввод!$C$8","v":0},{"$f":"ввод!$C$9","v":0},{"$f":"ввод!$C$10","v":0},{"$f":"ввод!$C$11","v":0},{"$f":"ввод!$C$12","v":0},{"$f":"ввод!$C$13","v":0},{"$f":"ввод!$C$14","v":0},{"$f":"ввод!$C$15","v":0},{"$f":"ввод!$C$16","v":0},{"$f":"ввод!$C$17","v":0},{"$f":"ввод!$C$18","v":0},{"$f":"ввод!$C$19","v":0},{"$f":"ввод!$C$20","v":0},{"$f":"ввод!$C$21","v":0},{"$f":"ввод!$C$22","v":0},{"$f":"ввод!$C$23","v":0},{"$f":"ввод!$C$24","v":0},{"$f":"ввод!$C$25","v":0},{"$f":"ввод!$C$26","v":0},{"$f":"ввод!$C$27","v":0},{"$f":"ввод!$C$28","v":0},{"$f":"ввод!$C$29","v":0},{"$f":"ввод!$C$30","v":0},{"$f":"ввод!$C$31","v":0},{"$f":"ввод!$C$32","v":0},{"$f":"ввод!$C$33","v":0},{"$f":"ввод!$C$34","v":0},{"$f":"ввод!$C$35","v":0}]
[3,{"$f":"ввод!$D$5","v":0},{"$f":"ввод!$D$6","v":0},{"$f":"ввод!$D$7","v":0},{"$f":"ввод!$D$8","v":0},{"$f":"ввод!$D$9","v":0},{"$f":"ввод!$D$10","v":0},{"$f":"ввод!$D$11","v":0},{"$f":"ввод!$D$12","v":0},{"$f":"ввод!$D$13","v":0},{"$f":"ввод!$D$14","v":0},{"$f":"ввод!$D$15","v":0},{"$f":"ввод!$D$16","v":0},{"$f":"ввод!$D$17","v":0},{"$f":"ввод!$D$18","v":0},{"$f":"ввод!$D$19","v":0},{"$f":"ввод!$D$20","v":0},{"$f":"ввод!$D$21","v":0},{"$f":"ввод!$D$22","v":0},{"$f":"ввод!$D$23","v":0},{"$f":"ввод!$D$24","v":0},{"$f":"ввод!$D$25","v":0},{"$f":"ввод!$D$26","v":0},{"$f":"ввод!$D$27","v":0},{"$f":"ввод!$D$28","v":0},{"$f":"ввод!$D$29","v":0},{"$f":"ввод!$D$30","v":0},{"$f":"ввод!$D$31","v":0},{"$f":"ввод!$D$32","v":0},{"$f":"ввод!$D$33","v":0},{"$f":"ввод!$D$34","v":0},{"$f":"ввод!$D$35","v":0}]
[4,{"$f":"ввод!$E$5","v":0},{"$f":"ввод!$E$6","v":0},{"$f":"ввод!$E$7","v":0},{"$f":"ввод!$E$8","v":0},{"$f":"ввод!$E$9","v":0},{"$f":"ввод!$E$10","v":0},{"$f":"ввод!$E$11","v":0},{"$f":"ввод!$E$12","v":0},{"$f":"ввод!$E$13","v":0},{"$f":"ввод!$E$14","v":0},{"$f":"ввод!$E$15","v":0},{"$f":"ввод!$E$16","v":0},{"$f":"ввод!$E$17","v":0},{"$f":"ввод!$E$18","v":0},{"$f":"ввод!$E$19","v":0},{"$f":"ввод!$E$20","v":0},{"$f":"ввод!$E$21","v":0},{"$f":"ввод!$E$22","v":0},{"$f":"ввод!$E$23","v":0},{"$f":"ввод!$E$24","v":0},{"$f":"ввод!$E$25","v":0},{"$f":"ввод!$E$26","v":0},{"$f":"ввод!$E$27","v":0},{"$f":"ввод!$E$28","v":0},{"$f":"ввод!$E$29","v":0},{"$f":"ввод!$E$30","v":0},{"$f":"ввод!$E$31","v":0},{"$f":"ввод!$E$32","v":0},{"$f":"ввод!$E$33","v":0},{"$f":"ввод!$E$34","v":0},{"$f":"ввод!$E$35","v":0}]
[5,{"$f":"ввод!$F$5","v":0},{"$f":"ввод!$F$6","v":0},{"$f":"ввод!$F$7","v":0},{"$f":"ввод!$F$8","v":0},{"$f":"ввод!$F$9","v":0},{"$f":"ввод!$F$10","v":0},{"$f":"ввод!$F$11","v":0},{"$f":"ввод!$F$12","v":0},{"$f":"ввод!$F$13","v":0},{"$f":"ввод!$F$14","v":0},{"$f":"ввод!$F$15","v":0},{"$f":"ввод!$F$16","v":0},{"$f":"ввод!$F$17","v":0},{"$f":"ввод!$F$18","v":0},{"$f":"ввод!$F$19","v":0},{"$f":"ввод!$F$20","v":0},{"$f":"ввод!$F$21","v":0},{"$f":"ввод!$F$22","v":0},{"$f":"ввод!$F$23","v":0},{"$f":"ввод!$F$24","v":0},{"$f":"ввод!$F$25","v":0},{"$f":"ввод!$F$26","v":0},{"$f":"ввод!$F$27","v":0},{"$f":"ввод!$F$28","v":0},{"$f":"ввод!$F$29","v":0},{"$f":"ввод!$F$30","v":0},{"$f":"ввод!$F$31","v":0},{"$f":"ввод!$F$32","v":0},{"$f":"ввод!$F$33","v":0},{"$f":"ввод!$F$34","v":0},{"$f":"ввод!$F$35","v":0}]
[6,{"$f":"ввод!$G$5","v":0},{"$f":"ввод!$G$6","v":0},{"$f":"ввод!$G$7","v":0},{"$f":"ввод!$G$8","v":0},{"$f":"ввод!$G$9","v":0},{"$f":"ввод!$G$10","v":0},{"$f":"ввод!$G$11","v":0},{"$f":"ввод!$G$12","v":0},{"$f":"ввод!$G$13","v":0},{"$f":"ввод!$G$14","v":0},{"$f":"ввод!$G$15","v":0},{"$f":"ввод!$G$16","v":0},{"$f":"ввод!$G$17","v":0},{"$f":"ввод!$G$18","v":0},{"$f":"ввод!$G$19","v":0},{"$f":"ввод!$G$20","v":0},{"$f":"ввод!$G$21","v":0},{"$f":"ввод!$G$22","v":0},{"$f":"ввод!$G$23","v":0},{"$f":"ввод!$G$24","v":0},{"$f":"ввод!$G$25","v":0},{"$f":"ввод!$G$26","v":0},{"$f":"ввод!$G$27","v":0},{"$f":"ввод!$G$28","v":0},{"$f":"ввод!$G$29","v":0},{"$f":"ввод!$G$30","v":0},{"$f":"ввод!$G$31","v":0},{"$f":"ввод!$G$32","v":0},{"$f":"ввод!$G$33","v":0},{"$f":"ввод!$G$34","v":0},{"$f":"ввод!$G$35","v":0}]
[7,{"$f":"ввод!$H$5","v":0},{"$f":"ввод!$H$6","v":0},{"$f":"ввод!$H$7","v":0},{"$f":"ввод!$H$8","v":0},{"$f":"ввод!$H$9","v":0},{"$f":"ввод!$H$10","v":0},{"$f":"ввод!$H$11","v":0},{"$f":"ввод!$H$12","v":0},{"$f":"ввод!$H$13","v":0},{"$f":"ввод!$H$14","v":0},{"$f":"ввод!$H$15","v":0},{"$f":"ввод!$H$16","v":0},{"$f":"ввод!$H$17","v":0},{"$f":"ввод!$H$18","v":0},{"$f":"ввод!$H$19","v":0},{"$f":"ввод!$H$20","v":0},{"$f":"ввод!$H$21","v":0},{"$f":"ввод!$H$22","v":0},{"$f":"ввод!$H$23","v":0},{"$f":"ввод!$H$24","v":0},{"$f":"ввод!$H$25","v":0},{"$f":"ввод!$H$26","v":0},{"$f":"ввод!$H$27","v":0},{"$f":"ввод!$H$28","v":0},{"$f":"ввод!$H$29","v":0},{"$f":"ввод!$H$30","v":0},{"$f":"ввод!$H$31","v":0},{"$f":"ввод!$H$32","v":0},{"$f":"ввод!$H$33","v":0},{"$f":"ввод!$H$34","v":0},{"$f":"ввод!$H$35","v":0}]
[8,{"$f":"ввод!$I$5","v":0},{"$f":"ввод!$I$6","v":0},{"$f":"ввод!$I$7","v":0},{"$f":"ввод!$I$8","v":0},{"$f":"ввод!$I$9","v":0},{"$f":"ввод!$I$10","v":0},{"$f":"ввод!$I$11","v":0},{"$f":"ввод!$I$12","v":0},{"$f":"ввод!$I$13","v":0},{"$f":"ввод!$I$14","v":0},{"$f":"ввод!$I$15","v":0},{"$f":"ввод!$I$16","v":0},{"$f":"ввод!$I$17","v":0},{"$f":"ввод!$I$18","v":0},{"$f":"ввод!$I$19","v":0},{"$f":"ввод!$I$20","v":0},{"$f":"ввод!$I$21","v":0},{"$f":"ввод!$I$22","v":0},{"$f":"ввод!$I$23","v":0},{"$f":"ввод!$I$24","v":0},{"$f":"ввод!$I$25","v":0},{"$f":"ввод!$I$26","v":0},{"$f":"ввод!$I$27","v":0},{"$f":"ввод!$I$28","v":0},{"$f":"ввод!$I$29","v":0},{"$f":"ввод!$I$30","v":0},{"$f":"ввод!$I$31","v":0},{"$f":"ввод!$I$32","v":0},{"$f":"ввод!$I$33","v":0},{"$f":"ввод!$I$34","v":0},{"$f":"ввод!$I$35","v":0}]
[9,{"$f":"ввод!$J$5","v":0},{"$f":"ввод!$J$6","v":0},{"$f":"ввод!$J$7","v":0},{"$f":"ввод!$J$8","v":0},{"$f":"ввод!$J$9","v":0},{"$f":"ввод!$J$10","v":0},{"$f":"ввод!$J$11","v":0},{"$f":"ввод!$J$12","v":0},{"$f":"ввод!$J$13","v":0},{"$f":"ввод!$J$14","v":0},{"$f":"ввод!$J$15","v":0},{"$f":"ввод!$J$16","v":0},{"$f":"ввод!$J$17","v":0},{"$f":"ввод!$J$18","v":0},{"$f":"ввод!$J$19","v":0},{"$f":"ввод!$J$20","v":0},{"$f":"ввод!$J$21","v":0},{"$f":"ввод!$J$22","v":0},{"$f":"ввод!$J$23","v":0},{"$f":"ввод!$J$24","v":0},{"$f":"ввод!$J$25","v":0},{"$f":"ввод!$J$26","v":0},{"$f":"ввод!$J$27","v":0},{"$f":"ввод!$J$28","v":0},{"$f":"ввод!$J$29","v":0},{"$f":"ввод!$J$30","v":0},{"$f":"ввод!$J$31","v":0},{"$f":"ввод!$J$32","v":0},{"$f":"ввод!$J$33","v":0},{"$f":"ввод!$J$34","v":0},{"$f":"ввод!$J$35","v":0}]
[10,{"$f":"ввод!$K$5","v":0},{"$f":"ввод!$K$6","v":0},{"$f":"ввод!$K$7","v":0},{"$f":"ввод!$K$8","v":0},{"$f":"ввод!$K$9","v":0},{"$f":"ввод!$K$10","v":0},{"$f":"ввод!$K$11","v":0},{"$f":"ввод!$K$12","v":0},{"$f":"ввод!$K$13","v":0},{"$f":"ввод!$K$14","v":0},{"$f":"ввод!$K$15","v":0},{"$f":"ввод!$K$16","v":0},{"$f":"ввод!$K$17","v":0},{"$f":"ввод!$K$18","v":0},{"$f":"ввод!$K$19","v":0},{"$f":"ввод!$K$20","v":0},{"$f":"ввод!$K$21","v":0},{"$f":"ввод!$K$22","v":0},{"$f":"ввод!$K$23","v":0},{"$f":"ввод!$K$24","v":0},{"$f":"ввод!$K$25","v":0},{"$f":"ввод!$K$26","v":0},{"$f":"ввод!$K$27","v":0},{"$f":"ввод!$K$28","v":0},{"$f":"ввод!$K$29","v":0},{"$f":"ввод!$K$30","v":0},{"$f":"ввод!$K$31","v":0},{"$f":"ввод!$K$32","v":0},{"$f":"ввод!$K$33","v":0},{"$f":"ввод!$K$34","v":0},{"$f":"ввод!$K$35","v":0}]
[11,{"$f":"ввод!$L$5","v":0},{"$f":"ввод!$L$6","v":0},{"$f":"ввод!$L$7","v":0},{"$f":"ввод!$L$8","v":0},{"$f":"ввод!$L$9","v":0},{"$f":"ввод!$L$10","v":0},{"$f":"ввод!$L$11","v":0},{"$f":"ввод!$L$12","v":0},{"$f":"ввод!$L$13","v":0},{"$f":"ввод!$L$14","v":0},{"$f":"ввод!$L$15","v":0},{"$f":"ввод!$L$16","v":0},{"$f":"ввод!$L$17","v":0},{"$f":"ввод!$L$18","v":0},{"$f":"ввод!$L$19","v":0},{"$f":"ввод!$L$20","v":0},{"$f":"ввод!$L$21","v":0},{"$f":"ввод!$L$22","v":0},{"$f":"ввод!$L$23","v":0},{"$f":"ввод!$L$24","v":0},{"$f":"ввод!$L$25","v":0},{"$f":"ввод!$L$26","v":0},{"$f":"ввод!$L$27","v":0},{"$f":"ввод!$L$28","v":0},{"$f":"ввод!$L$29","v":0},{"$f":"ввод!$L$30","v":0},{"$f":"ввод!$L$31","v":0},{"$f":"ввод!$L$32","v":0},{"$f":"ввод!$L$33","v":0},{"$f":"ввод!$L$34","v":0},{"$f":"ввод!$L$35","v":0}]
[12,{"$f":"ввод!$M$5","v":0},{"$f":"ввод!$M$6","v":0},{"$f":"ввод!$M$7","v":0},{"$f":"ввод!$M$8","v":0},{"$f":"ввод!$M$9","v":0},{"$f":"ввод!$M$10","v":0},{"$f":"ввод!$M$11","v":0},{"$f":"ввод!$M$12","v":0},{"$f":"ввод!$M$13","v":0},{"$f":"ввод!$M$14","v":0},{"$f":"ввод!$M$15","v":0},{"$f":"ввод!$M$16","v":0},{"$f":"ввод!$M$17","v":0},{"$f":"ввод!$M$18","v":0},{"$f":"ввод!$M$19","v":0},{"$f":"ввод!$M$20","v":0},{"$f":"ввод!$M$21","v":0},{"$f":"ввод!$M$22","v":0},{"$f":"ввод!$M$23","v":0},{"$f":"ввод!$M$24","v":0},{"$f":"ввод!$M$25","v":0},{"$f":"ввод!$M$26","v":0},{"$f":"ввод!$M$27","v":0},{"$f":"ввод!$M$28","v":0},{"$f":"ввод!$M$29","v":0},{"$f":"ввод!$M$30","v":0},{"$f":"ввод!$M$31","v":0},{"$f":"ввод!$M$32","v":0},{"$f":"ввод!$M$33","v":0},{"$f":"ввод!$M$34","v":0},{"$f":"ввод!$M$35","v":0}]
[13,{"$f":"ввод!$N$5","v":0},{"$f":"ввод!$N$6","v":0},{"$f":"ввод!$N$7","v":0},{"$f":"ввод!$N$8","v":0},{"$f":"ввод!$N$9","v":0},{"$f":"ввод!$N$10","v":0},{"$f":"ввод!$N$11","v":0},{"$f":"ввод!$N$12","v":0},{"$f":"ввод!$N$13","v":0},{"$f":"ввод!$N$14","v":0},{"$f":"ввод!$N$15","v":0},{"$f":"ввод!$N$16","v":0},{"$f":"ввод!$N$17","v":0},{"$f":"ввод!$N$18","v":0},{"$f":"ввод!$N$19","v":0},{"$f":"ввод!$N$20","v":0},{"$f":"ввод!$N$21","v":0},{"$f":"ввод!$N$22","v":0},{"$f":"ввод!$N$23","v":0},{"$f":"ввод!$N$24","v":0},{"$f":"ввод!$N$25","v":0},{"$f":"ввод!$N$26","v":0},{"$f":"ввод!$N$27","v":0},{"$f":"ввод!$N$28","v":0},{"$f":"ввод!$N$29","v":0},{"$f":"ввод!$N$30","v":0},{"$f":"ввод!$N$31","v":0},{"$f":"ввод!$N$32","v":0},{"$f":"ввод!$N$33","v":0},{"$f":"ввод!$N$34","v":0},{"$f":"ввод!$N$35","v":0}]
[14,{"$f":"ввод!$O$5","v":0},{"$f":"ввод!$O$6","v":0},{"$f":"ввод!$O$7","v":0},{"$f":"ввод!$O$8","v":0},{"$f":"ввод!$O$9","v":0},{"$f":"ввод!$O$10","v":0},{"$f":"ввод!$O$11","v":0},{"$f":"ввод!$O$12","v":0},{"$f":"ввод!$O$13","v":0},{"$f":"ввод!$O$14","v":0},{"$f":"ввод!$O$15","v":0},{"$f":"ввод!$O$16","v":0},{"$f":"ввод!$O$17","v":0},{"$f":"ввод!$O$18","v":0},{"$f":"ввод!$O$19","v":0},{"$f":"ввод!$O$20","v":0},{"$f":"ввод!$O$21","v":0},{"$f":"ввод!$O$22","v":0},{"$f":"ввод!$O$23","v":0},{"$f":"ввод!$O$24","v":0},{"$f":"ввод!$O$25","v":0},{"$f":"ввод!$O$26","v":0},{"$f":"ввод!$O$27","v":0},{"$f":"ввод!$O$28","v":0},{"$f":"ввод!$O$29","v":0},{"$f":"ввод!$O$30","v":0},{"$f":"ввод!$O$31","v":0},{"$f":"ввод!$O$32","v":0},{"$f":"ввод!$O$33","v":0},{"$f":"ввод!$O$34","v":0},{"$f":"ввод!$O$35","v":0}]
[15,{"$f":"ввод!$P$5","v":0},{"$f":"ввод!$P$6","v":0},{"$f":"ввод!$P$7","v":0},{"$f":"ввод!$P$8","v":0},{"$f":"ввод!$P$9","v":0},{"$f":"ввод!$P$10","v":0},{"$f":"ввод!$P$11","v":0},{"$f":"ввод!$P$12","v":0},{"$f":"ввод!$P$13","v":0},{"$f":"ввод!$P$14","v":0},{"$f":"ввод!$P$15","v":0},{"$f":"ввод!$P$16","v":0},{"$f":"ввод!$P$17","v":0},{"$f":"ввод!$P$18","v":0},{"$f":"ввод!$P$19","v":0},{"$f":"ввод!$P$20","v":0},{"$f":"ввод!$P$21","v":0},{"$f":"ввод!$P$22","v":0},{"$f":"ввод!$P$23","v":0},{"$f":"ввод!$P$24","v":0},{"$f":"ввод!$P$25","v":0},{"$f":"ввод!$P$26","v":0},{"$f":"ввод!$P$27","v":0},{"$f":"ввод!$P$28","v":0},{"$f":"ввод!$P$29","v":0},{"$f":"ввод!$P$30","v":0},{"$f":"ввод!$P$31","v":0},{"$f":"ввод!$P$32","v":0},{"$f":"ввод!$P$33","v":0},{"$f":"ввод!$P$34","v":0},{"$f":"ввод!$P$35","v":0}]
[16,{"$f":"ввод!$Q$5","v":0},{"$f":"ввод!$Q$6","v":0},{"$f":"ввод!$Q$7","v":0},{"$f":"ввод!$Q$8","v":0},{"$f":"ввод!$Q$9","v":0},{"$f":"ввод!$Q$10","v":0},{"$f":"ввод!$Q$11","v":0},{"$f":"ввод!$Q$12","v":0},{"$f":"ввод!$Q$13","v":0},{"$f":"ввод!$Q$14","v":0},{"$f":"ввод!$Q$15","v":0},{"$f":"ввод!$Q$16","v":0},{"$f":"ввод!$Q$17","v":0},{"$f":"ввод!$Q$18","v":0},{"$f":"ввод!$Q$19","v":0},{"$f":"ввод!$Q$20","v":0},{"$f":"ввод!$Q$21","v":0},{"$f":"ввод!$Q$22","v":0},{"$f":"ввод!$Q$23","v":0},{"$f":"ввод!$Q$24","v":0},{"$f":"ввод!$Q$25","v":0},{"$f":"ввод!$Q$26","v":0},{"$f":"ввод!$Q$27","v":0},{"$f":"ввод!$Q$28","v":0},{"$f":"ввод!$Q$29","v":0},{"$f":"ввод!$Q$30","v":0},{"$f":"ввод!$Q$31","v":0},{"$f":"ввод!$Q$32","v":0},{"$f":"ввод!$Q$33","v":0},{"$f":"ввод!$Q$34","v":0},{"$f":"ввод!$Q$35","v":0}]
[17,{"$f":"ввод!$R$5","v":0},{"$f":"ввод!$R$6","v":0},{"$f":"ввод!$R$7","v":0},{"$f":"ввод!$R$8","v":0},{"$f":"ввод!$R$9","v":0},{"$f":"ввод!$R$10","v":0},{"$f":"ввод!$R$11","v":0},{"$f":"ввод!$R$12","v":0},{"$f":"ввод!$R$13","v":0},{"$f":"ввод!$R$14","v":0},{"$f":"ввод!$R$15","v":0},{"$f":"ввод!$R$16","v":0},{"$f":"ввод!$R$17","v":0},{"$f":"ввод!$R$18","v":0},{"$f":"ввод!$R$19","v":0},{"$f":"ввод!$R$20","v":0},{"$f":"ввод!$R$21","v":0},{"$f":"ввод!$R$22","v":0},{"$f":"ввод!$R$23","v":0},{"$f":"ввод!$R$24","v":0},{"$f":"ввод!$R$25","v":0},{"$f":"ввод!$R$26","v":0},{"$f":"ввод!$R$27","v":0},{"$f":"ввод!$R$28","v":0},{"$f":"ввод!$R$29","v":0},{"$f":"ввод!$R$30","v":0},{"$f":"ввод!$R$31","v":0},{"$f":"ввод!$R$32","v":0},{"$f":"ввод!$R$33","v":0},{"$f":"ввод!$R$34","v":0},{"$f":"ввод!$R$35","v":0}]
[18,{"$f":"ввод!$S$5","v":0},{"$f":"ввод!$S$6","v":0},{"$f":"ввод!$S$7","v":0},{"$f":"ввод!$S$8","v":0},{"$f":"ввод!$S$9","v":0},{"$f":"ввод!$S$10","v":0},{"$f":"ввод!$S$11","v":0},{"$f":"ввод!$S$12","v":0},{"$f":"ввод!$S$13","v":0},{"$f":"ввод!$S$14","v":0},{"$f":"ввод!$S$15","v":0},{"$f":"ввод!$S$16","v":0},{"$f":"ввод!$S$17","v":0},{"$f":"ввод!$S$18","v":0},{"$f":"ввод!$S$19","v":0},{"$f":"ввод!$S$20","v":0},{"$f":"ввод!$S$21","v":0},{"$f":"ввод!$S$22","v":0},{"$f":"ввод!$S$23","v":0},{"$f":"ввод!$S$24","v":0},{"$f":"ввод!$S$25","v":0},{"$f":"ввод!$S$26","v":0},{"$f":"ввод!$S$27","v":0},{"$f":"ввод!$S$28","v":0},{"$f":"ввод!$S$29","v":0},{"$f":"ввод!$S$30","v":0},{"$f":"ввод!$S$31","v":0},{"$f":"ввод!$S$32","v":0},{"$f":"ввод!$S$33","v":0},{"$f":"ввод!$S$34","v":0},{"$f":"ввод!$S$35","v":0}]
[19,{"$f":"ввод!$T$5","v":0},{"$f":"ввод!$T$6","v":0},{"$f":"ввод!$T$7","v":0},{"$f":"ввод!$T$8","v":0},{"$f":"ввод!$T$9","v":0},{"$f":"ввод!$T$10","v":0},{"$f":"ввод!$T$11","v":0},{"$f":"ввод!$T$12","v":0},{"$f":"ввод!$T$13","v":0},{"$f":"ввод!$T$14","v":0},{"$f":"ввод!$T$15","v":0},{"$f":"ввод!$T$16","v":0},{"$f":"ввод!$T$17","v":0},{"$f":"ввод!$T$18","v":0},{"$f":"ввод!$T$19","v":0},{"$f":"ввод!$T$20","v":0},{"$f":"ввод!$T$21","v":0},{"$f":"ввод!$T$22","v":0},{"$f":"ввод!$T$23","v":0},{"$f":"ввод!$T$24","v":0},{"$f":"ввод!$T$25","v":0},{"$f":"ввод!$T$26","v":0},{"$f":"ввод!$T$27","v":0},{"$f":"ввод!$T$28","v":0},{"$f":"ввод!$T$29","v":0},{"$f":"ввод!$T$30","v":0},{"$f":"ввод!$T$31","v":0},{"$f":"ввод!$T$32","v":0},{"$f":"ввод!$T$33","v":0},{"$f":"ввод!$T$34","v":0},{"$f":"ввод!$T$35","v":0}]
[20,{"$f":"ввод!$U$5","v":0},{"$f":"ввод!$U$6","v":0},{"$f":"ввод!$U$7","v":0},{"$f":"ввод!$U$8","v":0},{"$f":"ввод!$U$9","v":0},{"$f":"ввод!$U$10","v":0},{"$f":"ввод!$U$11","v":0},{"$f":"ввод!$U$12","v":0},{"$f":"ввод!$U$13","v":0},{"$f":"ввод!$U$14","v":0},{"$f":"ввод!$U$15","v":0},{"$f":"ввод!$U$16","v":0},{"$f":"ввод!$U$17","v":0},{"$f":"ввод!$U$18","v":0},{"$f":"ввод!$U$19","v":0},{"$f":"ввод!$U$20","v":0},{"$f":"ввод!$U$21","v":0},{"$f":"ввод!$U$22","v":0},{"$f":"ввод!$U$23","v":0},{"$f":"ввод!$U$24","v":0},{"$f":"ввод!$U$25","v":0},{"$f":"ввод!$U$26","v":0},{"$f":"ввод!$U$27","v":0},{"$f":"ввод!$U$28","v":0},{"$f":"ввод!$U$29","v":0},{"$f":"ввод!$U$30","v":0},{"$f":"ввод!$U$31","v":0},{"$f":"ввод!$U$32","v":0},{"$f":"ввод!$U$33","v":0},{"$f":"ввод!$U$34","v":0},{"$f":"ввод!$U$35","v":0}]
[21,{"$f":"ввод!$V$5","v":0},{"$f":"ввод!$V$6","v":0},{"$f":"ввод!$V$7","v":0},{"$f":"ввод!$V$8","v":0},{"$f":"ввод!$V$9","v":0},{"$f":"ввод!$V$10","v":0},{"$f":"ввод!$V$11","v":0},{"$f":"ввод!$V$12","v":0},{"$f":"ввод!$V$13","v":0},{"$f":"ввод!$V$14","v":0},{"$f":"ввод!$V$15","v":0},{"$f":"ввод!$V$16","v":0},{"$f":"ввод!$V$17","v":0},{"$f":"ввод!$V$18","v":0},{"$f":"ввод!$V$19","v":0},{"$f":"ввод!$V$20","v":0},{"$f":"ввод!$V$21","v":0},{"$f":"ввод!$V$22","v":0},{"$f":"ввод!$V$23","v":0},{"$f":"ввод!$V$24","v":0},{"$f":"ввод!$V$25","v":0},{"$f":"ввод!$V$26","v":0},{"$f":"ввод!$V$27","v":0},{"$f":"ввод!$V$28","v":0},{"$f":"ввод!$V$29","v":0},{"$f":"ввод!$V$30","v":0},{"$f":"ввод!$V$31","v":0},{"$f":"ввод!$V$32","v":0},{"$f":"ввод!$V$33","v":0},{"$f":"ввод!$V$34","v":0},{"$f":"ввод!$V$35","v":0}]
[22,{"$f":"ввод!$W$5","v":0},{"$f":"ввод!$W$6","v":0},{"$f":"ввод!$W$7","v":0},{"$f":"ввод!$W$8","v":0},{"$f":"ввод!$W$9","v":0},{"$f":"ввод!$W$10","v":0},{"$f":"ввод!$W$11","v":0},{"$f":"ввод!$W$12","v":0},{"$f":"ввод!$W$13","v":0},{"$f":"ввод!$W$14","v":0},{"$f":"ввод!$W$15","v":0},{"$f":"ввод!$W$16","v":0},{"$f":"ввод!$W$17","v":0},{"$f":"ввод!$W$18","v":0},{"$f":"ввод!$W$19","v":0},{"$f":"ввод!$W$20","v":0},{"$f":"ввод!$W$21","v":0},{"$f":"ввод!$W$22","v":0},{"$f":"ввод!$W$23","v":0},{"$f":"ввод!$W$24","v":0},{"$f":"ввод!$W$25","v":0},{"$f":"ввод!$W$26","v":0},{"$f":"ввод!$W$27","v":0},{"$f":"ввод!$W$28","v":0},{"$f":"ввод!$W$29","v":0},{"$f":"ввод!$W$30","v":0},{"$f":"ввод!$W$31","v":0},{"$f":"ввод!$W$32","v":0},{"$f":"ввод!$W$33","v":0},{"$f":"ввод!$W$34","v":0},{"$f":"ввод!$W$35","v":0}]
[23,{"$f":"ввод!$X$5","v":0},{"$f":"ввод!$X$6","v":0},{"$f":"ввод!$X$7","v":0},{"$f":"ввод!$X$8","v":0},{"$f":"ввод!$X$9","v":0},{"$f":"ввод!$X$10","v":0},{"$f":"ввод!$X$11","v":0},{"$f":"ввод!$X$12","v":0},{"$f":"ввод!$X$13","v":0},{"$f":"ввод!$X$14","v":0},{"$f":"ввод!$X$15","v":0},{"$f":"ввод!$X$16","v":0},{"$f":"ввод!$X$17","v":0},{"$f":"ввод!$X$18","v":0},{"$f":"ввод!$X$19","v":0},{"$f":"ввод!$X$20","v":0},{"$f":"ввод!$X$21","v":0},{"$f":"ввод!$X$22","v":0},{"$f":"ввод!$X$23","v":0},{"$f":"ввод!$X$24","v":0},{"$f":"ввод!$X$25","v":0},{"$f":"ввод!$X$26","v":0},{"$f":"ввод!$X$27","v":0},{"$f":"ввод!$X$28","v":0},{"$f":"ввод!$X$29","v":0},{"$f":"ввод!$X$30","v":0},{"$f":"ввод!$X$31","v":0},{"$f":"ввод!$X$32","v":0},{"$f":"ввод!$X$33","v":0},{"$f":"ввод!$X$34","v":0},{"$f":"ввод!$X$35","v":0}]
[24,{"$f":"ввод!$Y$5","v":0},{"$f":"ввод!$Y$6","v":0},{"$f":"ввод!$Y$7","v":0},{"$f":"ввод!$Y$8","v":0},{"$f":"ввод!$Y$9","v":0},{"$f":"ввод!$Y$10","v":0},{"$f":"ввод!$Y$11","v":0},{"$f":"ввод!$Y$12","v":0},{"$f":"ввод!$Y$13","v":0},{"$f":"ввод!$Y$14","v":0},{"$f":"ввод!$Y$15","v":0},{"$f":"ввод!$Y$16","v":0},{"$f":"ввод!$Y$17","v":0},{"$f":"ввод!$Y$18","v":0},{"$f":"ввод!$Y$19","v":0},{"$f":"ввод!$Y$20","v":0},{"$f":"ввод!$Y$21","v":0},{"$f":"ввод!$Y$22","v":0},{"$f":"ввод!$Y$23","v":0},{"$f":"ввод!$Y$24","v":0},{"$f":"ввод!$Y$25","v":0},{"$f":"ввод!$Y$26","v":0},{"$f":"ввод!$Y$27","v":0},{"$f":"ввод!$Y$28","v":0},{"$f":"ввод!$Y$29","v":0},{"$f":"ввод!$Y$30","v":0},{"$f":"ввод!$Y$31","v":0},{"$f":"ввод!$Y$32","v":0},{"$f":"ввод!$Y$33","v":0},{"$f":"ввод!$Y$34","v":0},{"$f":"ввод!$Y$35","v":0}]
[]
["итог",{"$f":"SUM(B6:B29)","v":0},{"$f":"SUM(C6:C29)","v":0},0,0,0,0,0,0,0,0,0,0,0,0,0,0,0,0,0,0,0,0,0,0,0,0,0,0,0,0,0,{"$f":"SUM(B6:AF30)","v":0}]
[]
[]
[]
[]
[null,1,2,3,4,5,6,7,8,9,10,11,12,13,14,15,16,17,18,19,20,21,22,23,24,25,26,27,28,29,30,31]
[1,{"$f":"B6","v":0},{"$f":"C6+(B60-ROUND(B60,0))","v":0},{"$f":"D6+(C60-ROUND(C60,0))","v":0},0,0,0,0,0,0,0,0,0,0,0,0,0,0,0,0,0,0,0,0,0,0,0,0,{"$f":"AC6+(AB60-ROUND(AB60,0))","v":0},{"$f":"AD6+(AC60-ROUND(AC60,0))","v":0},{"$f":"AE6+(AD60-ROUND(AD60,0))","v":0},{"$f":"AF6+(AE60-ROUND(AE60,0))","v":0}]
[2,{"$f":"B7+(B37-ROUND(B37,0))","v":0},{"$f":"C7+(C37-ROUND(C37,0))","v":0},{"$f":"D7+(D37-ROUND(D37,0))","v":0},0,0,0,0,0,0,0,0,0,0,0,0,0,0,0,0,0,0,0,0,0,0,0,0,{"$f":"AC7+(AC37-ROUND(AC37,0))","v":0},{"$f":"AD7+(AD37-ROUND(AD37,0))","v":0},{"$f":"AE7+(AE37-ROUND(AE37,0))","v":0},{"$f":"AF7+(AF37-ROUND(AF37,0))","v":0}]
[3,{"$f":"B8+(B38-ROUND(B38,0))","v":0},0,0,0,0,0,0,0,0,0,0,0,0,0,0,0,0,0,0,0,0,0,0,0,0,0,0,0,{"$f":"AD8+(AD38-ROUND(AD38,0))","v":0},0,0]
[4,0,0,0,0,0,0,0,0,0,0,0,0,0,0,0,0,0,0,0,0,0,0,0,0,0,0,0,0,0,0,0]
[5,0,0,0,0,0,0,0,0,0,0,0,0,0,0,0,0,0,0,0,0,0,0,0,0,0,0,0,0,0,0,0]
[6,0,0,0,0,0,0,0,0,0,0,0,0,0,0,0,0,0,0,0,0,0,0,0,0,0,0,0,0,0,0,0]
[7,0,0,0,0,0,0,0,0,0,0,0,0,0,0,0,0,0,0,0,0,0,0,0,0,0,0,0,0,0,0,0]
[8,0,0,0,0,0,0,0,0,0,0,0,0,0,0,0,0,0,0,0,0,0,0,0,0,0,0,0,0,0,0,0]
[9,0,0,0,0,0,0,0,0,0,0,0,0,0,0,0,0,0,0,0,0,0,0,0,0,0,0,0,0,0,0,0]
[10,0,0,0,0,0,0,0,0,0,0,0,0,0,0,0,0,0,0,0,0,0,0,0,0,0,0,0,0,0,0,0]
[11,0,0,0,0,0,0,0,0,0,0,0,0,0,0,0,0,0,0,0,0,0,0,0,0,0,0,0,0,0,0,0]
[12,0,0,0,0,0,0,0,0,0,0,0,0,0,0,0,0,0,0,0,0,0,0,0,0,0,0,{"$f":"AB17+(AB47-ROUND(AB47,0))","v":0},0,0,0,0]
[13,0,0,0,0,0,0,0,0,0,0,0,0,0,0,0,0,{"$f":"R18+(R48-ROUND(R48,0))","v":0},0,0,0,0,0,0,0,0,0,0,0,0,0,0]
[14,0,0,0,0,0,0,0,0,0,0,0,0,0,0,0,0,0,0,0,0,0,0,0,0,0,0,0,0,0,0,0]
[15,0,0,0,0,0,0,0,0,0,0,0,0,0,0,0,0,0,0,0,0,0,0,0,0,0,0,0,0,0,0,0]
[16,0,0,0,0,0,{"$f":"G21+(G51-ROUND(G51,0))","v":0},0,0,0,0,0,0,0,0,0,0,0,0,0,0,0,0,0,0,0,0,0,0,0,0,0]
[17,0,0,0,0,0,0,0,0,0,0,0,0,0,0,0,0,0,0,0,0,0,0,0,0,0,0,0,0,0,0,0]
[18,0,0,0,0,0,0,0,0,0,0,0,0,0,0,0,0,0,0,0,0,0,0,0,0,0,0,0,0,0,0,0]
[19,{"$f":"B24+(B54-ROUND(B54,0))","v":0},0,0,0,0,0,0,0,0,0,0,0,0,0,0,0,0,0,0,0,0,0,0,0,0,0,0,0,0,0,0]
[20,0,0,0,0,0,0,0,0,0,0,0,0,0,0,0,0,0,0,0,0,0,0,0,0,{"$f":"Z25+(Z55-ROUND(Z55,0))","v":0},0,0,0,0,0,0]
[21,0,0,0,0,0,0,0,0,0,0,0,0,0,0,0,0,0,0,0,0,0,0,0,0,0,0,0,0,0,0,0]
[22,0,0,0,0,0,0,0,0,0,0,0,0,0,0,0,0,0,0,0,0,0,0,0,0,0,0,0,0,0,0,0]
[23,0,0,0,0,0,0,0,0,0,0,0,0,0,0,0,0,0,0,0,0,0,0,0,0,0,0,0,0,0,0,0]
[24,{"$f":"B29+(B59-ROUND(B59,0))","v":0},0,0,0,0,0,0,0,0,0,0,0,0,0,0,0,0,0,0,0,0,0,0,0,0,0,0,0,0,0,0]
[]
["итог",{"$f":"SUM(B37:B60)","v":0},{"$f":"SUM(C37:C60)","v":0},0,0,0,0,0,0,0,0,0,0,0,0,0,0,0,0,0,0,0,0,0,0,0,0,0,0,0,{"$f":"SUM(AE37:AE60)","v":0},{"$f":"SUM(AF37:AF60)","v":0}]
[]
[]
[null,1,2,3,4,5,6,7,8,9,10,11,12,13,14,15,16,17,18,19,20,21,22,23,24,25,26,27,28,29,30,31]
[1,{"$f":"ROUND(B37,0)","v":0},{"$f":"ROUND(C37,0)","v":0},0,0,0,0,0,0,0,0,0,0,0,0,0,0,0,0,0,0,0,0,{"$f":"ROUND(X37,0)","v":0},0,0,0,0,0,0,0,0]
[2,{"$f":"ROUND(B38,0)","v":0},0,0,0,0,0,0,0,0,0,0,0,0,0,0,0,0,0,0,0,0,0,0,0,0,0,0,0,0,0,0]
[3,0,0,0,0,0,0,0,0,0,0,0,0,0,0,0,0,0,0,0,0,0,0,0,0,0,0,0,0,0,0,0]
[4,0,0,0,0,0,0,0,0,0,0,0,0,0,0,0,0,0,0,0,0,0,0,{"$f":"ROUND(X40,0)","v":0},0,0,0,0,0,0,0,0]
[5,0,0,0,0,0,0,0,0,0,0,0,0,0,0,0,0,0,0,0,0,0,0,0,0,0,0,0,0,0,0,0]
[6,0,0,0,0,0,0,0,0,0,0,0,0,0,0,0,0,0,0,0,0,0,0,0,0,0,0,0,0,0,0,0]
[7,0,0,0,0,0,0,0,0,0,0,0,0,0,0,0,0,0,0,0,0,0,0,0,0,0,0,0,0,0,0,0]
[8,0,0,0,0,0,0,0,0,0,0,0,0,0,0,0,0,0,0,0,0,0,0,0,0,0,0,0,0,0,0,0]
[9,0,0,0,0,0,0,0,0,0,0,0,0,0,0,0,0,0,0,{"$f":"ROUND(T45,0)","v":0},0,0,0,0,0,0,0,0,0,0,0,0]
[10,0,0,0,0,0,0,0,0,0,0,0,0,0,0,0,0,0,0,0,0,0,0,0,0,0,0,0,0,0,0,0]
[11,0,0,0,0,0,0,0,0,0,0,0,0,0,0,0,0,0,0,0,0,0,0,0,0,0,0,0,0,0,0,0]
[12,0,0,0,0,0,0,0,0,0,0,0,0,0,0,0,0,0,0,0,0,0,0,0,0,0,0,0,0,0,0,0]
[13,0,0,0,0,0,0,0,0,0,0,0,0,0,0,0,0,0,0,0,0,0,0,0,0,0,0,0,0,0,0,0]
[14,0,0,0,0,0,0,0,0,0,0,0,0,0,0,0,0,0,0,0,0,0,0,0,0,0,0,0,0,0,0,0]
[15,0,0,0,0,0,{"$f":"ROUND(G51,0)","v":0},0,0,0,0,0,0,0,0,0,0,0,0,0,0,0,0,0,0,0,0,0,0,0,0,0]
[16,0,0,0,0,0,{"$f":"ROUND(G52,0)","v":0},0,0,0,0,0,0,0,0,0,0,0,0,0,0,0,0,0,0,0,0,0,0,0,0,0]
[17,0,0,0,0,0,0,0,0,0,0,0,0,0,0,0,0,0,0,0,0,0,0,0,0,0,0,0,0,0,0,0]
[18,{"$f":"ROUND(B54,0)","v":0},0,0,0,0,0,0,0,0,0,0,0,0,0,0,0,0,0,0,0,0,0,0,0,0,0,0,0,0,0,0]
[19,0,0,0,0,0,0,0,0,0,0,0,0,0,0,0,0,0,0,0,0,0,0,0,0,0,0,0,0,0,0,0]
[20,0,0,0,0,0,0,0,0,0,0,0,0,0,0,0,0,0,0,0,0,0,0,0,0,0,0,0,0,0,0,0]
[21,0,0,0,0,0,0,0,0,0,0,0,0,0,0,0,0,0,0,0,0,0,0,0,0,0,0,0,0,0,0,0]
[22,0,0,0,0,0,0,0,0,0,0,0,0,0,0,0,0,0,0,0,0,0,0,0,0,0,0,0,0,0,0,0]
[23,0,0,0,0,0,0,0,0,0,0,0,0,0,0,0,0,0,0,0,0,0,0,0,{"$f":"ROUND(Y59,0)","v":0},0,0,0,0,0,0,0]
[24,0,0,0,0,0,0,0,0,0,0,0,0,0,0,0,0,0,0,0,0,0,0,0,0,0,0,0,0,0,0,{"$f":"ROUND(AF60,0)","v":0}]
[]
["итог",{"$f":"SUM(B66:B89)","v":0},0,0,0,0,0,0,0,0,0,0,0,0,0,0,0,0,0,0,0,0,0,0,0,0,0,0,0,0,0,0,{"$f":"SUM(B91:AF91)","v":0}]

{"sheet":"Нерег.цена","index":5,"n_rows":807,"n_cols":6,"rows_kept":807,"cut":false,"hidden":false,"merged":[]}
[]
["Составляющие предельных уровней нерегулируемых цен"]
["за расчетный период",{"$f":"мощность!H1","v":"2026-01-01"}]
["для ГТП","PTVERENE"]
["участника оптового рынка","АО \"Росатом Энергосбыт\"",""]
[]
[]
[]
["Дифференцированные по зонам суток расчетного периода средневзвешенные нерегулируемые цены на электрическую энергию (мощность) на оптовом рынке и средневзвешенные нерегулируемые цены на электрическую энергию на оптовом рынке, определяемые для соответствующих зон суток, руб/МВтч"]
["Дифференцированная по зонам суток расчетного периода средневзвешенная нерегулируемая цена на электрическую энергию (мощность) на оптовом рынке по трем зонам суток:"]
["Ночная зона",1598.28]
["Полупиковая зона",3993.55]
["Пиковая зона",10485.66]
["Дифференцированная по зонам суток расчетного периода средневзвешенная нерегулируемая цена на электрическую энергию (мощность) на оптовом рынке по двум зонам суток:"]
["Ночная зона",1598.28]
["Дневная зона",6870.53]
["Средневзвешенная нерегулируемая цена на электрическую энергию на оптовом рынке, определяемая для соответствующей зоны суток:"]
["Ночная зона",1598.28]
["Полупиковая зона",2348.79]
["Пиковая зона",2447.08]
["Средневзвешенная нерегулируемая цена на электрическую энергию на оптовом рынке, определяемая для соответствующей зоны суток:"]
["Ночная зона",1598.28]
["Дневная зона",2392.36]
["Дифференцированная по зонам суток расчетного периода средневзвешенная нерегулируемая цена на электрическую энергию на оптовом рынке, определяемая по результатам конкурентного отбора ценовых заявок на сутки вперед для соответствующих зон суток, руб/МВтч"]
["Дифференцированная по зонам суток расчетного периода средневзвешенная нерегулируемая цена на электрическую энергию на оптовом рынке, определяемая по результатам конкурентного отбора ценовых заявок на сутки вперед по трем зонам суток:"]
["Ночная зона",1576.51]
["Полупиковая зона",2327.02]
["Пиковая зона",2425.3000000000002]
["Дифференцированная по зонам суток расчетного периода средневзвешенная нерегулируемая цена на электрическую энергию на оптовом рынке, определяемая по результатам конкурентного отбора ценовых заявок на сутки вперед по двум зонам суток:"]
["Ночная зона",1576.51]
["Дневная зона",2370.58]
["Средневзвешенная нерегулируемая цена на мощность на оптовом рынке, руб/МВт","1107534,28"]
["Средневзвешенная нерегулируемая цена на электрическую энергию на оптовом рынке, определяемая по результатам конкурентного отбора ценовых заявок на сутки вперед и конкурентного отбора заявок для балансирования системы, руб/МВтч","2121,9"]
["Средневзвешенная нерегулируемая цена на электрическую энергию на оптовом рынке, определяемая по результатам конкурентных отборов на сутки вперед, руб/МВтч","2100,13"]
["Средневзвешенная цена услуг по управлению изменением режима потребления электрической энергии,руб/МВт","1063,96"]
[]
[]
[]
["Объем электрической энергии, приобретенный участником оптового рынка за расчетный период по регулируемым ценам, МВтч","158370,01"]
["Объем электрической энергии, приобретенный участником оптового рынка за расчетный период по договору, в рамках которого осуществляется торговля электрической энергией и мощностью по регулируемым ценам (тарифам) на отдельных территориях, ранее относившихся к неценовым зонам, в целях обеспечения электрической энергией и мощностью потребителей, не относящихся к населению и (или) приравненным к нему категориям потребителей, МВтч","0"]
["Объем электрической энергии, приобретенный участником оптового рынка за расчетный период по результатам конкурентного отбора заявок на сутки вперед, МВтч","349340,053"]
[]
[]
[]
["Приходящаяся на единицу электрической энергии величина разницы предварительных требований и обязательств по результатам конкурентного отбора ценовых заявок на сутки вперед, руб/МВтч","4,28"]
["Приходящаяся на единицу электрической энергии величина разницы предварительных требований и обязательств по результатам конкурентного отбора заявок для балансирования системы, руб/МВтч","258,11"]
[]
[]
[]
["Расчетная стоимость услуг инфраструктурных организаций оптового рынка, руб.\n\nв том числе:","2714992,73"]
["расчетная стоимость услуги по оперативно-диспетчерскому управлению в электроэнергетике в части организации отбора исполнителей и оплаты услуг по обеспечению системной надежности, услуг по обеспечению вывода Единой энергетической системы России из аварийных ситуаций, услуг по формированию технологического резерва мощностей","1343068,38"]
["расчетная стоимость услуг коммерческого оператора по организации торговли на оптовом рынке, связанной с заключением и организацией исполнения сделок по обращению электрической энергии, мощности, иных объектов торговли, обращение которых допускается на оптовом рынке","1109183,12"]
["расчетная стоимость комплексной услуги ЦФР по расчету требований и обязательств участников оптового рынка и исполнителей услуг по управлению изменением режима потребления электрической энергии","262741,23"]
[]
[]
[]
["дата","час","Дифференцированная по часам расчетного периода нерегулируемая цена на электрическую энергию на оптовом рынке, определяемая по результатам конкурентного отбора ценовых заявок на сутки вперед, руб/МВтч","Дифференцированная по часам расчетного периода нерегулируемая цена на электрическую энергию на оптовом рынке, определяемая по результатам конкурентного отбора заявок для балансирования системы для объема превышения фактического потребления над плановым, руб/МВтч","Дифференцированная по часам расчетного периода нерегулируемая цена на электрическую энергию на оптовом рынке, определяемая по результатам конкурентного отбора заявок для балансирования системы для объема превышения планового потребления над фактическим, руб/МВтч","Дифференцированная по часам расчетного периода нерегулируемая цена на электрическую энергию на оптовом рынке, определяемая по результатам конкурентного отбора ценовых заявок на сутки вперед и конкурентного отбора заявок для балансирования системы, руб/МВтч"]
["01.12.2025",0,1596.01,0,83.86,1617.78]
["01.12.2025",1,1492.53,0,147.29,1514.3]
["01.12.2025",2,1453.59,0,376.74,1475.36]
["01.12.2025",3,1448.24,0,371.39,1470.01]
["01.12.2025",4,1478.15,0,15.51,1499.92]
["01.12.2025",5,1683.47,151.77000000000001,0,1705.24]
["01.12.2025",6,2086.48,111.65,0,2108.25]
["01.12.2025",7,2343.91,234.1,0,2365.6799999999998]
["01.12.2025",8,2539.4899999999998,202.57,0,2561.2600000000002]
["01.12.2025",9,2614.91,200.42,0,2636.68]
["01.12.2025",10,2646.26,158.91999999999999,0,2668.03]
["01.12.2025",11,2643.31,88.35,0,2665.08]
["01.12.2025",12,2626.88,111.97,0,2648.65]
["01.12.2025",13,2641.82,117.53,0,2663.59]
["01.12.2025",14,2637.66,133.22999999999999,0,2659.43]
["01.12.2025",15,2637.23,167.3,0,2659]
["01.12.2025",16,2665.33,185.22,0,2687.1]
["01.12.2025",17,2667.28,237.88,0,2689.05]
["01.12.2025",18,2640.36,126.76,0,2662.13]
["01.12.2025",19,2595.65,8.07,0.03,2617.42]
["01.12.2025",20,2524.31,0,173.56,2546.08]
["01.12.2025",21,2368.39,0,322.35000000000002,2390.16]
["01.12.2025",22,2171.09,0,575.82000000000005,2192.86]
["01.12.2025",23,1861.35,0,343.84,1883.12]
["02.12.2025",0,1567.72,0,99.61,1589.49]
["02.12.2025",1,1496.59,0,46.88,1518.36]
["02.12.2025",2,1434.2,0,67.510000000000005,1455.97]
["02.12.2025",3,1433.07,0,45.95,1454.84]
["02.12.2025",4,1492.83,1.46,18.46,1514.6]
["02.12.2025",5,1596.29,241.92,0,1618.06]
["02.12.2025",6,1909.75,189.74,0,1931.52]
["02.12.2025",7,2358.48,137.56,0,2380.25]
["02.12.2025",8,2534.73,127.47,0,2556.5]
["02.12.2025",9,2608.8000000000002,102.38,0,2630.57]
["02.12.2025",10,2634.59,139.04,0,2656.36]
["02.12.2025",11,2628.93,139.26,0,2650.7]
["02.12.2025",12,2611.5700000000002,135.91,0,2633.34]
["02.12.2025",13,2621.58,154.37,0,2643.35]
["02.12.2025",14,2620.13,165.63,0,2641.9]
["02.12.2025",15,2619.85,174.38,0,2641.62]
["02.12.2025",16,2600.94,198.35,0,2622.71]
["02.12.2025",17,2653.61,148.83000000000001,0,2675.38]
["02.12.2025",18,2633.95,50.06,0,2655.72]
["02.12.2025",19,2589.91,0,50.97,2611.6799999999998]
["02.12.2025",20,2516.81,0,116.14,2538.58]
["02.12.2025",21,2416.64,0,171,2438.41]
["02.12.2025",22,2152.73,0,312.98,2174.5]
["02.12.2025",23,1883.81,0,51.23,1905.58]
["03.12.2025",0,1568.21,0,13.27,1589.98]
["03.12.2025",1,1492.24,0,22.77,1514.01]
["03.12.2025",2,1449.06,17.54,0,1470.83]
["03.12.2025",3,1454.84,12.55,0,1476.61]
["03.12.2025",4,1504.31,50.68,0,1526.08]
["03.12.2025",5,1638.93,231.17,0,1660.7]
["03.12.2025",6,1941.59,148.51,0,1963.36]
["03.12.2025",7,2229.1,80.33,1.36,2250.87]
["03.12.2025",8,2328.06,87.47,0,2349.83]
["03.12.2025",9,2368.56,77.510000000000005,0,2390.33]
["03.12.2025",10,2382.5700000000002,61.14,0,2404.34]
["03.12.2025",11,2379.06,58.33,0,2400.83]
["03.12.2025",12,2366.89,63.75,0,2388.66]
["03.12.2025",13,2373.4299999999998,58.16,0,2395.1999999999998]
["03.12.2025",14,2369.91,67.58,0,2391.6799999999998]
["03.12.2025",15,2370.83,93,0,2392.6]
["03.12.2025",16,2385.06,106.83,0,2406.83]
["03.12.2025",17,2390.52,58.74,0,2412.29]
["03.12.2025",18,2377.9899999999998,64.13,0,2399.7600000000002]
["03.12.2025",19,2359.5500000000002,37.51,0,2381.3200000000002]
["03.12.2025",20,2316.5100000000002,62.14,0,2338.2800000000002]
["03.12.2025",21,2231.11,13.66,33.409999999999997,2252.88]
["03.12.2025",22,2098.41,4.32,197.28,2120.1799999999998]
["03.12.2025",23,1880.66,8.76,33.840000000000003,1902.43]
["04.12.2025",0,1569.65,18.440000000000001,0,1591.42]
["04.12.2025",1,1486.71,9.9600000000000009,4.0999999999999996,1508.48]
["04.12.2025",2,1430.86,49.65,0,1452.63]
["04.12.2025",3,1429.69,59.33,0,1451.46]
["04.12.2025",4,1489.33,119.35,0,1511.1]
["04.12.2025",5,1633.77,340.04,0,1655.54]
["04.12.2025",6,2000.97,217.74,0,2022.74]
["04.12.2025",7,2261.5500000000002,145.51,0,2283.3200000000002]
["04.12.2025",8,2397,81.59,0,2418.77]
["04.12.2025",9,2445.39,77.12,0,2467.16]
["04.12.2025",10,2463.42,83.39,0,2485.19]
["04.12.2025",11,2458.54,62.8,0,2480.31]
["04.12.2025",12,2441.19,76.52,0,2462.96]
["04.12.2025",13,2450.6,73.22,0,2472.37]
["04.12.2025",14,2444.86,71.02,0,2466.63]
["04.12.2025",15,2444.2600000000002,85.09,0,2466.0300000000002]
["04.12.2025",16,2463.54,123.43,0,2485.31]
["04.12.2025",17,2461.3200000000002,111.15,0,2483.09]
["04.12.2025",18,2442.4299999999998,108.52,0,2464.1999999999998]
["04.12.2025",19,2414.85,24.01,809.71,2436.62]
["04.12.2025",20,2371.2399999999998,65.569999999999993,15.05,2393.0100000000002]
["04.12.2025",21,2273.81,10.07,92.43,2295.58]
["04.12.2025",22,2122.46,8.8699999999999992,98.59,2144.23]
["04.12.2025",23,1886.49,2.57,217.71,1908.26]
["05.12.2025",0,1580.04,0,246.39,1601.81]
["05.12.2025",1,1492.51,0,188.84,1514.28]
["05.12.2025",2,1439.02,0,47.41,1460.79]
["05.12.2025",3,1432,0,27.53,1453.77]
["05.12.2025",4,1486.96,32.67,0,1508.73]
["05.12.2025",5,1620.55,274.43,0,1642.32]
["05.12.2025",6,1963.33,162.72999999999999,0,1985.1]
["05.12.2025",7,2254.0300000000002,187.52,3.26,2275.8000000000002]
["05.12.2025",8,2412.0500000000002,159.22999999999999,5.36,2433.8200000000002]
["05.12.2025",9,2462.2199999999998,123.47,7.78,2483.9899999999998]
["05.12.2025",10,2479.75,109.95,12.29,2501.52]
["05.12.2025",11,2474.84,103.81,13.92,2496.61]
["05.12.2025",12,2463.34,100.8,13.02,2485.11]
["05.12.2025",13,2469.13,88.35,17.89,2490.9]
["05.12.2025",14,2468,132.29,8.6,2489.77]
["05.12.2025",15,2467.9699999999998,137.08000000000001,8.06,2489.7399999999998]
["05.12.2025",16,2485.9299999999998,176.82,7.61,2507.6999999999998]
["05.12.2025",17,2509.59,177.58,7.27,2531.36]
["05.12.2025",18,2490.69,39.83,51.69,2512.46]
["05.12.2025",19,2452.42,0.26,172.63,2474.19]
["05.12.2025",20,2430.09,0.14000000000000001,176.46,2451.86]
["05.12.2025",21,2351.77,0,202.76,2373.54]
["05.12.2025",22,2162.23,0,295.56,2184]
["05.12.2025",23,1984.39,0,390.55,2006.16]
["06.12.2025",0,1945.21,0,186.16,1966.98]
["06.12.2025",1,1689.22,1.85,0.2,1710.99]
["06.12.2025",2,1595.09,51.53,0,1616.86]
["06.12.2025",3,1568.07,45.18,0,1589.84]
["06.12.2025",4,1580.63,131.22,0,1602.4]
["06.12.2025",5,1659.99,242.17,0,1681.76]
["06.12.2025",6,1836.89,165.45,0,1858.66]
["06.12.2025",7,2038.04,195.54,0,2059.81]
["06.12.2025",8,2296.23,131.02000000000001,0,2318]
["06.12.2025",9,2470.02,123.01,0,2491.79]
["06.12.2025",10,2544.39,86.22,0,2566.16]
["06.12.2025",11,2572.39,89.37,0,2594.16]
["06.12.2025",12,2568.7600000000002,86.01,0,2590.5300000000002]
["06.12.2025",13,2571.0100000000002,129.5,0,2592.7800000000002]
["06.12.2025",14,2514.54,185.69,0,2536.31]
["06.12.2025",15,2517.87,160.79,0,2539.64]
["06.12.2025",16,2560.4699999999998,159.72,0,2582.2399999999998]
["06.12.2025",17,2573.9,101.36,0,2595.67]
["06.12.2025",18,2584.1,31.08,0.05,2605.87]
["06.12.2025",19,2571.8000000000002,0,24.1,2593.5700000000002]
["06.12.2025",20,2505.4699999999998,0,249.5,2527.2399999999998]
["06.12.2025",21,2372.94,0,249.95,2394.71]
["06.12.2025",22,2148.23,0,231.12,2170]
["06.12.2025",23,1979.72,0,378.9,2001.49]
["07.12.2025",0,1738.27,12.46,0,1760.04]
["07.12.2025",1,1604.1,0,38.07,1625.87]
["07.12.2025",2,1545.34,0,40.39,1567.11]
["07.12.2025",3,1491.6,0,16.38,1513.37]
["07.12.2025",4,1507,32.46,0,1528.77]
["07.12.2025",5,1544.62,86.51,0,1566.39]
["07.12.2025",6,1582.56,165.68,0,1604.33]
["07.12.2025",7,1829.13,203.29,0,1850.9]
["07.12.2025",8,2037.4,210.09,0,2059.17]
["07.12.2025",9,2239.33,225.83,0,2261.1]
["07.12.2025",10,2421.7399999999998,93.86,0.01,2443.5100000000002]
["07.12.2025",11,2459.4499999999998,95.02,0,2481.2199999999998]
["07.12.2025",12,2462.15,104.47,0,2483.92]
["07.12.2025",13,2465.9899999999998,133.91999999999999,0,2487.7600000000002]
["07.12.2025",14,2416.69,188.52,0,2438.46]
["07.12.2025",15,2435.58,164.47,0,2457.35]
["07.12.2025",16,2473.17,217.37,0,2494.94]
["07.12.2025",17,2506.09,177.36,0,2527.86]
["07.12.2025",18,2504.8000000000002,164.44,0,2526.5700000000002]
["07.12.2025",19,2521.42,153.80000000000001,0,2543.19]
["07.12.2025",20,2475.54,132.46,0,2497.31]
["07.12.2025",21,2341.16,0,35.409999999999997,2362.9299999999998]
["07.12.2025",22,2085.0700000000002,0,26.03,2106.84]
["07.12.2025",23,1823.56,0,95.47,1845.33]
["08.12.2025",0,1631.95,0,57.8,1653.72]
["08.12.2025",1,1547.71,0,70.180000000000007,1569.48]
["08.12.2025",2,1502.3,0,147.19999999999999,1524.07]
["08.12.2025",3,1488.62,0,92.03,1510.39]
["08.12.2025",4,1539.45,1.31,4.54,1561.22]
["08.12.2025",5,1648.06,307.23,0,1669.83]
["08.12.2025",6,1924.83,222.73,0,1946.6]
["08.12.2025",7,2148.06,351.36,0,2169.83]
["08.12.2025",8,2456.88,216.27,0,2478.65]
["08.12.2025",9,2541.64,226.94,0,2563.41]
["08.12.2025",10,2570.7600000000002,204.81,0,2592.5300000000002]
["08.12.2025",11,2566.02,192.83,0,2587.79]
["08.12.2025",12,2547.71,204.95,0,2569.48]
["08.12.2025",13,2568.9,202.57,0,2590.67]
["08.12.2025",14,2494.66,296.20999999999998,0,2516.4299999999998]
["08.12.2025",15,2496.96,274.24,0,2518.73]
["08.12.2025",16,2484.98,301.2,0,2506.75]
["08.12.2025",17,2485.38,261.64999999999998,0,2507.15]
["08.12.2025",18,2494.0500000000002,95.59,0,2515.8200000000002]
["08.12.2025",19,2493.75,11.33,0.61,2515.52]
["08.12.2025",20,2376.23,0,23.75,2398]
["08.12.2025",21,2152.2600000000002,0,41.8,2174.0300000000002]
["08.12.2025",22,1929.42,0,25.53,1951.19]
["08.12.2025",23,1725.6,0,17.149999999999999,1747.37]
["09.12.2025",0,1658.76,0,18.93,1680.53]
["09.12.2025",1,1550.41,0.6,3.2,1572.18]
["09.12.2025",2,1535.71,0,29.98,1557.48]
["09.12.2025",3,1501.66,36.19,0,1523.43]
["09.12.2025",4,1542.11,118.06,0,1563.88]
["09.12.2025",5,1697.97,146.88999999999999,0,1719.74]
["09.12.2025",6,1863.9,448.38,0,1885.67]
["09.12.2025",7,2322.31,233.77,0,2344.08]
["09.12.2025",8,2502.89,218.44,0,2524.66]
["09.12.2025",9,2578.87,193.54,0,2600.64]
["09.12.2025",10,2595.5700000000002,207.63,0,2617.34]
["09.12.2025",11,2584.8000000000002,178.19,0,2606.5700000000002]
["09.12.2025",12,2561.92,213.92,0,2583.69]
["09.12.2025",13,2573.98,262.60000000000002,0,2595.75]
["09.12.2025",14,2547.56,273.69,0,2569.33]
["09.12.2025",15,2503.11,257.76,0,2524.88]
["09.12.2025",16,2518.9699999999998,222.58,0,2540.7399999999998]
["09.12.2025",17,2525.98,133.91,0,2547.75]
["09.12.2025",18,2522.5100000000002,40.56,0,2544.2800000000002]
["09.12.2025",19,2524.48,0,79.239999999999995,2546.25]
["09.12.2025",20,2445.19,0,130.22999999999999,2466.96]
["09.12.2025",21,2252.85,0,297.70999999999998,2274.62]
["09.12.2025",22,1997.79,0,304.60000000000002,2019.56]
["09.12.2025",23,1765.94,0,237.04,1787.71]
["10.12.2025",0,1542.68,0,82.01,1564.45]
["10.12.2025",1,1478.84,0,12.98,1500.61]
["10.12.2025",2,1453.38,16.96,0,1475.15]
["10.12.2025",3,1430.3,45.7,0,1452.07]
["10.12.2025",4,1464.47,13,0,1486.24]
["10.12.2025",5,1614.58,279.24,0,1636.35]
["10.12.2025",6,1815.16,392.42,0,1836.93]
["10.12.2025",7,2165.2800000000002,379.94,0,2187.0500000000002]
["10.12.2025",8,2383.06,389,0,2404.83]
["10.12.2025",9,2457,390.55,0,2478.77]
["10.12.2025",10,2463.4699999999998,330.24,0,2485.2399999999998]
["10.12.2025",11,2460.36,284.64999999999998,0,2482.13]
["10.12.2025",12,2449.73,310.14,0,2471.5]
["10.12.2025",13,2463.46,309.83,0,2485.23]
["10.12.2025",14,2439.88,294.57,0,2461.65]
["10.12.2025",15,2434.5500000000002,334.53,0,2456.3200000000002]
["10.12.2025",16,2435.46,363.75,0,2457.23]
["10.12.2025",17,2430.35,274.55,0,2452.12]
["10.12.2025",18,2438.8200000000002,212.62,0,2460.59]
["10.12.2025",19,2450.6999999999998,132.84,0,2472.4699999999998]
["10.12.2025",20,2373,126.68,0.24,2394.77]
["10.12.2025",21,2168.35,74.400000000000006,0,2190.12]
["10.12.2025",22,1978.27,23.47,0,2000.04]
["10.12.2025",23,1710.56,48.07,0,1732.33]
["11.12.2025",0,1651.3,129.84,0,1673.07]
["11.12.2025",1,1558.73,76.05,0,1580.5]
["11.12.2025",2,1528.36,37.54,0,1550.13]
["11.12.2025",3,1513.19,58.55,0,1534.96]
["11.12.2025",4,1562.98,130.6,0,1584.75]
["11.12.2025",5,1746.74,212.81,0,1768.51]
["11.12.2025",6,2022.18,453.31,0,2043.95]
["11.12.2025",7,2366.1999999999998,367.19,0,2387.9699999999998]
["11.12.2025",8,2534.4299999999998,456.92,0,2556.1999999999998]
["11.12.2025",9,2596.4699999999998,489.68,0,2618.2399999999998]
["11.12.2025",10,2624.7,400.75,0,2646.47]
["11.12.2025",11,2616.73,405.97,0,2638.5]
["11.12.2025",12,2598.11,387.99,0,2619.88]
["11.12.2025",13,2620.17,430.2,0,2641.94]
["11.12.2025",14,2586.5700000000002,432.5,0,2608.34]
["11.12.2025",15,2565.2199999999998,475.91,0,2586.9899999999998]
["11.12.2025",16,2567.15,377.78,0,2588.92]
["11.12.2025",17,2561.67,320.58999999999997,0,2583.44]
["11.12.2025",18,2568.41,153.13999999999999,0,2590.1799999999998]
["11.12.2025",19,2570.9299999999998,155.41,0,2592.6999999999998]
["11.12.2025",20,2506.42,41.27,0.61,2528.19]
["11.12.2025",21,2351.1,0,90.27,2372.87]
["11.12.2025",22,2106.2800000000002,0,414.53,2128.0500000000002]
["11.12.2025",23,1881.53,0,150.25,1903.3]
["12.12.2025",0,1646.26,39.97,0,1668.03]
["12.12.2025",1,1530.42,0,10.09,1552.19]
["12.12.2025",2,1506.69,12.15,0,1528.46]
["12.12.2025",3,1490.36,63.75,0,1512.13]
["12.12.2025",4,1530.3,134.38,0,1552.07]
["12.12.2025",5,1657.75,286.20999999999998,0,1679.52]
["12.12.2025",6,1819.7,526.4,0,1841.47]
["12.12.2025",7,2174.2199999999998,373.93,0,2195.9899999999998]
["12.12.2025",8,2442.2800000000002,172.98,0.04,2464.0500000000002]
["12.12.2025",9,2506.6999999999998,187.68,0,2528.4699999999998]
["12.12.2025",10,2529.89,136.03,0,2551.66]
["12.12.2025",11,2522.98,99.31,0,2544.75]
["12.12.2025",12,2496.87,155.74,0,2518.64]
["12.12.2025",13,2515.34,145.04,0,2537.11]
["12.12.2025",14,2487.54,123.98,0,2509.31]
["12.12.2025",15,2451.94,149.91999999999999,0.17,2473.71]
["12.12.2025",16,2467.54,163.57,0,2489.31]
["12.12.2025",17,2470.12,57.06,1.84,2491.89]
["12.12.2025",18,2464.71,92.46,0.76,2486.48]
["12.12.2025",19,2466.87,10.41,0.87,2488.64]
["12.12.2025",20,2349.08,29.22,0,2370.85]
["12.12.2025",21,2204.35,0,237.09,2226.12]
["12.12.2025",22,1908.74,0,240.53,1930.51]
["12.12.2025",23,1791.33,0,15.14,1813.1]
["13.12.2025",0,1810.45,20.89,0,1832.22]
["13.12.2025",1,1588.05,20.62,0,1609.82]
["13.12.2025",2,1484.52,35.81,0,1506.29]
["13.12.2025",3,1452.64,1.7,0.7,1474.41]
["13.12.2025",4,1450.83,78.75,0,1472.6]
["13.12.2025",5,1518.47,194.04,0,1540.24]
["13.12.2025",6,1612.98,244.91,0,1634.75]
["13.12.2025",7,1850.45,186.96,0,1872.22]
["13.12.2025",8,2133.58,81.8,0,2155.35]
["13.12.2025",9,2173.41,174.11,0,2195.1799999999998]
["13.12.2025",10,2220.7600000000002,180.61,0,2242.5300000000002]
["13.12.2025",11,2238.7399999999998,151.11000000000001,0.13,2260.5100000000002]
["13.12.2025",12,2274.7800000000002,217.81,0,2296.5500000000002]
["13.12.2025",13,2326.54,176.3,0,2348.31]
["13.12.2025",14,2277.16,207.59,0,2298.9299999999998]
["13.12.2025",15,2221.52,303.67,0,2243.29]
["13.12.2025",16,2242.9,355.13,0,2264.67]
["13.12.2025",17,2253.46,310.87,0,2275.23]
["13.12.2025",18,2245.08,311.51,0,2266.85]
["13.12.2025",19,2310.2600000000002,220.49,0,2332.0300000000002]
["13.12.2025",20,2234.3200000000002,131.79,0,2256.09]
["13.12.2025",21,2157.62,0,188.75,2179.39]
["13.12.2025",22,2073.64,0,349.89,2095.41]
["13.12.2025",23,1847.61,0,267.75,1869.38]
["14.12.2025",0,1652.9,76.5,0,1674.67]
["14.12.2025",1,1497.44,55.97,0,1519.21]
["14.12.2025",2,1421.98,20.43,0,1443.75]
["14.12.2025",3,1401.15,12.47,18.45,1422.92]
["14.12.2025",4,1413.89,8.4600000000000009,32.39,1435.66]
["14.12.2025",5,1449.96,109.33,0,1471.73]
["14.12.2025",6,1541.88,112.39,0,1563.65]
["14.12.2025",7,1741.84,121.23,0,1763.61]
["14.12.2025",8,1994.65,82.72,0,2016.42]
["14.12.2025",9,2137.7800000000002,0,597.58000000000004,2159.5500000000002]
["14.12.2025",10,2170.94,19.989999999999998,14.29,2192.71]
["14.12.2025",11,2194.75,54.5,0.02,2216.52]
["14.12.2025",12,2195.65,60.07,0,2217.42]
["14.12.2025",13,2199.73,77.7,0,2221.5]
["14.12.2025",14,2193.8200000000002,59.81,0,2215.59]
["14.12.2025",15,2220.5500000000002,45.62,0,2242.3200000000002]
["14.12.2025",16,2266.98,160.57,0,2288.75]
["14.12.2025",17,2306.12,88.94,3.6,2327.89]
["14.12.2025",18,2301.21,70.599999999999994,23.24,2322.98]
["14.12.2025",19,2266.64,0,79.540000000000006,2288.41]
["14.12.2025",20,2218.63,0,145.76,2240.4]
["14.12.2025",21,2175.21,0,686.91,2196.98]
["14.12.2025",22,2058.7600000000002,0,915.01,2080.5300000000002]
["14.12.2025",23,1845.18,0,726.47,1866.95]
["15.12.2025",0,1565.08,0,240.24,1586.85]
["15.12.2025",1,1463.02,0,351.47,1484.79]
["15.12.2025",2,1422.5,0,188.06,1444.27]
["15.12.2025",3,1389.82,0,163.85,1411.59]
["15.12.2025",4,1429.03,0,53.81,1450.8]
["15.12.2025",5,1586.86,250.63,0,1608.63]
["15.12.2025",6,1771.62,298.31,0,1793.39]
["15.12.2025",7,2068.06,147.9,0,2089.83]
["15.12.2025",8,2260.48,277.52999999999997,0,2282.25]
["15.12.2025",9,2345.15,287.13,0,2366.92]
["15.12.2025",10,2386.6799999999998,260.17,0,2408.4499999999998]
["15.12.2025",11,2392.71,299.85000000000002,0,2414.48]
["15.12.2025",12,2363.58,360.57,0,2385.35]
["15.12.2025",13,2382.4299999999998,571.47,0,2404.1999999999998]
["15.12.2025",14,2341.98,515.58000000000004,0,2363.75]
["15.12.2025",15,2282.6799999999998,506.97,0,2304.4499999999998]
["15.12.2025",16,2261.7199999999998,530.08000000000004,0,2283.4899999999998]
["15.12.2025",17,2255.86,347.08,0,2277.63]
["15.12.2025",18,2281.1999999999998,335.11,0,2302.9699999999998]
["15.12.2025",19,2267,143.02000000000001,0,2288.77]
["15.12.2025",20,2166.92,0,202.33,2188.69]
["15.12.2025",21,2061.06,0,110.23,2082.83]
["15.12.2025",22,1880.25,0,440.78,1902.02]
["15.12.2025",23,1616.36,0,405.95,1638.13]
["16.12.2025",0,905.6,0,546.25,927.37]
["16.12.2025",1,776.65,719.38,0,798.42]
["16.12.2025",2,737.87,699.33,0,759.64]
["16.12.2025",3,736.27,667.1,0,758.04]
["16.12.2025",4,768.41,937.53,0,790.18]
["16.12.2025",5,962.7,987.89,0,984.47]
["16.12.2025",6,1443.44,646.02,0,1465.21]
["16.12.2025",7,2150.62,239.42,0,2172.39]
["16.12.2025",8,2399.86,29.05,80.97,2421.63]
["16.12.2025",9,2512.2800000000002,192.55,0,2534.0500000000002]
["16.12.2025",10,2539.14,214.21,0,2560.91]
["16.12.2025",11,2530.11,192.44,0,2551.88]
["16.12.2025",12,2474.4499999999998,251.72,0,2496.2199999999998]
["16.12.2025",13,2483.67,257.14,0,2505.44]
["16.12.2025",14,2469.4499999999998,212.84,0,2491.2199999999998]
["16.12.2025",15,2430.52,345.99,0,2452.29]
["16.12.2025",16,2451.58,349.07,0,2473.35]
["16.12.2025",17,2435.11,253.45,0,2456.88]
["16.12.2025",18,2435.21,205.05,0,2456.98]
["16.12.2025",19,2405.08,220.42,0,2426.85]
["16.12.2025",20,2178.59,0,86.93,2200.36]
["16.12.2025",21,2158.09,0,197.98,2179.86]
["16.12.2025",22,2019.46,0,349.23,2041.23]
["16.12.2025",23,1710.52,0,48.79,1732.29]
["17.12.2025",0,1704.33,1.85,0.01,1726.1]
["17.12.2025",1,1565.13,22.61,0,1586.9]
["17.12.2025",2,1514.06,39.46,0,1535.83]
["17.12.2025",3,1501.94,86.4,0,1523.71]
["17.12.2025",4,1563.03,107.8,0,1584.8]
["17.12.2025",5,1788.65,57.63,43.37,1810.42]
["17.12.2025",6,1738.98,117.22,0.04,1760.75]
["17.12.2025",7,2161.84,232.27,0,2183.61]
["17.12.2025",8,2376.69,42.9,9.69,2398.46]
["17.12.2025",9,2451.36,84.56,0,2473.13]
["17.12.2025",10,2474.06,78.16,0,2495.83]
["17.12.2025",11,2479.14,70.010000000000005,0,2500.91]
["17.12.2025",12,2468.54,90.15,0,2490.31]
["17.12.2025",13,2472.83,78.28,0,2494.6]
["17.12.2025",14,2454.5100000000002,30.62,0,2476.2800000000002]
["17.12.2025",15,2438.44,57.44,0,2460.21]
["17.12.2025",16,2449.4499999999998,89.51,0,2471.2199999999998]
["17.12.2025",17,2451.59,89.94,0,2473.36]
["17.12.2025",18,2457.69,53.6,0,2479.46]
["17.12.2025",19,2443.65,21.27,0,2465.42]
["17.12.2025",20,2336.2399999999998,0.77,43.06,2358.0100000000002]
["17.12.2025",21,2172.44,0,160.28,2194.21]
["17.12.2025",22,2126.83,0,196.58,2148.6]
["17.12.2025",23,1759.86,0,1209.33,1781.63]
["18.12.2025",0,1813.45,3.3,0.15,1835.22]
["18.12.2025",1,1663.19,15.93,0,1684.96]
["18.12.2025",2,1638.59,37.47,0,1660.36]
["18.12.2025",3,1599.26,68.95,0,1621.03]
["18.12.2025",4,1662.67,119.12,0,1684.44]
["18.12.2025",5,1856.86,130.9,0,1878.63]
["18.12.2025",6,1985.67,126.63,0.2,2007.44]
["18.12.2025",7,2196.9899999999998,310.18,0,2218.7600000000002]
["18.12.2025",8,2418.5300000000002,187.35,0,2440.3000000000002]
["18.12.2025",9,2509.31,446.6,0,2531.08]
["18.12.2025",10,2531.5,490.27,0,2553.27]
["18.12.2025",11,2530.58,110.47,0,2552.35]
["18.12.2025",12,2501.39,80.900000000000006,0,2523.16]
["18.12.2025",13,2520.11,102.16,0,2541.88]
["18.12.2025",14,2475.4,106.14,0,2497.17]
["18.12.2025",15,2461.64,37.78,259.95999999999998,2483.41]
["18.12.2025",16,2474.73,44.44,553.28,2496.5]
["18.12.2025",17,2457.08,29.96,314.13,2478.85]
["18.12.2025",18,2456.81,76.760000000000005,0,2478.58]
["18.12.2025",19,2458.65,10.71,37.130000000000003,2480.42]
["18.12.2025",20,2360.66,2.35,3.09,2382.4299999999998]
["18.12.2025",21,2198.27,0,265.27,2220.04]
["18.12.2025",22,2011.59,0,243.85,2033.36]
["18.12.2025",23,1769.93,0.15,127.73,1791.7]
["19.12.2025",0,1820.89,0,10.199999999999999,1842.66]
["19.12.2025",1,1650.3,29.08,0,1672.07]
["19.12.2025",2,1592.19,76.42,0,1613.96]
["19.12.2025",3,1538.24,129.96,0,1560.01]
["19.12.2025",4,1655.39,134.61000000000001,0,1677.16]
["19.12.2025",5,1844.38,209.82,0,1866.15]
["19.12.2025",6,2012.13,168,0.05,2033.9]
["19.12.2025",7,2242.38,273.5,0,2264.15]
["19.12.2025",8,2544.73,186.53,0,2566.5]
["19.12.2025",9,2621.39,118.81,0,2643.16]
["19.12.2025",10,2657.7,86.75,0,2679.47]
["19.12.2025",11,2656.1,39.729999999999997,0,2677.87]
["19.12.2025",12,2643.37,86.26,0,2665.14]
["19.12.2025",13,2646.74,78.62,0,2668.51]
["19.12.2025",14,2542.4,172.21,0,2564.17]
["19.12.2025",15,2440.73,251.72,0,2462.5]
["19.12.2025",16,2461.6799999999998,113.13,0,2483.4499999999998]
["19.12.2025",17,2457.89,48.26,0,2479.66]
["19.12.2025",18,2455.15,36.04,23.81,2476.92]
["19.12.2025",19,2584.06,0,140.57,2605.83]
["19.12.2025",20,2482.4899999999998,0,21.23,2504.2600000000002]
["19.12.2025",21,2381.0100000000002,0,104.59,2402.7800000000002]
["19.12.2025",22,2210.41,0,46.43,2232.1799999999998]
["19.12.2025",23,2045.36,0,276.02,2067.13]
["20.12.2025",0,1930.52,0,156.53,1952.29]
["20.12.2025",1,1756.88,0,33.21,1778.65]
["20.12.2025",2,1661.84,6.32,0,1683.61]
["20.12.2025",3,1620.31,46.51,0,1642.08]
["20.12.2025",4,1646.58,43.11,0,1668.35]
["20.12.2025",5,1703.56,200.95,0,1725.33]
["20.12.2025",6,1816.61,188.94,0,1838.38]
["20.12.2025",7,2043.13,57,0,2064.9]
["20.12.2025",8,2188.19,256.06,0,2209.96]
["20.12.2025",9,2289.9899999999998,277.33,0,2311.7600000000002]
["20.12.2025",10,2399.2600000000002,267.27999999999997,0,2421.0300000000002]
["20.12.2025",11,2467.25,248.89,0,2489.02]
["20.12.2025",12,2429.4499999999998,282.13,0,2451.2199999999998]
["20.12.2025",13,2408.81,343.6,0,2430.58]
["20.12.2025",14,2347.13,403.71,0,2368.9]
["20.12.2025",15,2320.5500000000002,442.63,0,2342.3200000000002]
["20.12.2025",16,2346.54,3326.27,0,2368.31]
["20.12.2025",17,2359.6999999999998,519.11,0,2381.4699999999998]
["20.12.2025",18,2356.77,504.69,0,2378.54]
["20.12.2025",19,2394.7800000000002,343.12,0,2416.5500000000002]
["20.12.2025",20,2319.96,214.81,0,2341.73]
["20.12.2025",21,2246.89,0,54.21,2268.66]
["20.12.2025",22,2182.35,10.8,1.18,2204.12]
["20.12.2025",23,1924.77,1.61,0.64,1946.54]
["21.12.2025",0,1888.24,0,10.55,1910.01]
["21.12.2025",1,1664.92,54.22,0,1686.69]
["21.12.2025",2,1625.38,44.31,0,1647.15]
["21.12.2025",3,1545.54,107.16,0,1567.31]
["21.12.2025",4,1559.54,118.73,0,1581.31]
["21.12.2025",5,1648.49,211.94,0,1670.26]
["21.12.2025",6,1670.67,255.71,0,1692.44]
["21.12.2025",7,1866.11,255.74,0,1887.88]
["21.12.2025",8,2057.5100000000002,98.78,0,2079.2800000000002]
["21.12.2025",9,2193.83,99.5,0,2215.6]
["21.12.2025",10,2239.17,170.47,0,2260.94]
["21.12.2025",11,2270.1999999999998,243.82,0,2291.9699999999998]
["21.12.2025",12,2272.5100000000002,284.24,0,2294.2800000000002]
["21.12.2025",13,2278.35,293.76,0,2300.12]
["21.12.2025",14,2260.2199999999998,409.94,0,2281.9899999999998]
["21.12.2025",15,2255.83,432.16,0,2277.6]
["21.12.2025",16,2314.09,565.09,0,2335.86]
["21.12.2025",17,2356.67,401.02,0,2378.44]
["21.12.2025",18,2351.6799999999998,331,0,2373.4499999999998]
["21.12.2025",19,2386.67,142.34,0,2408.44]
["21.12.2025",20,2290.0100000000002,0,12.31,2311.7800000000002]
["21.12.2025",21,2235.33,0,204.91,2257.1]
["21.12.2025",22,2101.63,0,134.46,2123.4]
["21.12.2025",23,1878.52,0,83.07,1900.29]
["22.12.2025",0,1675.52,13.87,0,1697.29]
["22.12.2025",1,1551.3,0,18.87,1573.07]
["22.12.2025",2,1527.77,0,7.38,1549.54]
["22.12.2025",3,1515.38,0,38.119999999999997,1537.15]
["22.12.2025",4,1533.95,141.97,0,1555.72]
["22.12.2025",5,1695.08,212.65,0,1716.85]
["22.12.2025",6,1898.3,236.43,0,1920.07]
["22.12.2025",7,2178.37,62.83,0,2200.14]
["22.12.2025",8,2263.12,45.37,0,2284.89]
["22.12.2025",9,2372.54,44.88,0.55000000000000004,2394.31]
["22.12.2025",10,2364.98,142.91,0.61,2386.75]
["22.12.2025",11,2342.12,55.53,0,2363.89]
["22.12.2025",12,2316.0100000000002,86.39,0.76,2337.7800000000002]
["22.12.2025",13,2329.66,94.12,0.91,2351.4299999999998]
["22.12.2025",14,2290.04,0,43.03,2311.81]
["22.12.2025",15,2278.4499999999998,33.24,5.7,2300.2199999999998]
["22.12.2025",16,2276.2199999999998,48.88,0,2297.9899999999998]
["22.12.2025",17,2282.67,31.25,4.0199999999999996,2304.44]
["22.12.2025",18,2270.3000000000002,0.02,46.72,2292.0700000000002]
["22.12.2025",19,2194.86,44.48,37.869999999999997,2216.63]
["22.12.2025",20,2084.13,12.97,69.239999999999995,2105.9]
["22.12.2025",21,1852.84,27.89,62.35,1874.61]
["22.12.2025",22,1888.14,0,360.18,1909.91]
["22.12.2025",23,1469.89,78.47,26.95,1491.66]
["23.12.2025",0,1654.01,0,21.58,1675.78]
["23.12.2025",1,1492.45,0,44.43,1514.22]
["23.12.2025",2,1472.81,0,24.08,1494.58]
["23.12.2025",3,1392.78,62.49,0.3,1414.55]
["23.12.2025",4,1182.9000000000001,471.54,1.01,1204.67]
["23.12.2025",5,1070.5999999999999,904.66,17.420000000000002,1092.3699999999999]
["23.12.2025",6,1145.04,880.29,20,1166.81]
["23.12.2025",7,2191.66,175.81,0,2213.4299999999998]
["23.12.2025",8,2290.5300000000002,225.8,0,2312.3000000000002]
["23.12.2025",9,2364.56,226.57,0,2386.33]
["23.12.2025",10,2398.62,174.41,0.71,2420.39]
["23.12.2025",11,2396.88,112.39,1.91,2418.65]
["23.12.2025",12,2366.75,96.56,1.59,2388.52]
["23.12.2025",13,2383.31,58.68,6.56,2405.08]
["23.12.2025",14,2350.27,71.430000000000007,1.86,2372.04]
["23.12.2025",15,2331.3000000000002,73.819999999999993,1.05,2353.0700000000002]
["23.12.2025",16,2360.71,203.94,0,2382.48]
["23.12.2025",17,2366.88,52.03,2.4300000000000002,2388.65]
["23.12.2025",18,2355.9299999999998,41.86,5.93,2377.6999999999998]
["23.12.2025",19,2365.9499999999998,48.88,7.36,2387.7199999999998]
["23.12.2025",20,2280.63,0,260.83999999999997,2302.4]
["23.12.2025",21,2065.39,3.6,74.44,2087.16]
["23.12.2025",22,1921.42,9.44,53.98,1943.19]
["23.12.2025",23,1158.8499999999999,403.58,43.57,1180.6199999999999]
["24.12.2025",0,996.75,0,740.42,1018.52]
["24.12.2025",1,867.71,687.84,5.67,889.48]
["24.12.2025",2,850.07,671.55,26.12,871.84]
["24.12.2025",3,840.74,667.77,26.59,862.51]
["24.12.2025",4,878.7,858.53,15.97,900.47]
["24.12.2025",5,1057.68,912.23,15.21,1079.45]
["24.12.2025",6,1105.21,954.58,20.100000000000001,1126.98]
["24.12.2025",7,2254.6799999999998,284.72000000000003,0,2276.4499999999998]
["24.12.2025",8,2400.83,124.89,0,2422.6]
["24.12.2025",9,2485.0500000000002,324.83999999999997,0,2506.8200000000002]
["24.12.2025",10,2517.37,273.43,0,2539.14]
["24.12.2025",11,2517.62,299.02999999999997,0,2539.39]
["24.12.2025",12,2491.19,283.19,0,2512.96]
["24.12.2025",13,2501.54,274.97000000000003,0,2523.31]
["24.12.2025",14,2459.1999999999998,269.7,0,2480.9699999999998]
["24.12.2025",15,2439.19,243.37,0,2460.96]
["24.12.2025",16,2452.96,252.35,0,2474.73]
["24.12.2025",17,2451.19,226.44,0,2472.96]
["24.12.2025",18,2448.19,188.02,0,2469.96]
["24.12.2025",19,2453.77,85.69,2.09,2475.54]
["24.12.2025",20,2338.94,1.92,20.329999999999998,2360.71]
["24.12.2025",21,2265.31,0,346.64,2287.08]
["24.12.2025",22,2002.19,0,157.99,2023.96]
["24.12.2025",23,1189.69,408.97,52.48,1211.46]
["25.12.2025",0,1666.18,0,158.38999999999999,1687.95]
["25.12.2025",1,1509.04,0,112.8,1530.81]
["25.12.2025",2,1461.92,0,102.2,1483.69]
["25.12.2025",3,1418.68,0,34.28,1440.45]
["25.12.2025",4,1476.07,122.34,0,1497.84]
["25.12.2025",5,1678.26,218.48,0,1700.03]
["25.12.2025",6,1857.65,448.61,0,1879.42]
["25.12.2025",7,2234.9,195.64,0,2256.67]
["25.12.2025",8,2332.02,243.65,0,2353.79]
["25.12.2025",9,2433.09,289.14,0,2454.86]
["25.12.2025",10,2461.79,233.52,0,2483.56]
["25.12.2025",11,2442.9499999999998,257.64,0,2464.7199999999998]
["25.12.2025",12,2418.16,197.45,0,2439.9299999999998]
["25.12.2025",13,2433.11,190.23,0.01,2454.88]
["25.12.2025",14,2370.84,408.84,0,2392.61]
["25.12.2025",15,2359.19,424.47,0,2380.96]
["25.12.2025",16,2394.39,184.23,0.23,2416.16]
["25.12.2025",17,2370.89,279.05,0,2392.66]
["25.12.2025",18,2362.89,183.71,0,2384.66]
["25.12.2025",19,2364.17,109.25,0,2385.94]
["25.12.2025",20,2329.4,7.98,0.32,2351.17]
["25.12.2025",21,2298.6999999999998,0,56.22,2320.4699999999998]
["25.12.2025",22,2036.53,0,30.43,2058.3000000000002]
["25.12.2025",23,1785.74,0,147.44999999999999,1807.51]
["26.12.2025",0,1706.12,0,202.04,1727.89]
["26.12.2025",1,1596.56,8.85,3.49,1618.33]
["26.12.2025",2,1570.82,32.65,0,1592.59]
["26.12.2025",3,1533.91,48.76,0,1555.68]
["26.12.2025",4,1567.15,83.19,0,1588.92]
["26.12.2025",5,1759.81,221.37,0,1781.58]
["26.12.2025",6,1927.48,261.92,0,1949.25]
["26.12.2025",7,2285.75,100.86,6.59,2307.52]
["26.12.2025",8,2358.54,194.11,0.54,2380.31]
["26.12.2025",9,2463.4699999999998,71.27,20.36,2485.2399999999998]
["26.12.2025",10,2502.67,0,74.94,2524.44]
["26.12.2025",11,2499.4,0,77.53,2521.17]
["26.12.2025",12,2463.6999999999998,0,93.51,2485.4699999999998]
["26.12.2025",13,2472.6999999999998,0,97.02,2494.4699999999998]
["26.12.2025",14,2399.61,0,93.85,2421.38]
["26.12.2025",15,2386.11,0,83.47,2407.88]
["26.12.2025",16,2407.02,0,100.88,2428.79]
["26.12.2025",17,2398.9299999999998,0,93.79,2420.6999999999998]
["26.12.2025",18,2386.98,0,89.02,2408.75]
["26.12.2025",19,2401.0700000000002,0,102.31,2422.84]
["26.12.2025",20,2341.11,0,337.94,2362.88]
["26.12.2025",21,2322.64,0,670.52,2344.41]
["26.12.2025",22,2268.65,0,768.38,2290.42]
["26.12.2025",23,1922.68,0,470.97,1944.45]
["27.12.2025",0,1782.59,0,42.51,1804.36]
["27.12.2025",1,1619.87,0,20.51,1641.64]
["27.12.2025",2,1556.48,19.559999999999999,0,1578.25]
["27.12.2025",3,1521.73,13.87,0,1543.5]
["27.12.2025",4,1581.47,111.48,0,1603.24]
["27.12.2025",5,1723.62,203.84,0,1745.39]
["27.12.2025",6,1804.93,250.34,0,1826.7]
["27.12.2025",7,2069.2600000000002,284.06,0,2091.0300000000002]
["27.12.2025",8,2357.5700000000002,121.6,0,2379.34]
["27.12.2025",9,2389.69,170.96,0,2411.46]
["27.12.2025",10,2454.35,182.84,0,2476.12]
["27.12.2025",11,2477.48,130.61000000000001,0,2499.25]
["27.12.2025",12,2479.33,122.82,0,2501.1]
["27.12.2025",13,2485.4299999999998,392.69,0,2507.1999999999998]
["27.12.2025",14,2439.63,408.1,0,2461.4]
["27.12.2025",15,2431.1799999999998,423.8,0,2452.9499999999998]
["27.12.2025",16,2495.5700000000002,441.71,0,2517.34]
["27.12.2025",17,2518.52,372.07,0,2540.29]
["27.12.2025",18,2496.2399999999998,403.01,0,2518.0100000000002]
["27.12.2025",19,2515.36,334.06,0,2537.13]
["27.12.2025",20,2432.8200000000002,223.09,0,2454.59]
["27.12.2025",21,2367.96,378.78,0,2389.73]
["27.12.2025",22,2119.6999999999998,258.76,0,2141.4699999999998]
["27.12.2025",23,1872.24,208.39,0,1894.01]
["28.12.2025",0,1828.76,232.46,0,1850.53]
["28.12.2025",1,1676.75,190.48,0,1698.52]
["28.12.2025",2,1559.93,258.19,0,1581.7]
["28.12.2025",3,1519.36,184.78,0,1541.13]
["28.12.2025",4,1524.33,113.06,0,1546.1]
["28.12.2025",5,1596.1,240.9,0,1617.87]
["28.12.2025",6,1653.53,264.49,0,1675.3]
["28.12.2025",7,1854.73,516.63,0,1876.5]
["28.12.2025",8,2203.09,452.71,0,2224.86]
["28.12.2025",9,2365.33,376.53,0,2387.1]
["28.12.2025",10,2369.38,385.5,0,2391.15]
["28.12.2025",11,2380.31,427.55,0,2402.08]
["28.12.2025",12,2381.87,413.99,0,2403.64]
["28.12.2025",13,2388.13,362.34,0,2409.9]
["28.12.2025",14,2370.62,345.91,0,2392.39]
["28.12.2025",15,2371.63,325.04000000000002,0,2393.4]
["28.12.2025",16,2405.25,345.91,0,2427.02]
["28.12.2025",17,2437.02,262.57,0,2458.79]
["28.12.2025",18,2425.4,309.83,0,2447.17]
["28.12.2025",19,2449.34,121.1,0.11,2471.11]
["28.12.2025",20,2401.1,115.63,0.06,2422.87]
["28.12.2025",21,2363.7199999999998,0,152.86000000000001,2385.4899999999998]
["28.12.2025",22,2107.39,5.38,43.51,2129.16]
["28.12.2025",23,1827.1,3.77,52.72,1848.87]
["29.12.2025",0,1747.41,19.23,0,1769.18]
["29.12.2025",1,1536.45,0,34.450000000000003,1558.22]
["29.12.2025",2,1482.18,12.89,0,1503.95]
["29.12.2025",3,1447.95,2.4500000000000002,6.79,1469.72]
["29.12.2025",4,1514.29,93.44,0,1536.06]
["29.12.2025",5,1745.95,251.93,0,1767.72]
["29.12.2025",6,1954.7,352.54,0,1976.47]
["29.12.2025",7,2293,294.51,0,2314.77]
["29.12.2025",8,2409.11,236.48,0,2430.88]
["29.12.2025",9,2426.9899999999998,109.98,0,2448.7600000000002]
["29.12.2025",10,2438.33,35.520000000000003,0,2460.1]
["29.12.2025",11,2468.29,0,17.510000000000002,2490.06]
["29.12.2025",12,2435.41,0,45.28,2457.1799999999998]
["29.12.2025",13,2448.5100000000002,0,72.349999999999994,2470.2800000000002]
["29.12.2025",14,2387.41,0,47.92,2409.1799999999998]
["29.12.2025",15,2362.5,0,99.31,2384.27]
["29.12.2025",16,2395.34,0,95.43,2417.11]
["29.12.2025",17,2442.88,0,210.04,2464.65]
["29.12.2025",18,2439.2800000000002,0,156.33000000000001,2461.0500000000002]
["29.12.2025",19,2394.79,0,62.34,2416.56]
["29.12.2025",20,2336.4,0,394.16,2358.17]
["29.12.2025",21,2300.77,0,714.05,2322.54]
["29.12.2025",22,2008.09,0,509.29,2029.86]
["29.12.2025",23,1683.54,0,175.54,1705.31]
["30.12.2025",0,1558.05,7.76,4.45,1579.82]
["30.12.2025",1,1406.49,68.52,0,1428.26]
["30.12.2025",2,1397.8,12.68,1.82,1419.57]
["30.12.2025",3,1380.31,49.64,0,1402.08]
["30.12.2025",4,1405.16,137.85,0,1426.93]
["30.12.2025",5,1566.14,314.37,0,1587.91]
["30.12.2025",6,1838.96,203.72,0,1860.73]
["30.12.2025",7,2055.42,235.81,0,2077.19]
["30.12.2025",8,2288.4,68.33,0,2310.17]
["30.12.2025",9,2302.11,18.940000000000001,8.86,2323.88]
["30.12.2025",10,2447.08,0,162.07,2468.85]
["30.12.2025",11,2469.84,0,315.61,2491.61]
["30.12.2025",12,2352.65,0,127.42,2374.42]
["30.12.2025",13,2347.98,0,227.77,2369.75]
["30.12.2025",14,2286.8000000000002,0,212.85,2308.5700000000002]
["30.12.2025",15,2280.06,0,184.56,2301.83]
["30.12.2025",16,2291.44,0,173.67,2313.21]
["30.12.2025",17,2300.34,0,269.29000000000002,2322.11]
["30.12.2025",18,2297.2199999999998,0,288.91000000000003,2318.9899999999998]
["30.12.2025",19,2293.7600000000002,0,448.17,2315.5300000000002]
["30.12.2025",20,2287.12,0,484.82,2308.89]
["30.12.2025",21,2259.88,0,683.04,2281.65]
["30.12.2025",22,2165.4899999999998,0,667.59,2187.2600000000002]
["30.12.2025",23,1883.49,0,429.93,1905.26]
["31.12.2025",0,1652.42,45.86,0,1674.19]
["31.12.2025",1,1459.21,36.47,0,1480.98]
["31.12.2025",2,1406.73,18.02,0,1428.5]
["31.12.2025",3,1357.3,50.27,0,1379.07]
["31.12.2025",4,1366.31,71.95,0,1388.08]
["31.12.2025",5,1458.4,151.69,0,1480.17]
["31.12.2025",6,1457.83,201.6,0,1479.6]
["31.12.2025",7,1694.56,190.04,0,1716.33]
["31.12.2025",8,1913.98,331.41,0,1935.75]
["31.12.2025",9,2036.11,198.96,0,2057.88]
["31.12.2025",10,2151.54,132.34,0,2173.31]
["31.12.2025",11,2205.1,92.89,0,2226.87]
["31.12.2025",12,2212.39,73.91,0,2234.16]
["31.12.2025",13,2215.19,52.83,0,2236.96]
["31.12.2025",14,2183.64,65.81,0,2205.41]
["31.12.2025",15,2185.66,28.7,0,2207.4299999999998]
["31.12.2025",16,2241.71,88.42,0,2263.48]
["31.12.2025",17,2291.61,179.55,0,2313.38]
["31.12.2025",18,2280.86,180.71,0,2302.63]
["31.12.2025",19,2281.75,2.1,3.28,2303.52]
["31.12.2025",20,2231.36,0,396.92,2253.13]
["31.12.2025",21,2172.8000000000002,0,593.92999999999995,2194.5700000000002]
["31.12.2025",22,1969.13,0,504.8,1990.9]
["31.12.2025",23,1734.97,0,630.82000000000005,1756.74]
[]
[]
[]
["В случае если результатом расчета составляющей предельных уровней нерегулируемых цен (кроме приходящейся на единицу электрической энергии величины разницы предварительных требований и обязательств по результатам конкурентного отбора ценовых заявок на сутки вперед и приходящейся на единицу электрической энергии величины разницы предварительных требований и обязательств по результатам конкурентного отбора заявок для балансирования системы) и иных подлежащих публикации величин в соответствии с подпунктами 1 и 3.3 п. 10.8 Регламента Финансовых расчетов на оптовом рынке э/э является отрицательная величина, то КО публикует вместо отрицательной величины 0"]
[]
["В случае если результатом расчета составляющей предельных уровней нерегулируемых цен и иных, подлежащих публикации величин в соответствии с подпунктами 1 и 3.3 п. 10.8 Регламента Финансовых расчетов на оптовом рынке э/э является неопределенность, то КО публикует вместо неопределенности 0"]

{"sheet":"Часы пик","index":6,"n_rows":31,"n_cols":2,"rows_kept":31,"cut":false,"hidden":false,"merged":[[0,0,0,1]]}
["Ежемесячный отчет по часам пиковой нагрузки для субъектов Российской Федерации"]
[]
["Участник:","АО \"Росатом Энергосбыт\""]
["Субъект РФ:","Тверская область"]
["Отчетный период:",{"$f":"мощность!H1","v":"2026-01-01"}]
["Код(ы) ГТП:","PTVERENE"]
[]
["Дата","Час максимального совокупного потребления электроэнергии в субъекте Российской Федерации"]
[1,2]
["01.12.2025",18]
["02.12.2025",18]
["03.12.2025",18]
["04.12.2025",18]
["05.12.2025",18]
["08.12.2025",17]
["09.12.2025",17]
["10.12.2025",18]
["11.12.2025",17]
["12.12.2025",18]
["15.12.2025",18]
["16.12.2025",18]
["17.12.2025",18]
["18.12.2025",10]
["19.12.2025",18]
["22.12.2025",17]
["23.12.2025",18]
["24.12.2025",10]
["25.12.2025",18]
["26.12.2025",18]
["29.12.2025",18]
["30.12.2025",18]